PDS_VERSION_ID = PDS3
/* FILE DATA ELEMENTS */
RECORD_TYPE = STREAM
/* POINTERS TO DATA OBJECTS */
^COMPRESSED_FILE = "H6514_0000_S13.JP2"
/* IDENTIFICATION DATA ELEMENTS */
DATA_SET_ID = "MEX-M-HRSC-5-REFDR-MAPPROJECTED-V3.0"
DATA_SET_NAME = "MARS EXPRESS HRSC MAP PROJECTED REFDR V3.0"
DETECTOR_ID = MEX_HRSC_S1
EVENT_TYPE = "MARS-REGIONAL-MAPPING-Im-Fl"
INSTRUMENT_HOST_ID = MEX
INSTRUMENT_HOST_NAME = "MARS EXPRESS"
INSTRUMENT_ID = HRSC
INSTRUMENT_NAME = "HIGH RESOLUTION STEREO CAMERA"
MISSION_NAME = "MARS EXPRESS"
MISSION_PHASE_NAME = ME_Phase_15
PROCESSING_LEVEL_ID = 3
PRODUCT_CREATION_TIME = 2016-06-29T00:46:52.000Z
PRODUCT_ID = "H6514_0000_S13.JP2"
RELEASE_ID = 0073
REVISION_ID = 0000
/* QUALITY DATA ELEMENTS */
DATA_QUALITY_ID = 1
DATA_QUALITY_DESC = "Data calculated based on original SPICE kernels"
/* TIME DATA ELEMENTS */
SPACECRAFT_CLOCK_START_COUNT = "1/0181212068.08219"
SPACECRAFT_CLOCK_STOP_COUNT = "1/0181212315.00871"
START_TIME = 2009-01-28T08:42:04.698Z
STOP_TIME = 2009-01-28T08:45:15.414Z
/* ORBITAL DATA ELEMENTS */
ASCENDING_NODE_LONGITUDE = 93.6
MAXIMUM_RESOLUTION = 25.7
FOOTPRINT_POINT_LATITUDE = (-66.6398,-66.6148,-66.5977,-66.567, -66.5414,-66.5235,-66.2512,-66.0161, -65.6637,-65.4288,-65.0667,-64.8248, -64.581,-64.3383,-64.0938,-63.8507, -63.6087,-63.2452,-63.0026,-62.7591, -62.3964,-62.1534,-61.9124,-61.5468, -61.1866,-60.9444,-60.7054,-60.3472, -60.1074,-59.7374,-59.4897,-59.2434, -58.8744,-58.6277,-58.3802,-58.1334, -57.8874,-57.6414,-57.272,-57.0196, -56.7658,-56.5121,-56.2586,-55.8787, -55.4995,-55.1208,-54.8633,-54.4765, -54.3404,-54.3508,-54.3679,-54.379, -54.3907,-54.4083,-54.6671,-54.925, -55.1814,-55.4328,-55.6868,-55.9398, -56.1909,-56.5725,-56.8271,-57.0821, -57.336,-57.584,-57.9558,-58.2038, -58.4532,-58.7007,-58.9489,-59.1973, -59.4461,-59.8186,-60.1893,-60.4304, -60.6716,-60.9128,-61.1538,-61.3948, -61.7563,-61.9951,-62.238,-62.6046, -62.8491,-63.0926,-63.3355,-63.579, -63.9469,-64.1925,-64.4368,-64.6813, -64.9258,-65.1707,-65.4156,-65.6511, -65.8875,-66.1233,-66.3608,-66.6398)
FOOTPRINT_POINT_LONGITUDE = (271.884,271.27,270.877,270.216,269.703 ,269.361,269.382,269.461,269.576, 269.651,269.764,269.835,269.907,269.976 ,270.046,270.112,270.176,270.27,270.331 ,270.392,270.478,270.536,270.59,270.673 ,270.749,270.8,270.848,270.917,270.963, 271.033,271.078,271.121,271.183,271.224 ,271.265,271.305,271.343,271.381, 271.437,271.474,271.51,271.546,271.58, 271.631,271.68,271.727,271.758,271.801, 271.935,272.192,272.626,272.943,273.3, 273.863,273.837,273.81,273.783,273.756, 273.73,273.703,273.675,273.633,273.605, 273.576,273.547,273.518,273.474,273.443 ,273.413,273.381,273.348,273.315, 273.281,273.229,273.176,273.141,273.105 ,273.068,273.031,272.992,272.933, 272.891,272.851,272.789,272.747,272.703 ,272.658,272.612,272.543,272.495, 272.446,272.396,272.345,272.292,272.239 ,272.185,272.131,272.076,272.02, 271.884)
ORBIT_NUMBER = 6514
ORBITAL_ECCENTRICITY = 0.576
ORBITAL_INCLINATION = 86.76
ORBITAL_SEMIMAJOR_AXIS = 8691.01
PERIAPSIS_ALTITUDE = 305.26
PERIAPSIS_ARGUMENT_ANGLE = 293.42
PERIAPSIS_TIME = 2009-01-28T08:41:43.000Z
SPACECRAFT_ORIENTATION = (0.0,1.0,0.0)
^MEX_ORIENTATION_DESC = "MEX_ORIENTATION_DESC.TXT"
SPACECRAFT_POINTING_MODE = NADIR
^MEX_POINTING_DESC = "MEX_POINTING_DESC.TXT"
RIGHT_ASCENSION = -1e+32
DECLINATION = -1e+32
OFFSET_ANGLE = -1e+32
SPACECRAFT_SOLAR_DISTANCE = 2.13549e+08
TARGET_NAME = MARS
/* CAMERA DATA ELEMENTS */
DETECTOR_TEMPERATURE = 17.351
FOCAL_PLANE_TEMPERATURE = 7.9716
INST_CMPRS_NAME = "DISCRETE COSINE TRANSFORMATION (DCT)"
INST_CMPRS_RATIO = 8.7234
INST_CMPRS_QUALITY = 0
INST_CMPRS_QUANTZ_TBL_ID = 0
INSTRUMENT_TEMPERATURE = 11.234
LENS_TEMPERATURE = 9.195
MACROPIXEL_SIZE = 2
MISSING_FRAMES = 0
PIXEL_SUBSAMPLING_FLAG = N
SIGNAL_CHAIN_ID = 1
/* RADIOMETRIC DATA ELEMENTS */
BANDWIDTH = 180.0
CENTER_FILTER_WAVELENGTH = 677.0
RADIANCE_OFFSET = 4.94799
RADIANCE_SCALING_FACTOR = 0.0351118
REFLECTANCE_SCALING_FACTOR = 0.000835389
MEX:REFLECTANCE_OFFSET = 0.117724
/* IMAGE OBJECT DEFINITIONS */
OBJECT = IMAGE
  INTERCHANGE_FORMAT = BINARY
  LINES = 29380
  LINE_SAMPLES = 5121
  SAMPLE_TYPE = UNSIGNED_INTEGER
  SAMPLE_BITS = 8
  BANDS = 1
  BAND_STORAGE_TYPE = BAND_SEQUENTIAL
  MAXIMUM = 255
  MEAN = 112.38
  MINIMUM = 1
  STANDARD_DEVIATION = 87.2129
END_OBJECT = IMAGE
/* MAP OBJECT DEFINITIONS */
OBJECT = IMAGE_MAP_PROJECTION
  ^DATA_SET_MAP_PROJECTION_CATALOG= "DSMAP.CAT"
  A_AXIS_RADIUS = 3396.0
  B_AXIS_RADIUS = 3396.0
  C_AXIS_RADIUS = 3396.0
  CENTER_LATITUDE = 0.0
  CENTER_LONGITUDE = 272.0
  COORDINATE_SYSTEM_NAME = PLANETOGRAPHIC
  COORDINATE_SYSTEM_TYPE = "BODY-FIXED ROTATING"
  EASTERNMOST_LONGITUDE = 273.863
  FIRST_STANDARD_PARALLEL = "N/A"
  LINE_FIRST_PIXEL = 1
  LINE_LAST_PIXEL = 29380
  LINE_PROJECTION_OFFSET = -128862.75
  MAP_PROJECTION_ROTATION = 0.0
  MAP_PROJECTION_TYPE = SINUSOIDAL
  MAP_RESOLUTION = 2370.85521546667
  MAP_SCALE = 0.025
  MAXIMUM_LATITUDE = -54.3404
  MINIMUM_LATITUDE = -66.63979999999999
  POSITIVE_LONGITUDE_DIRECTION = EAST
  REFERENCE_LATITUDE = "N/A"
  REFERENCE_LONGITUDE = "N/A"
  SAMPLE_FIRST_PIXEL = 1
  SAMPLE_LAST_PIXEL = 5121
  SAMPLE_PROJECTION_OFFSET = 2585.25
  SECOND_STANDARD_PARALLEL = "N/A"
  WESTERNMOST_LONGITUDE = 269.361
END_OBJECT = IMAGE_MAP_PROJECTION
/* The JPEG2000 image data file associated with this label. */
OBJECT = COMPRESSED_FILE
  FILE_NAME = "H6514_0000_S13.JP2"
  RECORD_TYPE = UNDEFINED
  FILE_RECORDS = UNK
  ENCODING_TYPE = "JP2"
  INTERCHANGE_FORMAT = BINARY
  UNCOMPRESSED_FILE_NAME = "H6514_0000_S13.IMG"
  REQUIRED_STORAGE_BYTES = "150480585"
  ^DESCRIPTION = "JP2INFO.TXT"
END_OBJECT = COMPRESSED_FILE
END
