PDS_VERSION_ID = PDS3
/* FILE DATA ELEMENTS */
RECORD_TYPE = STREAM
/* POINTERS TO DATA OBJECTS */
^COMPRESSED_FILE = "H6515_0000_S23.JP2"
/* IDENTIFICATION DATA ELEMENTS */
DATA_SET_ID = "MEX-M-HRSC-5-REFDR-MAPPROJECTED-V3.0"
DATA_SET_NAME = "MARS EXPRESS HRSC MAP PROJECTED REFDR V3.0"
DETECTOR_ID = MEX_HRSC_S2
EVENT_TYPE = "MARS-REGIONAL-MAPPING-Im-Fl"
INSTRUMENT_HOST_ID = MEX
INSTRUMENT_HOST_NAME = "MARS EXPRESS"
INSTRUMENT_ID = HRSC
INSTRUMENT_NAME = "HIGH RESOLUTION STEREO CAMERA"
MISSION_NAME = "MARS EXPRESS"
MISSION_PHASE_NAME = ME_Phase_15
PROCESSING_LEVEL_ID = 3
PRODUCT_CREATION_TIME = 2016-06-29T00:46:52.000Z
PRODUCT_ID = "H6515_0000_S23.JP2"
RELEASE_ID = 0073
REVISION_ID = 0000
/* QUALITY DATA ELEMENTS */
DATA_QUALITY_ID = 1
DATA_QUALITY_DESC = "Data calculated based on original SPICE kernels"
/* TIME DATA ELEMENTS */
SPACECRAFT_CLOCK_START_COUNT = "1/0181237068.08232"
SPACECRAFT_CLOCK_STOP_COUNT = "1/0181237295.46149"
START_TIME = 2009-01-28T15:37:50.559Z
STOP_TIME = 2009-01-28T15:40:21.545Z
/* ORBITAL DATA ELEMENTS */
ASCENDING_NODE_LONGITUDE = 93.57
MAXIMUM_RESOLUTION = 27.2
FOOTPRINT_POINT_LATITUDE = (-54.8833,-54.8607,-54.8411,-54.7445, -54.2783,-54.0915,-53.9047,-53.7181, -53.5261,-53.3319,-53.1386,-52.8488, -52.6562,-52.4632,-52.2705,-52.0781, -51.8853,-51.6928,-51.5004,-51.3033, -51.1043,-50.8065,-50.6077,-50.4102, -50.2115,-50.013,-49.7156,-49.5169, -49.219,-49.0201,-48.7195,-48.5151, -48.3159,-48.1185,-47.9227,-47.723, -47.5244,-47.3258,-47.0278,-46.8288, -46.6303,-46.4321,-46.2227,-45.9861, -45.6332,-45.398,-45.1635,-44.9282, -44.6927,-44.6756,-44.6913,-44.7007, -44.8272,-45.0635,-45.3001,-45.537, -45.8923,-46.1287,-46.3619,-46.5601, -46.7589,-47.0569,-47.256,-47.4553, -47.6547,-47.9536,-48.153,-48.4531, -48.6532,-48.8529,-49.0527,-49.2518, -49.4517,-49.6517,-49.8469,-50.049, -50.247,-50.4459,-50.6454,-50.9444, -51.1387,-51.3404,-51.5422,-51.7341, -51.9265,-52.1195,-52.3126,-52.5059, -52.699,-52.8925,-53.0861,-53.2796, -53.4729,-53.6664,-53.8573,-54.0443, -54.2315,-54.4187,-54.606,-54.8833)
FOOTPRINT_POINT_LONGITUDE = (172.912,172.199,171.687,171.0,171.055, 171.076,171.096,171.117,171.138,171.158 ,171.178,171.208,171.227,171.246, 171.265,171.284,171.302,171.32,171.337, 171.355,171.372,171.398,171.415,171.432 ,171.448,171.464,171.487,171.502, 171.524,171.539,171.559,171.57,171.583, 171.597,171.611,171.623,171.635,171.647 ,171.665,171.676,171.687,171.698, 171.709,171.722,171.74,171.752,171.764, 171.776,171.786,172.167,172.726,173.252 ,173.65,173.639,173.627,173.614,173.595 ,173.583,173.57,173.56,173.548,173.531, 173.52,173.508,173.496,173.478,173.465, 173.446,173.433,173.42,173.407,173.394, 173.381,173.367,173.355,173.34,173.327, 173.313,173.299,173.277,173.266,173.249 ,173.232,173.218,173.204,173.189, 173.173,173.158,173.142,173.126,173.109 ,173.093,173.076,173.059,173.042, 173.025,173.008,172.99,172.973,172.912)
ORBIT_NUMBER = 6515
ORBITAL_ECCENTRICITY = 0.576
ORBITAL_INCLINATION = 86.76
ORBITAL_SEMIMAJOR_AXIS = 8691.24
PERIAPSIS_ALTITUDE = 305.93
PERIAPSIS_ARGUMENT_ANGLE = 293.25
PERIAPSIS_TIME = 2009-01-28T15:35:21.000Z
SPACECRAFT_ORIENTATION = (0.0,1.0,0.0)
^MEX_ORIENTATION_DESC = "MEX_ORIENTATION_DESC.TXT"
SPACECRAFT_POINTING_MODE = NADIR
^MEX_POINTING_DESC = "MEX_POINTING_DESC.TXT"
RIGHT_ASCENSION = -1e+32
DECLINATION = -1e+32
OFFSET_ANGLE = -1e+32
SPACECRAFT_SOLAR_DISTANCE = 2.13505e+08
TARGET_NAME = MARS
/* CAMERA DATA ELEMENTS */
DETECTOR_TEMPERATURE = 18.5744
FOCAL_PLANE_TEMPERATURE = 8.5833
INST_CMPRS_NAME = "DISCRETE COSINE TRANSFORMATION (DCT)"
INST_CMPRS_RATIO = 12.0202
INST_CMPRS_QUALITY = 0
INST_CMPRS_QUANTZ_TBL_ID = 0
INSTRUMENT_TEMPERATURE = 11.234
LENS_TEMPERATURE = 8.7872
MACROPIXEL_SIZE = 2
MISSING_FRAMES = 0
PIXEL_SUBSAMPLING_FLAG = N
SIGNAL_CHAIN_ID = 1
/* RADIOMETRIC DATA ELEMENTS */
BANDWIDTH = 178.0
CENTER_FILTER_WAVELENGTH = 679.0
RADIANCE_OFFSET = 3.64307
RADIANCE_SCALING_FACTOR = 0.0191386
REFLECTANCE_SCALING_FACTOR = 0.000462012
MEX:REFLECTANCE_OFFSET = 0.087945
/* IMAGE OBJECT DEFINITIONS */
OBJECT = IMAGE
  INTERCHANGE_FORMAT = BINARY
  LINES = 24035
  LINE_SAMPLES = 4293
  SAMPLE_TYPE = UNSIGNED_INTEGER
  SAMPLE_BITS = 8
  BANDS = 1
  BAND_STORAGE_TYPE = BAND_SEQUENTIAL
  MAXIMUM = 255
  MEAN = 103.854
  MINIMUM = 1
  STANDARD_DEVIATION = 32.6084
END_OBJECT = IMAGE
/* MAP OBJECT DEFINITIONS */
OBJECT = IMAGE_MAP_PROJECTION
  ^DATA_SET_MAP_PROJECTION_CATALOG= "DSMAP.CAT"
  A_AXIS_RADIUS = 3396.0
  B_AXIS_RADIUS = 3396.0
  C_AXIS_RADIUS = 3396.0
  CENTER_LATITUDE = 0.0
  CENTER_LONGITUDE = 172.0
  COORDINATE_SYSTEM_NAME = PLANETOGRAPHIC
  COORDINATE_SYSTEM_TYPE = "BODY-FIXED ROTATING"
  EASTERNMOST_LONGITUDE = 173.65
  FIRST_STANDARD_PARALLEL = "N/A"
  LINE_FIRST_PIXEL = 1
  LINE_LAST_PIXEL = 24035
  LINE_PROJECTION_OFFSET = -105865.25
  MAP_PROJECTION_ROTATION = 0.0
  MAP_PROJECTION_TYPE = SINUSOIDAL
  MAP_RESOLUTION = 2370.85521546667
  MAP_SCALE = 0.025
  MAXIMUM_LATITUDE = -44.6756
  MINIMUM_LATITUDE = -54.8833
  POSITIVE_LONGITUDE_DIRECTION = EAST
  REFERENCE_LATITUDE = "N/A"
  REFERENCE_LONGITUDE = "N/A"
  SAMPLE_FIRST_PIXEL = 1
  SAMPLE_LAST_PIXEL = 4293
  SAMPLE_PROJECTION_OFFSET = 1417.75
  SECOND_STANDARD_PARALLEL = "N/A"
  WESTERNMOST_LONGITUDE = 171.0
END_OBJECT = IMAGE_MAP_PROJECTION
/* The JPEG2000 image data file associated with this label. */
OBJECT = COMPRESSED_FILE
  FILE_NAME = "H6515_0000_S23.JP2"
  RECORD_TYPE = UNDEFINED
  FILE_RECORDS = UNK
  ENCODING_TYPE = "JP2"
  INTERCHANGE_FORMAT = BINARY
  UNCOMPRESSED_FILE_NAME = "H6515_0000_S23.IMG"
  REQUIRED_STORAGE_BYTES = "103208013"
  ^DESCRIPTION = "JP2INFO.TXT"
END_OBJECT = COMPRESSED_FILE
END
