PDS_VERSION_ID = PDS3
/* FILE DATA ELEMENTS */
RECORD_TYPE = STREAM
/* POINTERS TO DATA OBJECTS */
^COMPRESSED_FILE = "H6520_0000_ND3.JP2"
/* IDENTIFICATION DATA ELEMENTS */
DATA_SET_ID = "MEX-M-HRSC-5-REFDR-MAPPROJECTED-V3.0"
DATA_SET_NAME = "MARS EXPRESS HRSC MAP PROJECTED REFDR V3.0"
DETECTOR_ID = MEX_HRSC_NADIR
EVENT_TYPE = "MARS-REGIONAL-MAPPING-Te-Im-Fl"
INSTRUMENT_HOST_ID = MEX
INSTRUMENT_HOST_NAME = "MARS EXPRESS"
INSTRUMENT_ID = HRSC
INSTRUMENT_NAME = "HIGH RESOLUTION STEREO CAMERA"
MISSION_NAME = "MARS EXPRESS"
MISSION_PHASE_NAME = ME_Phase_15
PROCESSING_LEVEL_ID = 3
PRODUCT_CREATION_TIME = 2016-06-29T00:46:52.000Z
PRODUCT_ID = "H6520_0000_ND3.JP2"
RELEASE_ID = 0073
REVISION_ID = 0000
/* QUALITY DATA ELEMENTS */
DATA_QUALITY_ID = 2
DATA_QUALITY_DESC = "Data calculated based on photogrammetrically improved orbit and attitude data"
/* TIME DATA ELEMENTS */
SPACECRAFT_CLOCK_START_COUNT = "1/0181361553.07282"
SPACECRAFT_CLOCK_STOP_COUNT = "1/0181362058.37695"
START_TIME = 2009-01-30T02:13:31.560Z
STOP_TIME = 2009-01-30T02:18:35.547Z
/* ORBITAL DATA ELEMENTS */
ASCENDING_NODE_LONGITUDE = 93.48
MAXIMUM_RESOLUTION = 23.9
FOOTPRINT_POINT_LATITUDE = (-29.8716,-29.8712,-29.8697,-29.8668, -29.863,-29.536,-29.0487,-28.5563, -28.2255,-27.8906,-27.5542,-27.2151, -26.8774,-26.5407,-26.2049,-25.8704, -25.5368,-25.2042,-24.8726,-24.5421, -24.2127,-23.8844,-23.557,-23.2309, -22.9058,-22.5817,-22.2586,-21.9366, -21.6157,-21.2959,-20.9771,-20.6595, -20.3428,-20.0273,-19.7128,-19.3993, -19.087,-18.7757,-18.4655,-18.1563, -17.8483,-17.5413,-17.2354,-16.9306, -16.3241,-15.7218,-15.1238,-14.5301, -13.9405,-13.9238,-13.9157,-13.9056, -13.8906,-13.8773,-13.8683,-14.0078, -14.6027,-15.2018,-15.805,-16.4123, -17.0238,-17.3312,-17.6396,-17.949, -18.2595,-18.571,-18.8836,-19.1972, -19.5118,-19.8277,-20.1445,-20.4623, -20.7812,-21.1011,-21.4221,-21.7442, -22.0673,-22.3914,-22.7166,-23.0428, -23.37,-23.6984,-24.0277,-24.3581, -24.6896,-25.0221,-25.3555,-25.69, -26.0256,-26.3622,-26.6999,-27.0386, -27.3783,-27.7184,-28.0547,-28.5549, -29.0494,-29.5385,-29.8623,-29.8716)
FOOTPRINT_POINT_LONGITUDE = (29.3684,28.9915,28.5907,28.1658, 27.7868,27.4766,27.4665,27.4598,27.453, 27.4455,27.4387,27.4268,27.4207,27.4139 ,27.4033,27.3963,27.3877,27.3769, 27.3651,27.3553,27.3449,27.3347,27.3217 ,27.3114,27.3014,27.2886,27.2762, 27.2632,27.2502,27.237,27.2238,27.2106, 27.1968,27.1827,27.1685,27.1518,27.1366 ,27.1213,27.1061,27.0906,27.0749, 27.0603,27.0439,27.0275,26.9943,26.9599 ,26.9245,26.8889,26.8514,27.4512, 27.8808,28.3785,29.0412,29.5704,29.901, 30.2123,30.2027,30.1929,30.183,30.1728, 30.164,30.1577,30.1526,30.1472,30.142, 30.1367,30.131,30.1259,30.1223,30.1141, 30.1086,30.1028,30.0968,30.0907,30.0845 ,30.0781,30.0714,30.0646,30.059,30.0529 ,30.0467,30.0389,30.0319,30.0248, 30.0175,30.0097,30.0041,29.9965,29.9888 ,29.9811,29.9729,29.9638,29.9557, 29.9477,29.9392,29.9263,29.9134,29.9003 ,29.8914,29.3684)
ORBIT_NUMBER = 6520
ORBITAL_ECCENTRICITY = 0.576
ORBITAL_INCLINATION = 86.76
ORBITAL_SEMIMAJOR_AXIS = 8691.34
PERIAPSIS_ALTITUDE = 305.7
PERIAPSIS_ARGUMENT_ANGLE = 292.38
PERIAPSIS_TIME = 2009-01-30T02:03:35.000Z
SPACECRAFT_ORIENTATION = (0.0,1.0,0.0)
^MEX_ORIENTATION_DESC = "MEX_ORIENTATION_DESC.TXT"
SPACECRAFT_POINTING_MODE = ACROSSTRACK
^MEX_POINTING_DESC = "MEX_POINTING_DESC.TXT"
RIGHT_ASCENSION = -1e+32
DECLINATION = -1e+32
OFFSET_ANGLE = 0.2
SPACECRAFT_SOLAR_DISTANCE = 2.13287e+08
TARGET_NAME = MARS
/* CAMERA DATA ELEMENTS */
DETECTOR_TEMPERATURE = 17.9627
FOCAL_PLANE_TEMPERATURE = 8.3794
INST_CMPRS_NAME = "DISCRETE COSINE TRANSFORMATION (DCT)"
INST_CMPRS_RATIO = 6.76879
INST_CMPRS_QUALITY = 0
INST_CMPRS_QUANTZ_TBL_ID = 0
INSTRUMENT_TEMPERATURE = 11.234
LENS_TEMPERATURE = 8.7872
MACROPIXEL_SIZE = 1
MISSING_FRAMES = 0
PIXEL_SUBSAMPLING_FLAG = N
SIGNAL_CHAIN_ID = 0
/* RADIOMETRIC DATA ELEMENTS */
BANDWIDTH = 177.0
CENTER_FILTER_WAVELENGTH = 677.5
RADIANCE_OFFSET = 5.42278
RADIANCE_SCALING_FACTOR = 0.0238522
REFLECTANCE_SCALING_FACTOR = 0.000576414
MEX:REFLECTANCE_OFFSET = 0.131047
/* IMAGE OBJECT DEFINITIONS */
OBJECT = IMAGE
  INTERCHANGE_FORMAT = BINARY
  LINES = 37964
  LINE_SAMPLES = 7959
  SAMPLE_TYPE = UNSIGNED_INTEGER
  SAMPLE_BITS = 8
  BANDS = 1
  BAND_STORAGE_TYPE = BAND_SEQUENTIAL
  MAXIMUM = 255
  MEAN = 128.124
  MINIMUM = 1
  STANDARD_DEVIATION = 35.4065
END_OBJECT = IMAGE
/* MAP OBJECT DEFINITIONS */
OBJECT = IMAGE_MAP_PROJECTION
  ^DATA_SET_MAP_PROJECTION_CATALOG= "DSMAP.CAT"
  A_AXIS_RADIUS = 3396.0
  B_AXIS_RADIUS = 3396.0
  C_AXIS_RADIUS = 3396.0
  CENTER_LATITUDE = 0.0
  CENTER_LONGITUDE = 29.0
  COORDINATE_SYSTEM_NAME = PLANETOGRAPHIC
  COORDINATE_SYSTEM_TYPE = "BODY-FIXED ROTATING"
  EASTERNMOST_LONGITUDE = 30.2123
  FIRST_STANDARD_PARALLEL = "N/A"
  LINE_FIRST_PIXEL = 1
  LINE_LAST_PIXEL = 37964
  LINE_PROJECTION_OFFSET = -32859.0
  MAP_PROJECTION_ROTATION = 0.0
  MAP_PROJECTION_TYPE = SINUSOIDAL
  MAP_RESOLUTION = 2370.85521546667
  MAP_SCALE = 0.025
  MAXIMUM_LATITUDE = -13.8683
  MINIMUM_LATITUDE = -29.8716
  POSITIVE_LONGITUDE_DIRECTION = EAST
  REFERENCE_LATITUDE = "N/A"
  REFERENCE_LONGITUDE = "N/A"
  SAMPLE_FIRST_PIXEL = 1
  SAMPLE_LAST_PIXEL = 7959
  SAMPLE_PROJECTION_OFFSET = 5061.0
  SECOND_STANDARD_PARALLEL = "N/A"
  WESTERNMOST_LONGITUDE = 26.8514
END_OBJECT = IMAGE_MAP_PROJECTION
/* The JPEG2000 image data file associated with this label. */
OBJECT = COMPRESSED_FILE
  FILE_NAME = "H6520_0000_ND3.JP2"
  RECORD_TYPE = UNDEFINED
  FILE_RECORDS = UNK
  ENCODING_TYPE = "JP2"
  INTERCHANGE_FORMAT = BINARY
  UNCOMPRESSED_FILE_NAME = "H6520_0000_ND3.IMG"
  REQUIRED_STORAGE_BYTES = "302187312"
  ^DESCRIPTION = "JP2INFO.TXT"
END_OBJECT = COMPRESSED_FILE
END
