PDS_VERSION_ID = PDS3
/* FILE DATA ELEMENTS */
RECORD_TYPE = STREAM
/* POINTERS TO DATA OBJECTS */
^COMPRESSED_FILE = "H6526_0000_S13.JP2"
/* IDENTIFICATION DATA ELEMENTS */
DATA_SET_ID = "MEX-M-HRSC-5-REFDR-MAPPROJECTED-V3.0"
DATA_SET_NAME = "MARS EXPRESS HRSC MAP PROJECTED REFDR V3.0"
DETECTOR_ID = MEX_HRSC_S1
EVENT_TYPE = "MARS-LOCAL-STEREO-Te"
INSTRUMENT_HOST_ID = MEX
INSTRUMENT_HOST_NAME = "MARS EXPRESS"
INSTRUMENT_ID = HRSC
INSTRUMENT_NAME = "HIGH RESOLUTION STEREO CAMERA"
MISSION_NAME = "MARS EXPRESS"
MISSION_PHASE_NAME = ME_Phase_15
PROCESSING_LEVEL_ID = 3
PRODUCT_CREATION_TIME = 2016-06-29T00:46:52.000Z
PRODUCT_ID = "H6526_0000_S13.JP2"
RELEASE_ID = 0073
REVISION_ID = 0000
/* QUALITY DATA ELEMENTS */
DATA_QUALITY_ID = 2
DATA_QUALITY_DESC = "Data calculated based on photogrammetrically improved orbit and attitude data"
/* TIME DATA ELEMENTS */
SPACECRAFT_CLOCK_START_COUNT = "1/0181510096.08245"
SPACECRAFT_CLOCK_STOP_COUNT = "1/0181510329.49530"
START_TIME = 2009-01-31T19:29:19.190Z
STOP_TIME = 2009-01-31T19:32:10.193Z
/* ORBITAL DATA ELEMENTS */
ASCENDING_NODE_LONGITUDE = 93.36
MAXIMUM_RESOLUTION = 14.7
FOOTPRINT_POINT_LATITUDE = (-55.6295,-55.6138,-55.6032,-55.592, -55.6447,-55.3646,-55.0865,-54.9012, -54.7174,-54.5354,-54.3516,-54.1677, -53.9839,-53.8003,-53.6165,-53.4324, -53.1561,-52.9716,-52.6959,-52.4946, -52.2766,-52.0594,-51.8433,-51.6304, -51.4155,-51.1994,-50.9832,-50.7684, -50.5533,-50.3445,-50.1297,-49.9072, -49.6915,-49.4759,-49.2631,-49.0499, -48.8378,-48.5254,-48.3219,-48.1119, -47.7911,-47.5759,-47.3586,-47.145, -46.8176,-46.5998,-46.3799,-46.1627, -45.9397,-45.716,-45.3797,-45.3734, -45.3749,-45.3881,-45.3966,-45.6189, -45.8429,-46.1787,-46.3973,-46.616, -46.8352,-47.1624,-47.3771,-47.5926, -47.9147,-48.2339,-48.4477,-48.6646, -48.8766,-49.0903,-49.3036,-49.516, -49.7298,-49.9444,-50.2652,-50.4787, -50.7978,-51.014,-51.2298,-51.5578, -51.776,-52.1018,-52.4288,-52.6477, -52.8358,-53.0193,-53.2027,-53.4778, -53.6616,-53.8458,-54.1219,-54.3054, -54.489,-54.6722,-54.857,-55.0424, -55.2287,-55.4146,-55.6006,-55.6295)
FOOTPRINT_POINT_LONGITUDE = (143.064,142.532,142.205,141.876, 141.397,141.434,141.47,141.493,141.515, 141.535,141.556,141.577,141.598,141.618 ,141.639,141.659,141.69,141.71,141.739, 141.759,141.781,141.802,141.822,141.839 ,141.858,141.877,141.896,141.914, 141.932,141.945,141.963,141.985,142.003 ,142.021,142.036,142.052,142.066, 142.084,142.093,142.106,142.125,142.138 ,142.152,142.164,142.182,142.193, 142.205,142.215,142.227,142.238,142.254 ,142.796,143.228,143.914,144.439, 144.424,144.41,144.388,144.374,144.359, 144.343,144.321,144.305,144.29,144.266, 144.242,144.228,144.213,144.197,144.181 ,144.165,144.148,144.131,144.114, 144.087,144.069,144.041,144.022,144.004 ,143.976,143.957,143.927,143.897, 143.877,143.86,143.842,143.824,143.797, 143.778,143.759,143.731,143.711,143.691 ,143.67,143.65,143.63,143.609,143.588, 143.567,143.064)
ORBIT_NUMBER = 6526
ORBITAL_ECCENTRICITY = 0.576
ORBITAL_INCLINATION = 86.76
ORBITAL_SEMIMAJOR_AXIS = 8690.63
PERIAPSIS_ALTITUDE = 306.13
PERIAPSIS_ARGUMENT_ANGLE = 291.37
PERIAPSIS_TIME = 2009-01-31T19:25:35.000Z
SPACECRAFT_ORIENTATION = (0.0,1.0,0.0)
^MEX_ORIENTATION_DESC = "MEX_ORIENTATION_DESC.TXT"
SPACECRAFT_POINTING_MODE = ACROSSTRACK
^MEX_POINTING_DESC = "MEX_POINTING_DESC.TXT"
RIGHT_ASCENSION = -1e+32
DECLINATION = -1e+32
OFFSET_ANGLE = 0.15
SPACECRAFT_SOLAR_DISTANCE = 2.13028e+08
TARGET_NAME = MARS
/* CAMERA DATA ELEMENTS */
DETECTOR_TEMPERATURE = 17.9627
FOCAL_PLANE_TEMPERATURE = 8.3794
INST_CMPRS_NAME = "DISCRETE COSINE TRANSFORMATION (DCT)"
INST_CMPRS_RATIO = 8.67224
INST_CMPRS_QUALITY = 0
INST_CMPRS_QUANTZ_TBL_ID = 0
INSTRUMENT_TEMPERATURE = 11.4379
LENS_TEMPERATURE = 8.5833
MACROPIXEL_SIZE = 1
MISSING_FRAMES = 0
PIXEL_SUBSAMPLING_FLAG = N
SIGNAL_CHAIN_ID = 2
/* RADIOMETRIC DATA ELEMENTS */
BANDWIDTH = 180.0
CENTER_FILTER_WAVELENGTH = 677.0
RADIANCE_OFFSET = 4.36502
RADIANCE_SCALING_FACTOR = 0.0260487
REFLECTANCE_SCALING_FACTOR = 0.000616737
MEX:REFLECTANCE_OFFSET = 0.103348
/* IMAGE OBJECT DEFINITIONS */
OBJECT = IMAGE
  INTERCHANGE_FORMAT = BINARY
  LINES = 49095
  LINE_SAMPLES = 8847
  SAMPLE_TYPE = UNSIGNED_INTEGER
  SAMPLE_BITS = 8
  BANDS = 1
  BAND_STORAGE_TYPE = BAND_SEQUENTIAL
  MAXIMUM = 255
  MEAN = 93.689
  MINIMUM = 1
  STANDARD_DEVIATION = 48.0064
END_OBJECT = IMAGE
/* MAP OBJECT DEFINITIONS */
OBJECT = IMAGE_MAP_PROJECTION
  ^DATA_SET_MAP_PROJECTION_CATALOG= "DSMAP.CAT"
  A_AXIS_RADIUS = 3396.0
  B_AXIS_RADIUS = 3396.0
  C_AXIS_RADIUS = 3396.0
  CENTER_LATITUDE = 0.0
  CENTER_LONGITUDE = 143.0
  COORDINATE_SYSTEM_NAME = PLANETOGRAPHIC
  COORDINATE_SYSTEM_TYPE = "BODY-FIXED ROTATING"
  EASTERNMOST_LONGITUDE = 144.439
  FIRST_STANDARD_PARALLEL = "N/A"
  LINE_FIRST_PIXEL = 1
  LINE_LAST_PIXEL = 49095
  LINE_PROJECTION_OFFSET = -215171.0
  MAP_PROJECTION_ROTATION = 0.0
  MAP_PROJECTION_TYPE = SINUSOIDAL
  MAP_RESOLUTION = 4741.71043093333
  MAP_SCALE = 0.0125
  MAXIMUM_LATITUDE = -45.3734
  MINIMUM_LATITUDE = -55.6447
  POSITIVE_LONGITUDE_DIRECTION = EAST
  REFERENCE_LATITUDE = "N/A"
  REFERENCE_LONGITUDE = "N/A"
  SAMPLE_FIRST_PIXEL = 1
  SAMPLE_LAST_PIXEL = 8847
  SAMPLE_PROJECTION_OFFSET = 4251.0
  SECOND_STANDARD_PARALLEL = "N/A"
  WESTERNMOST_LONGITUDE = 141.397
END_OBJECT = IMAGE_MAP_PROJECTION
/* The JPEG2000 image data file associated with this label. */
OBJECT = COMPRESSED_FILE
  FILE_NAME = "H6526_0000_S13.JP2"
  RECORD_TYPE = UNDEFINED
  FILE_RECORDS = UNK
  ENCODING_TYPE = "JP2"
  INTERCHANGE_FORMAT = BINARY
  UNCOMPRESSED_FILE_NAME = "H6526_0000_S13.IMG"
  REQUIRED_STORAGE_BYTES = "434378853"
  ^DESCRIPTION = "JP2INFO.TXT"
END_OBJECT = COMPRESSED_FILE
END
