PDS_VERSION_ID = PDS3
/* FILE DATA ELEMENTS */
RECORD_TYPE = STREAM
/* POINTERS TO DATA OBJECTS */
^COMPRESSED_FILE = "H6534_0000_ND3.JP2"
/* IDENTIFICATION DATA ELEMENTS */
DATA_SET_ID = "MEX-M-HRSC-5-REFDR-MAPPROJECTED-V3.0"
DATA_SET_NAME = "MARS EXPRESS HRSC MAP PROJECTED REFDR V3.0"
DETECTOR_ID = MEX_HRSC_NADIR
EVENT_TYPE = "MARS-REGIONAL-STEREO-Pf-Eo-At"
INSTRUMENT_HOST_ID = MEX
INSTRUMENT_HOST_NAME = "MARS EXPRESS"
INSTRUMENT_ID = HRSC
INSTRUMENT_NAME = "HIGH RESOLUTION STEREO CAMERA"
MISSION_NAME = "MARS EXPRESS"
MISSION_PHASE_NAME = ME_Phase_15
PROCESSING_LEVEL_ID = 3
PRODUCT_CREATION_TIME = 2016-06-29T00:46:52.000Z
PRODUCT_ID = "H6534_0000_ND3.JP2"
RELEASE_ID = 0073
REVISION_ID = 0000
/* QUALITY DATA ELEMENTS */
DATA_QUALITY_ID = 1
DATA_QUALITY_DESC = "Data calculated based on original SPICE kernels"
/* TIME DATA ELEMENTS */
SPACECRAFT_CLOCK_START_COUNT = "1/0181708546.09032"
SPACECRAFT_CLOCK_STOP_COUNT = "1/0181708765.50941"
START_TIME = 2009-02-03T02:36:15.710Z
STOP_TIME = 2009-02-03T02:38:52.690Z
/* ORBITAL DATA ELEMENTS */
ASCENDING_NODE_LONGITUDE = 93.2
MAXIMUM_RESOLUTION = 12.3
FOOTPRINT_POINT_LATITUDE = (-64.2868,-64.2696,-64.2339,-64.2049, -63.8929,-63.6971,-63.5014,-63.3056, -63.11,-62.9143,-62.5231,-62.1321, -61.7411,-61.4384,-61.2361,-61.0338, -60.8317,-60.6295,-60.4274,-60.2254, -59.9223,-59.7205,-59.5188,-59.3171, -59.1154,-58.9138,-58.6033,-58.395, -58.1867,-57.9786,-57.7705,-57.5626, -57.3548,-57.147,-56.8322,-56.5166, -56.3023,-56.0882,-55.8743,-55.6604, -55.4466,-55.233,-55.0195,-54.8062, -54.593,-54.38,-54.167,-53.9542, -53.9658,-53.9806,-53.9947,-54.0137, -54.3373,-54.5508,-54.7645,-54.9783, -55.1923,-55.4064,-55.6206,-55.835, -56.0495,-56.2642,-56.479,-56.6939, -56.9031,-57.2188,-57.4272,-57.6357, -57.8443,-58.053,-58.2618,-58.4707, -58.6797,-58.9915,-59.1937,-59.3961, -59.5985,-59.8011,-60.0037,-60.2064, -60.4091,-60.612,-60.8149,-61.0179, -61.2209,-61.424,-61.6272,-61.8298, -62.0261,-62.2224,-62.4188,-62.6153, -62.8118,-63.0083,-63.2049,-63.4016, -63.5982,-63.795,-63.9917,-64.2868)
FOOTPRINT_POINT_LONGITUDE = (56.1092,55.6414,54.7808,54.157,53.9025 ,53.9514,53.9996,54.0468,54.0936, 54.1394,54.2288,54.3152,54.3969,54.4586 ,54.4991,54.5388,54.578,54.6158,54.653, 54.6897,54.7414,54.7766,54.8124,54.8455 ,54.8783,54.9104,54.9593,54.9907, 55.0215,55.0519,55.0819,55.111,55.1397, 55.1677,55.2085,55.2485,55.275,55.3011, 55.3265,55.3512,55.3752,55.3989,55.4224 ,55.445,55.4678,55.4899,55.5112,55.5321 ,55.9668,56.3816,56.819,57.5097,57.6166 ,57.5969,57.5759,57.555,57.5342,57.5131 ,57.4911,57.4692,57.4468,57.4241, 57.4016,57.379,57.3561,57.3213,57.2976, 57.2738,57.2499,57.2253,57.2003,57.1753 ,57.1497,57.1111,57.0855,57.06,57.0342, 57.0084,56.9816,56.9548,56.9273,56.8992 ,56.8716,56.8426,56.813,56.7836,56.7535 ,56.7227,56.6925,56.662,56.6307,56.5992 ,56.5674,56.5344,56.5009,56.4667, 56.4319,56.3964,56.3606,56.1092)
ORBIT_NUMBER = 6534
ORBITAL_ECCENTRICITY = 0.576
ORBITAL_INCLINATION = 86.77
ORBITAL_SEMIMAJOR_AXIS = 8688.57
PERIAPSIS_ALTITUDE = 305.27
PERIAPSIS_ARGUMENT_ANGLE = 290.0
PERIAPSIS_TIME = 2009-02-03T02:34:52.000Z
SPACECRAFT_ORIENTATION = (0.0,1.0,0.0)
^MEX_ORIENTATION_DESC = "MEX_ORIENTATION_DESC.TXT"
SPACECRAFT_POINTING_MODE = ACROSSTRACK
^MEX_POINTING_DESC = "MEX_POINTING_DESC.TXT"
RIGHT_ASCENSION = -1e+32
DECLINATION = -1e+32
OFFSET_ANGLE = -0.15
SPACECRAFT_SOLAR_DISTANCE = 2.12689e+08
TARGET_NAME = MARS
/* CAMERA DATA ELEMENTS */
DETECTOR_TEMPERATURE = 18.1666
FOCAL_PLANE_TEMPERATURE = 8.1755
INST_CMPRS_NAME = "DISCRETE COSINE TRANSFORMATION (DCT)"
INST_CMPRS_RATIO = 6.45359
INST_CMPRS_QUALITY = 0
INST_CMPRS_QUANTZ_TBL_ID = 0
INSTRUMENT_TEMPERATURE = 10.8262
LENS_TEMPERATURE = 9.6028
MACROPIXEL_SIZE = 1
MISSING_FRAMES = 2
PIXEL_SUBSAMPLING_FLAG = N
SIGNAL_CHAIN_ID = 0
/* RADIOMETRIC DATA ELEMENTS */
BANDWIDTH = 177.0
CENTER_FILTER_WAVELENGTH = 677.5
RADIANCE_OFFSET = 5.15778
RADIANCE_SCALING_FACTOR = 0.0388668
REFLECTANCE_SCALING_FACTOR = 0.000934017
MEX:REFLECTANCE_OFFSET = 0.123948
/* IMAGE OBJECT DEFINITIONS */
OBJECT = IMAGE
  INTERCHANGE_FORMAT = BINARY
  LINES = 49028
  LINE_SAMPLES = 9055
  SAMPLE_TYPE = UNSIGNED_INTEGER
  SAMPLE_BITS = 8
  BANDS = 1
  BAND_STORAGE_TYPE = BAND_SEQUENTIAL
  MAXIMUM = 255
  MEAN = 87.7236
  MINIMUM = 1
  STANDARD_DEVIATION = 70.8434
END_OBJECT = IMAGE
/* MAP OBJECT DEFINITIONS */
OBJECT = IMAGE_MAP_PROJECTION
  ^DATA_SET_MAP_PROJECTION_CATALOG= "DSMAP.CAT"
  A_AXIS_RADIUS = 3396.0
  B_AXIS_RADIUS = 3396.0
  C_AXIS_RADIUS = 3396.0
  CENTER_LATITUDE = 0.0
  CENTER_LONGITUDE = 56.0
  COORDINATE_SYSTEM_NAME = PLANETOGRAPHIC
  COORDINATE_SYSTEM_TYPE = "BODY-FIXED ROTATING"
  EASTERNMOST_LONGITUDE = 57.6166
  FIRST_STANDARD_PARALLEL = "N/A"
  LINE_FIRST_PIXEL = 1
  LINE_LAST_PIXEL = 49028
  LINE_PROJECTION_OFFSET = -255822.0
  MAP_PROJECTION_ROTATION = 0.0
  MAP_PROJECTION_TYPE = SINUSOIDAL
  MAP_RESOLUTION = 4741.71043093333
  MAP_SCALE = 0.0125
  MAXIMUM_LATITUDE = -53.9542
  MINIMUM_LATITUDE = -64.2868
  POSITIVE_LONGITUDE_DIRECTION = EAST
  REFERENCE_LATITUDE = "N/A"
  REFERENCE_LONGITUDE = "N/A"
  SAMPLE_FIRST_PIXEL = 1
  SAMPLE_LAST_PIXEL = 9055
  SAMPLE_PROJECTION_OFFSET = 4453.0
  SECOND_STANDARD_PARALLEL = "N/A"
  WESTERNMOST_LONGITUDE = 53.9025
END_OBJECT = IMAGE_MAP_PROJECTION
/* The JPEG2000 image data file associated with this label. */
OBJECT = COMPRESSED_FILE
  FILE_NAME = "H6534_0000_ND3.JP2"
  RECORD_TYPE = UNDEFINED
  FILE_RECORDS = UNK
  ENCODING_TYPE = "JP2"
  INTERCHANGE_FORMAT = BINARY
  UNCOMPRESSED_FILE_NAME = "H6534_0000_ND3.IMG"
  REQUIRED_STORAGE_BYTES = "443984760"
  ^DESCRIPTION = "JP2INFO.TXT"
END_OBJECT = COMPRESSED_FILE
END
