PDS_VERSION_ID = PDS3
/* FILE DATA ELEMENTS */
RECORD_TYPE = STREAM
/* POINTERS TO DATA OBJECTS */
^COMPRESSED_FILE = "H6536_0000_IR3.JP2"
/* IDENTIFICATION DATA ELEMENTS */
DATA_SET_ID = "MEX-M-HRSC-5-REFDR-MAPPROJECTED-V3.0"
DATA_SET_NAME = "MARS EXPRESS HRSC MAP PROJECTED REFDR V3.0"
DETECTOR_ID = MEX_HRSC_IR
EVENT_TYPE = "MARS-REGIONAL-MAPPING-Te-Im-Fl"
INSTRUMENT_HOST_ID = MEX
INSTRUMENT_HOST_NAME = "MARS EXPRESS"
INSTRUMENT_ID = HRSC
INSTRUMENT_NAME = "HIGH RESOLUTION STEREO CAMERA"
MISSION_NAME = "MARS EXPRESS"
MISSION_PHASE_NAME = ME_Phase_15
PROCESSING_LEVEL_ID = 3
PRODUCT_CREATION_TIME = 2016-06-29T00:46:52.000Z
PRODUCT_ID = "H6536_0000_IR3.JP2"
RELEASE_ID = 0073
REVISION_ID = 0000
/* QUALITY DATA ELEMENTS */
DATA_QUALITY_ID = 2
DATA_QUALITY_DESC = "Data calculated based on photogrammetrically improved orbit and attitude data"
/* TIME DATA ELEMENTS */
SPACECRAFT_CLOCK_START_COUNT = "1/0181758302.09053"
SPACECRAFT_CLOCK_STOP_COUNT = "1/0181758551.08384"
START_TIME = 2009-02-03T16:26:01.613Z
STOP_TIME = 2009-02-03T16:29:03.405Z
/* ORBITAL DATA ELEMENTS */
ASCENDING_NODE_LONGITUDE = 93.16
MAXIMUM_RESOLUTION = 58.1
FOOTPRINT_POINT_LATITUDE = (-56.374,-56.3618,-56.3466,-56.3377, -56.1895,-55.9993,-55.809,-55.6187, -55.4287,-55.2388,-55.0492,-54.8624, -54.6732,-54.4811,-54.1745,-53.8373, -53.6124,-53.392,-53.1685,-52.9415, -52.605,-52.3822,-52.1594,-51.9367, -51.715,-51.4928,-51.1604,-50.9372, -50.7169,-50.3877,-50.1686,-49.8397, -49.5117,-49.1733,-48.9501,-48.7253, -48.5023,-48.1671,-47.819,-47.4724, -47.2393,-47.0058,-46.7748,-46.5389, -46.3066,-46.0729,-45.7182,-45.4781, -45.4515,-45.4569,-45.46,-45.4622, -45.4626,-45.5837,-45.8241,-46.0592, -46.295,-46.5313,-46.7661,-46.9979, -47.2306,-47.4636,-47.8102,-48.1542, -48.3834,-48.6113,-48.9473,-49.1713, -49.3962,-49.62,-49.8392,-50.0613, -50.3961,-50.6161,-50.8307,-51.0527, -51.2748,-51.4974,-51.7194,-51.9424, -52.1662,-52.3888,-52.6163,-52.9534, -53.1739,-53.3985,-53.6222,-53.9625, -54.1887,-54.4065,-54.5965,-54.7862, -54.9765,-55.2625,-55.4529,-55.7384, -55.93,-56.12,-56.3115,-56.374)
FOOTPRINT_POINT_LONGITUDE = (213.54,212.897,212.24,211.906,211.599, 211.632,211.664,211.696,211.728,211.759 ,211.789,211.814,211.844,211.878, 211.924,211.973,212.006,212.03,212.061, 212.097,212.144,212.172,212.2,212.229, 212.255,212.283,212.322,212.351,212.375 ,212.409,212.432,212.466,212.498, 212.534,212.554,212.577,212.597,212.617 ,212.656,212.689,212.709,212.729, 212.746,212.766,212.778,212.792,212.816 ,212.831,213.223,213.716,214.14,214.56, 214.83,215.095,215.075,215.055,215.034, 215.014,214.993,214.972,214.951,214.929 ,214.896,214.863,214.841,214.818, 214.784,214.762,214.738,214.715,214.692 ,214.668,214.63,214.606,214.583,214.558 ,214.532,214.506,214.48,214.453,214.426 ,214.399,214.37,214.327,214.299,214.27, 214.24,214.194,214.163,214.132,214.106, 214.079,214.051,214.009,213.981,213.938 ,213.908,213.879,213.849,213.54)
ORBIT_NUMBER = 6536
ORBITAL_ECCENTRICITY = 0.576
ORBITAL_INCLINATION = 86.77
ORBITAL_SEMIMAJOR_AXIS = 8685.7
PERIAPSIS_ALTITUDE = 304.97
PERIAPSIS_ARGUMENT_ANGLE = 289.64
PERIAPSIS_TIME = 2009-02-03T16:22:08.000Z
SPACECRAFT_ORIENTATION = (0.0,1.0,0.0)
^MEX_ORIENTATION_DESC = "MEX_ORIENTATION_DESC.TXT"
SPACECRAFT_POINTING_MODE = ACROSSTRACK
^MEX_POINTING_DESC = "MEX_POINTING_DESC.TXT"
RIGHT_ASCENSION = -1e+32
DECLINATION = -1e+32
OFFSET_ANGLE = 0.9
SPACECRAFT_SOLAR_DISTANCE = 2.12606e+08
TARGET_NAME = MARS
/* CAMERA DATA ELEMENTS */
DETECTOR_TEMPERATURE = 17.351
FOCAL_PLANE_TEMPERATURE = 8.7872
INST_CMPRS_NAME = "DISCRETE COSINE TRANSFORMATION (DCT)"
INST_CMPRS_RATIO = 18.8313
INST_CMPRS_QUALITY = 0
INST_CMPRS_QUANTZ_TBL_ID = 0
INSTRUMENT_TEMPERATURE = 11.4379
LENS_TEMPERATURE = 10.0106
MACROPIXEL_SIZE = 4
MISSING_FRAMES = 0
PIXEL_SUBSAMPLING_FLAG = N
SIGNAL_CHAIN_ID = 2
/* RADIOMETRIC DATA ELEMENTS */
BANDWIDTH = 81.0
CENTER_FILTER_WAVELENGTH = 955.5
RADIANCE_OFFSET = 0.727172
RADIANCE_SCALING_FACTOR = 0.00639883
REFLECTANCE_SCALING_FACTOR = 0.000623991
MEX:REFLECTANCE_OFFSET = 0.0709111
/* IMAGE OBJECT DEFINITIONS */
OBJECT = IMAGE
  INTERCHANGE_FORMAT = BINARY
  LINES = 13115
  LINE_SAMPLES = 2642
  SAMPLE_TYPE = UNSIGNED_INTEGER
  SAMPLE_BITS = 8
  BANDS = 1
  BAND_STORAGE_TYPE = BAND_SEQUENTIAL
  MAXIMUM = 255
  MEAN = 98.4984
  MINIMUM = 1
  STANDARD_DEVIATION = 35.9497
END_OBJECT = IMAGE
/* MAP OBJECT DEFINITIONS */
OBJECT = IMAGE_MAP_PROJECTION
  ^DATA_SET_MAP_PROJECTION_CATALOG= "DSMAP.CAT"
  A_AXIS_RADIUS = 3396.0
  B_AXIS_RADIUS = 3396.0
  C_AXIS_RADIUS = 3396.0
  CENTER_LATITUDE = 0.0
  CENTER_LONGITUDE = 213.0
  COORDINATE_SYSTEM_NAME = PLANETOGRAPHIC
  COORDINATE_SYSTEM_TYPE = "BODY-FIXED ROTATING"
  EASTERNMOST_LONGITUDE = 215.095
  FIRST_STANDARD_PARALLEL = "N/A"
  LINE_FIRST_PIXEL = 1
  LINE_LAST_PIXEL = 13115
  LINE_PROJECTION_OFFSET = -53854.125
  MAP_PROJECTION_ROTATION = 0.0
  MAP_PROJECTION_TYPE = SINUSOIDAL
  MAP_RESOLUTION = 1185.42760773333
  MAP_SCALE = 0.05
  MAXIMUM_LATITUDE = -45.4515
  MINIMUM_LATITUDE = -56.374
  POSITIVE_LONGITUDE_DIRECTION = EAST
  REFERENCE_LATITUDE = "N/A"
  REFERENCE_LONGITUDE = "N/A"
  SAMPLE_FIRST_PIXEL = 1
  SAMPLE_LAST_PIXEL = 2642
  SAMPLE_PROJECTION_OFFSET = 946.375
  SECOND_STANDARD_PARALLEL = "N/A"
  WESTERNMOST_LONGITUDE = 211.599
END_OBJECT = IMAGE_MAP_PROJECTION
/* The JPEG2000 image data file associated with this label. */
OBJECT = COMPRESSED_FILE
  FILE_NAME = "H6536_0000_IR3.JP2"
  RECORD_TYPE = UNDEFINED
  FILE_RECORDS = UNK
  ENCODING_TYPE = "JP2"
  INTERCHANGE_FORMAT = BINARY
  UNCOMPRESSED_FILE_NAME = "H6536_0000_IR3.IMG"
  REQUIRED_STORAGE_BYTES = "34670966"
  ^DESCRIPTION = "JP2INFO.TXT"
END_OBJECT = COMPRESSED_FILE
END
