PDS_VERSION_ID = PDS3
/* FILE DATA ELEMENTS */
RECORD_TYPE = STREAM
/* POINTERS TO DATA OBJECTS */
^COMPRESSED_FILE = "H6541_0000_ND3.JP2"
/* IDENTIFICATION DATA ELEMENTS */
DATA_SET_ID = "MEX-M-HRSC-5-REFDR-MAPPROJECTED-V3.0"
DATA_SET_NAME = "MARS EXPRESS HRSC MAP PROJECTED REFDR V3.0"
DETECTOR_ID = MEX_HRSC_NADIR
EVENT_TYPE = "MARS-REGIONAL-MAPPING-Im-Fl-Gl"
INSTRUMENT_HOST_ID = MEX
INSTRUMENT_HOST_NAME = "MARS EXPRESS"
INSTRUMENT_ID = HRSC
INSTRUMENT_NAME = "HIGH RESOLUTION STEREO CAMERA"
MISSION_NAME = "MARS EXPRESS"
MISSION_PHASE_NAME = ME_Phase_15
PROCESSING_LEVEL_ID = 3
PRODUCT_CREATION_TIME = 2016-06-29T00:46:52.000Z
PRODUCT_ID = "H6541_0000_ND3.JP2"
RELEASE_ID = 0073
REVISION_ID = 0000
/* QUALITY DATA ELEMENTS */
DATA_QUALITY_ID = 2
DATA_QUALITY_DESC = "Data calculated based on photogrammetrically improved orbit and attitude data"
/* TIME DATA ELEMENTS */
SPACECRAFT_CLOCK_START_COUNT = "1/0181882809.07284"
SPACECRAFT_CLOCK_STOP_COUNT = "1/0181883275.41065"
START_TIME = 2009-02-05T03:01:12.689Z
STOP_TIME = 2009-02-05T03:05:31.665Z
/* ORBITAL DATA ELEMENTS */
ASCENDING_NODE_LONGITUDE = 93.06
MAXIMUM_RESOLUTION = 26
FOOTPRINT_POINT_LATITUDE = (-30.7907,-30.7892,-30.7864,-30.7823, -30.7768,-30.7698,-30.6245,-30.3547, -30.0826,-29.8098,-29.5343,-29.1186, -28.84,-28.5579,-28.2766,-27.996, -27.7161,-27.437,-27.1586,-26.881, -26.6042,-26.3282,-26.053,-25.7784, -25.5046,-25.2317,-24.9597,-24.6881, -24.4174,-24.1475,-23.8784,-23.61, -23.3424,-23.0756,-22.8096,-22.5446, -22.2801,-22.0164,-21.7534,-21.4913, -21.2299,-20.9693,-20.7095,-20.1922, -19.6779,-19.1667,-18.6587,-18.1539, -17.527,-17.3887,-17.3853,-17.3792, -17.3739,-17.3637,-17.3539,-17.342, -17.5906,-18.0965,-18.6055,-19.1174, -19.6323,-20.1502,-20.4103,-20.6711, -20.9328,-21.1951,-21.4583,-21.7222, -21.9868,-22.2522,-22.5184,-22.7852, -23.0528,-23.3213,-23.5905,-23.8604, -24.1311,-24.4026,-24.6749,-24.9478, -25.2215,-25.4961,-25.7713,-26.0474, -26.3243,-26.6018,-26.8802,-27.1591, -27.4389,-27.7194,-28.0007,-28.2827, -28.5655,-28.8492,-29.1292,-29.5472, -29.8242,-30.0982,-30.3717,-30.7907)
FOOTPRINT_POINT_LONGITUDE = (71.5419,71.1346,70.7244,70.3117, 69.8962,69.4772,69.0457,69.0432,69.0402 ,69.0377,69.0365,69.0355,69.0355, 69.0337,69.0305,69.0284,69.023,69.0178, 69.0129,69.0066,69.0019,68.9956,68.9904 ,68.9824,68.9753,68.9689,68.9649, 68.9536,68.9451,68.9359,68.9269,68.9175 ,68.908,68.8981,68.8882,68.8854,68.8727 ,68.8626,68.8514,68.8405,68.8298, 68.8178,68.8058,68.7826,68.7588,68.7319 ,68.7053,68.6853,68.6505,69.0585, 69.4031,69.9165,70.2903,70.9013,71.4077 ,71.9455,72.0911,72.0802,72.069,72.0576 ,72.0465,72.0353,72.0294,72.0232,72.017 ,72.0107,72.0041,71.9975,71.9913, 71.9851,71.9783,71.9719,71.9655,71.9585 ,71.9514,71.9442,71.9368,71.9293, 71.9217,71.9146,71.9068,71.8988,71.8907 ,71.8824,71.8736,71.8653,71.8561, 71.8482,71.8394,71.8304,71.8212,71.812, 71.8026,71.7926,71.7841,71.7697,71.76, 71.7501,71.7401,71.5419)
ORBIT_NUMBER = 6541
ORBITAL_ECCENTRICITY = 0.576
ORBITAL_INCLINATION = 86.77
ORBITAL_SEMIMAJOR_AXIS = 8687.07
PERIAPSIS_ALTITUDE = 304.91
PERIAPSIS_ARGUMENT_ANGLE = 288.79
PERIAPSIS_TIME = 2009-02-05T02:50:29.000Z
SPACECRAFT_ORIENTATION = (0.0,1.0,0.0)
^MEX_ORIENTATION_DESC = "MEX_ORIENTATION_DESC.TXT"
SPACECRAFT_POINTING_MODE = ACROSSTRACK
^MEX_POINTING_DESC = "MEX_POINTING_DESC.TXT"
RIGHT_ASCENSION = -1e+32
DECLINATION = -1e+32
OFFSET_ANGLE = 0.9
SPACECRAFT_SOLAR_DISTANCE = 2.12399e+08
TARGET_NAME = MARS
/* CAMERA DATA ELEMENTS */
DETECTOR_TEMPERATURE = 18.5744
FOCAL_PLANE_TEMPERATURE = 9.3989
INST_CMPRS_NAME = "DISCRETE COSINE TRANSFORMATION (DCT)"
INST_CMPRS_RATIO = 7.00037
INST_CMPRS_QUALITY = 0
INST_CMPRS_QUANTZ_TBL_ID = 0
INSTRUMENT_TEMPERATURE = 11.234
LENS_TEMPERATURE = 9.6028
MACROPIXEL_SIZE = 1
MISSING_FRAMES = 0
PIXEL_SUBSAMPLING_FLAG = N
SIGNAL_CHAIN_ID = 0
/* RADIOMETRIC DATA ELEMENTS */
BANDWIDTH = 177.0
CENTER_FILTER_WAVELENGTH = 677.5
RADIANCE_OFFSET = 5.83187
RADIANCE_SCALING_FACTOR = 0.0180833
REFLECTANCE_SCALING_FACTOR = 0.000433376
MEX:REFLECTANCE_OFFSET = 0.139764
/* IMAGE OBJECT DEFINITIONS */
OBJECT = IMAGE
  INTERCHANGE_FORMAT = BINARY
  LINES = 31894
  LINE_SAMPLES = 7999
  SAMPLE_TYPE = UNSIGNED_INTEGER
  SAMPLE_BITS = 8
  BANDS = 1
  BAND_STORAGE_TYPE = BAND_SEQUENTIAL
  MAXIMUM = 255
  MEAN = 117.703
  MINIMUM = 1
  STANDARD_DEVIATION = 34.9145
END_OBJECT = IMAGE
/* MAP OBJECT DEFINITIONS */
OBJECT = IMAGE_MAP_PROJECTION
  ^DATA_SET_MAP_PROJECTION_CATALOG= "DSMAP.CAT"
  A_AXIS_RADIUS = 3396.0
  B_AXIS_RADIUS = 3396.0
  C_AXIS_RADIUS = 3396.0
  CENTER_LATITUDE = 0.0
  CENTER_LONGITUDE = 70.0
  COORDINATE_SYSTEM_NAME = PLANETOGRAPHIC
  COORDINATE_SYSTEM_TYPE = "BODY-FIXED ROTATING"
  EASTERNMOST_LONGITUDE = 72.0911
  FIRST_STANDARD_PARALLEL = "N/A"
  LINE_FIRST_PIXEL = 1
  LINE_LAST_PIXEL = 31894
  LINE_PROJECTION_OFFSET = -41111.0
  MAP_PROJECTION_ROTATION = 0.0
  MAP_PROJECTION_TYPE = SINUSOIDAL
  MAP_RESOLUTION = 2370.85521546667
  MAP_SCALE = 0.025
  MAXIMUM_LATITUDE = -17.342
  MINIMUM_LATITUDE = -30.7907
  POSITIVE_LONGITUDE_DIRECTION = EAST
  REFERENCE_LATITUDE = "N/A"
  REFERENCE_LONGITUDE = "N/A"
  SAMPLE_FIRST_PIXEL = 1
  SAMPLE_LAST_PIXEL = 7999
  SAMPLE_PROJECTION_OFFSET = 3208.0
  SECOND_STANDARD_PARALLEL = "N/A"
  WESTERNMOST_LONGITUDE = 68.65049999999999
END_OBJECT = IMAGE_MAP_PROJECTION
/* The JPEG2000 image data file associated with this label. */
OBJECT = COMPRESSED_FILE
  FILE_NAME = "H6541_0000_ND3.JP2"
  RECORD_TYPE = UNDEFINED
  FILE_RECORDS = UNK
  ENCODING_TYPE = "JP2"
  INTERCHANGE_FORMAT = BINARY
  UNCOMPRESSED_FILE_NAME = "H6541_0000_ND3.IMG"
  REQUIRED_STORAGE_BYTES = "255152102"
  ^DESCRIPTION = "JP2INFO.TXT"
END_OBJECT = COMPRESSED_FILE
END
