PDS_VERSION_ID = PDS3
/* FILE DATA ELEMENTS */
RECORD_TYPE = STREAM
/* POINTERS TO DATA OBJECTS */
^COMPRESSED_FILE = "H6541_0000_S13.JP2"
/* IDENTIFICATION DATA ELEMENTS */
DATA_SET_ID = "MEX-M-HRSC-5-REFDR-MAPPROJECTED-V3.0"
DATA_SET_NAME = "MARS EXPRESS HRSC MAP PROJECTED REFDR V3.0"
DETECTOR_ID = MEX_HRSC_S1
EVENT_TYPE = "MARS-REGIONAL-MAPPING-Im-Fl-Gl"
INSTRUMENT_HOST_ID = MEX
INSTRUMENT_HOST_NAME = "MARS EXPRESS"
INSTRUMENT_ID = HRSC
INSTRUMENT_NAME = "HIGH RESOLUTION STEREO CAMERA"
MISSION_NAME = "MARS EXPRESS"
MISSION_PHASE_NAME = ME_Phase_15
PROCESSING_LEVEL_ID = 3
PRODUCT_CREATION_TIME = 2016-06-29T00:46:52.000Z
PRODUCT_ID = "H6541_0000_S13.JP2"
RELEASE_ID = 0073
REVISION_ID = 0000
/* QUALITY DATA ELEMENTS */
DATA_QUALITY_ID = 2
DATA_QUALITY_DESC = "Data calculated based on photogrammetrically improved orbit and attitude data"
/* TIME DATA ELEMENTS */
SPACECRAFT_CLOCK_START_COUNT = "1/0181882809.07284"
SPACECRAFT_CLOCK_STOP_COUNT = "1/0181883275.41065"
START_TIME = 2009-02-05T03:02:31.403Z
STOP_TIME = 2009-02-05T03:07:56.015Z
/* ORBITAL DATA ELEMENTS */
ASCENDING_NODE_LONGITUDE = 93.06
MAXIMUM_RESOLUTION = 62.8
FOOTPRINT_POINT_LATITUDE = (-30.7176,-30.73,-30.7417,-30.753, -30.7638,-30.7742,-30.8642,-30.5632, -30.2628,-29.9629,-29.5151,-29.2149, -28.7652,-28.4679,-28.1768,-27.8864, -27.454,-27.1684,-26.8847,-26.5986, -26.3211,-26.0386,-25.7628,-25.4801, -25.2098,-24.9337,-24.6615,-24.3918, -24.1259,-23.8567,-23.5921,-23.1965, -22.9335,-22.6653,-22.4053,-22.1398, -21.7623,-21.5079,-21.2534,-21.0028, -20.7526,-20.3796,-19.8877,-19.3939, -18.9236,-18.4459,-18.1963,-17.7302, -17.4663,-17.4434,-17.4239,-17.4075, -17.3875,-17.372,-17.3564,-17.3387, -17.3229,-17.3073,-17.2813,-17.7521, -18.2284,-18.7114,-19.2003,-19.5695, -19.9426,-20.3258,-20.5796,-20.9613, -21.2157,-21.4721,-21.7361,-21.9941, -22.2563,-22.6546,-22.9222,-23.3256, -23.5937,-23.8637,-24.1346,-24.5412, -24.8207,-25.2378,-25.5159,-25.7954, -26.2101,-26.5003,-26.7815,-27.0686, -27.3565,-27.6471,-27.9375,-28.2302, -28.5243,-28.8169,-29.1177,-29.5709, -29.875,-30.1776,-30.481,-30.7176)
FOOTPRINT_POINT_LONGITUDE = (71.7963,71.3405,70.882,70.4203,69.9562 ,69.4882,68.8676,68.8621,68.8568, 68.8517,68.8439,68.8403,68.8354,68.8313 ,68.824,68.8167,68.805,68.7963,68.7871, 68.7798,68.768,68.7597,68.7481,68.7408, 68.7272,68.7174,68.7059,68.6936,68.6798 ,68.6683,68.6548,68.6349,68.6219, 68.6119,68.5983,68.588,68.5629,68.5482, 68.5341,68.5185,68.5032,68.48,68.448, 68.4188,68.3805,68.3474,68.3363,68.3006 ,68.7391,69.1528,69.5232,69.8509, 70.2592,70.5851,70.9106,71.2758,71.5997 ,71.923,72.5024,72.4812,72.4599,72.4389 ,72.4179,72.4019,72.386,72.3714,72.3609 ,72.3448,72.3337,72.3227,72.3128, 72.3014,72.2905,72.2745,72.2638,72.2474 ,72.236,72.2246,72.213,72.195,72.1841, 72.1666,72.1546,72.1424,72.1229,72.1117 ,72.0987,72.0862,72.0735,72.0609, 72.0479,72.0349,72.0218,72.0081,71.9951 ,71.9752,71.9617,71.9477,71.9334, 71.7963)
ORBIT_NUMBER = 6541
ORBITAL_ECCENTRICITY = 0.576
ORBITAL_INCLINATION = 86.77
ORBITAL_SEMIMAJOR_AXIS = 8687.07
PERIAPSIS_ALTITUDE = 304.91
PERIAPSIS_ARGUMENT_ANGLE = 288.79
PERIAPSIS_TIME = 2009-02-05T02:50:29.000Z
SPACECRAFT_ORIENTATION = (0.0,1.0,0.0)
^MEX_ORIENTATION_DESC = "MEX_ORIENTATION_DESC.TXT"
SPACECRAFT_POINTING_MODE = ACROSSTRACK
^MEX_POINTING_DESC = "MEX_POINTING_DESC.TXT"
RIGHT_ASCENSION = -1e+32
DECLINATION = -1e+32
OFFSET_ANGLE = 0.9
SPACECRAFT_SOLAR_DISTANCE = 2.12399e+08
TARGET_NAME = MARS
/* CAMERA DATA ELEMENTS */
DETECTOR_TEMPERATURE = 16.3315
FOCAL_PLANE_TEMPERATURE = 9.3989
INST_CMPRS_NAME = "DISCRETE COSINE TRANSFORMATION (DCT)"
INST_CMPRS_RATIO = 10.4194
INST_CMPRS_QUALITY = 0
INST_CMPRS_QUANTZ_TBL_ID = 0
INSTRUMENT_TEMPERATURE = 11.234
LENS_TEMPERATURE = 9.6028
MACROPIXEL_SIZE = 2
MISSING_FRAMES = 0
PIXEL_SUBSAMPLING_FLAG = N
SIGNAL_CHAIN_ID = 1
/* RADIOMETRIC DATA ELEMENTS */
BANDWIDTH = 180.0
CENTER_FILTER_WAVELENGTH = 677.0
RADIANCE_OFFSET = 6.5008
RADIANCE_SCALING_FACTOR = 0.0172384
REFLECTANCE_SCALING_FACTOR = 0.000405733
MEX:REFLECTANCE_OFFSET = 0.153007
/* IMAGE OBJECT DEFINITIONS */
OBJECT = IMAGE
  INTERCHANGE_FORMAT = BINARY
  LINES = 15947
  LINE_SAMPLES = 4000
  SAMPLE_TYPE = UNSIGNED_INTEGER
  SAMPLE_BITS = 8
  BANDS = 1
  BAND_STORAGE_TYPE = BAND_SEQUENTIAL
  MAXIMUM = 255
  MEAN = 132.741
  MINIMUM = 1
  STANDARD_DEVIATION = 37.1151
END_OBJECT = IMAGE
/* MAP OBJECT DEFINITIONS */
OBJECT = IMAGE_MAP_PROJECTION
  ^DATA_SET_MAP_PROJECTION_CATALOG= "DSMAP.CAT"
  A_AXIS_RADIUS = 3396.0
  B_AXIS_RADIUS = 3396.0
  C_AXIS_RADIUS = 3396.0
  CENTER_LATITUDE = 0.0
  CENTER_LONGITUDE = 70.0
  COORDINATE_SYSTEM_NAME = PLANETOGRAPHIC
  COORDINATE_SYSTEM_TYPE = "BODY-FIXED ROTATING"
  EASTERNMOST_LONGITUDE = 72.50239999999999
  FIRST_STANDARD_PARALLEL = "N/A"
  LINE_FIRST_PIXEL = 1
  LINE_LAST_PIXEL = 15947
  LINE_PROJECTION_OFFSET = -20555.75
  MAP_PROJECTION_ROTATION = 0.0
  MAP_PROJECTION_TYPE = SINUSOIDAL
  MAP_RESOLUTION = 1185.42760773333
  MAP_SCALE = 0.05
  MAXIMUM_LATITUDE = -17.2813
  MINIMUM_LATITUDE = -30.8642
  POSITIVE_LONGITUDE_DIRECTION = EAST
  REFERENCE_LATITUDE = "N/A"
  REFERENCE_LONGITUDE = "N/A"
  SAMPLE_FIRST_PIXEL = 1
  SAMPLE_LAST_PIXEL = 4000
  SAMPLE_PROJECTION_OFFSET = 1603.75
  SECOND_STANDARD_PARALLEL = "N/A"
  WESTERNMOST_LONGITUDE = 68.3006
END_OBJECT = IMAGE_MAP_PROJECTION
/* The JPEG2000 image data file associated with this label. */
OBJECT = COMPRESSED_FILE
  FILE_NAME = "H6541_0000_S13.JP2"
  RECORD_TYPE = UNDEFINED
  FILE_RECORDS = UNK
  ENCODING_TYPE = "JP2"
  INTERCHANGE_FORMAT = BINARY
  UNCOMPRESSED_FILE_NAME = "H6541_0000_S13.IMG"
  REQUIRED_STORAGE_BYTES = "63812000"
  ^DESCRIPTION = "JP2INFO.TXT"
END_OBJECT = COMPRESSED_FILE
END
