PDS_VERSION_ID = PDS3
/* FILE DATA ELEMENTS */
RECORD_TYPE = STREAM
/* POINTERS TO DATA OBJECTS */
^COMPRESSED_FILE = "H6545_0000_IR3.JP2"
/* IDENTIFICATION DATA ELEMENTS */
DATA_SET_ID = "MEX-M-HRSC-5-REFDR-MAPPROJECTED-V3.0"
DATA_SET_NAME = "MARS EXPRESS HRSC MAP PROJECTED REFDR V3.0"
DETECTOR_ID = MEX_HRSC_IR
EVENT_TYPE = "MARS-REGIONAL-MAPPING-Te-Im-Fl"
INSTRUMENT_HOST_ID = MEX
INSTRUMENT_HOST_NAME = "MARS EXPRESS"
INSTRUMENT_ID = HRSC
INSTRUMENT_NAME = "HIGH RESOLUTION STEREO CAMERA"
MISSION_NAME = "MARS EXPRESS"
MISSION_PHASE_NAME = ME_Phase_15
PROCESSING_LEVEL_ID = 3
PRODUCT_CREATION_TIME = 2016-06-29T00:46:52.000Z
PRODUCT_ID = "H6545_0000_IR3.JP2"
RELEASE_ID = 0073
REVISION_ID = 0000
/* QUALITY DATA ELEMENTS */
DATA_QUALITY_ID = 2
DATA_QUALITY_DESC = "Data calculated based on photogrammetrically improved orbit and attitude data"
/* TIME DATA ELEMENTS */
SPACECRAFT_CLOCK_START_COUNT = "1/0181982110.09124"
SPACECRAFT_CLOCK_STOP_COUNT = "1/0181982674.08463"
START_TIME = 2009-02-06T06:37:26.667Z
STOP_TIME = 2009-02-06T06:43:55.356Z
/* ORBITAL DATA ELEMENTS */
ASCENDING_NODE_LONGITUDE = 92.99
MAXIMUM_RESOLUTION = 125.6
FOOTPRINT_POINT_LATITUDE = (-29.771,-29.785,-29.7984,-29.8113, -29.8237,-29.8355,-29.8467,-29.3211, -28.9606,-28.6038,-28.2445,-27.89, -27.5375,-27.1871,-26.8392,-26.3303, -25.9864,-25.4683,-25.13,-24.7934, -24.2946,-23.9599,-23.6302,-23.3025, -22.8148,-22.4915,-22.1712,-21.8526, -21.5356,-21.2198,-20.9047,-20.5936, -20.1313,-19.676,-19.2199,-18.921, -18.6224,-18.3252,-18.0313,-17.5912, -17.2999,-17.0109,-16.7239,-16.3011, -16.0145,-15.4574,-14.9058,-14.3607, -14.0431,-14.0169,-13.9985,-13.9734, -13.9353,-13.9151,-13.8885,-13.8686, -13.8473,-13.8137,-14.065,-14.6102, -15.1723,-15.74,-16.315,-16.6043, -16.8986,-17.1903,-17.4865,-17.7838, -18.0827,-18.534,-18.8355,-19.2959, -19.7607,-20.0724,-20.3853,-20.7002, -21.0169,-21.3352,-21.6554,-21.9769, -22.298,-22.7918,-23.1304,-23.4612, -23.7926,-24.1178,-24.4587,-24.97, -25.3046,-25.6494,-25.9951,-26.3429, -26.8693,-27.2191,-27.5738,-27.9297, -28.2879,-28.6497,-29.1949,-29.771)
FOOTPRINT_POINT_LONGITUDE = (27.887,27.4402,26.9892,26.5339,26.0744 ,25.6101,25.1402,24.9615,24.9556, 24.9475,24.9428,24.9352,24.9272,24.9185 ,24.9088,24.886,24.8761,24.8652,24.8535 ,24.8418,24.8215,24.8109,24.7977, 24.7839,24.7626,24.7483,24.7328,24.7172 ,24.7014,24.6859,24.6708,24.6539, 24.6275,24.5984,24.5721,24.5523,24.5333 ,24.5142,24.494,24.4649,24.4453,24.4251 ,24.4045,24.3705,24.3518,24.3071, 24.2625,24.2172,24.4493,24.8405,25.1423 ,25.5292,26.1268,26.4663,26.8894, 27.2266,27.7303,28.3159,28.7353,28.7107 ,28.6876,28.6641,28.6405,28.6285, 28.6169,28.6046,28.5926,28.5805,28.5683 ,28.5497,28.537,28.5184,28.4996,28.4869 ,28.474,28.461,28.4479,28.4346,28.4212, 28.4077,28.3938,28.3734,28.3601,28.3459 ,28.3314,28.3163,28.3019,28.2797, 28.2642,28.2489,28.2333,28.2176,28.1936 ,28.1772,28.1606,28.1437,28.1266, 28.1093,28.0826,27.887)
ORBIT_NUMBER = 6545
ORBITAL_ECCENTRICITY = 0.576
ORBITAL_INCLINATION = 86.76
ORBITAL_SEMIMAJOR_AXIS = 8686.45
PERIAPSIS_ALTITUDE = 305.89
PERIAPSIS_ARGUMENT_ANGLE = 288.1
PERIAPSIS_TIME = 2009-02-06T06:25:04.000Z
SPACECRAFT_ORIENTATION = (0.0,1.0,0.0)
^MEX_ORIENTATION_DESC = "MEX_ORIENTATION_DESC.TXT"
SPACECRAFT_POINTING_MODE = ACROSSTRACK
^MEX_POINTING_DESC = "MEX_POINTING_DESC.TXT"
RIGHT_ASCENSION = -1e+32
DECLINATION = -1e+32
OFFSET_ANGLE = 1.4
SPACECRAFT_SOLAR_DISTANCE = 2.12236e+08
TARGET_NAME = MARS
/* CAMERA DATA ELEMENTS */
DETECTOR_TEMPERATURE = 17.7588
FOCAL_PLANE_TEMPERATURE = 8.7872
INST_CMPRS_NAME = "DISCRETE COSINE TRANSFORMATION (DCT)"
INST_CMPRS_RATIO = 10.3005
INST_CMPRS_QUALITY = 0
INST_CMPRS_QUANTZ_TBL_ID = 0
INSTRUMENT_TEMPERATURE = 11.6418
LENS_TEMPERATURE = 8.9911
MACROPIXEL_SIZE = 4
MISSING_FRAMES = 0
PIXEL_SUBSAMPLING_FLAG = N
SIGNAL_CHAIN_ID = 2
/* RADIOMETRIC DATA ELEMENTS */
BANDWIDTH = 81.0
CENTER_FILTER_WAVELENGTH = 955.5
RADIANCE_OFFSET = 1.31899
RADIANCE_SCALING_FACTOR = 0.00714301
REFLECTANCE_SCALING_FACTOR = 0.00069413
MEX:REFLECTANCE_OFFSET = 0.128175
/* IMAGE OBJECT DEFINITIONS */
OBJECT = IMAGE
  INTERCHANGE_FORMAT = BINARY
  LINES = 9468
  LINE_SAMPLES = 2258
  SAMPLE_TYPE = UNSIGNED_INTEGER
  SAMPLE_BITS = 8
  BANDS = 1
  BAND_STORAGE_TYPE = BAND_SEQUENTIAL
  MAXIMUM = 255
  MEAN = 153.884
  MINIMUM = 1
  STANDARD_DEVIATION = 32.0682
END_OBJECT = IMAGE
/* MAP OBJECT DEFINITIONS */
OBJECT = IMAGE_MAP_PROJECTION
  ^DATA_SET_MAP_PROJECTION_CATALOG= "DSMAP.CAT"
  A_AXIS_RADIUS = 3396.0
  B_AXIS_RADIUS = 3396.0
  C_AXIS_RADIUS = 3396.0
  CENTER_LATITUDE = 0.0
  CENTER_LONGITUDE = 27.0
  COORDINATE_SYSTEM_NAME = PLANETOGRAPHIC
  COORDINATE_SYSTEM_TYPE = "BODY-FIXED ROTATING"
  EASTERNMOST_LONGITUDE = 28.7353
  FIRST_STANDARD_PARALLEL = "N/A"
  LINE_FIRST_PIXEL = 1
  LINE_LAST_PIXEL = 9468
  LINE_PROJECTION_OFFSET = -8233.375
  MAP_PROJECTION_ROTATION = 0.0
  MAP_PROJECTION_TYPE = SINUSOIDAL
  MAP_RESOLUTION = 592.713803866667
  MAP_SCALE = 0.1
  MAXIMUM_LATITUDE = -13.8137
  MINIMUM_LATITUDE = -29.8467
  POSITIVE_LONGITUDE_DIRECTION = EAST
  REFERENCE_LATITUDE = "N/A"
  REFERENCE_LONGITUDE = "N/A"
  SAMPLE_FIRST_PIXEL = 1
  SAMPLE_LAST_PIXEL = 2258
  SAMPLE_PROJECTION_OFFSET = 1464.625
  SECOND_STANDARD_PARALLEL = "N/A"
  WESTERNMOST_LONGITUDE = 24.2172
END_OBJECT = IMAGE_MAP_PROJECTION
/* The JPEG2000 image data file associated with this label. */
OBJECT = COMPRESSED_FILE
  FILE_NAME = "H6545_0000_IR3.JP2"
  RECORD_TYPE = UNDEFINED
  FILE_RECORDS = UNK
  ENCODING_TYPE = "JP2"
  INTERCHANGE_FORMAT = BINARY
  UNCOMPRESSED_FILE_NAME = "H6545_0000_IR3.IMG"
  REQUIRED_STORAGE_BYTES = "21401324"
  ^DESCRIPTION = "JP2INFO.TXT"
END_OBJECT = COMPRESSED_FILE
END
