PDS_VERSION_ID = PDS3
/* FILE DATA ELEMENTS */
RECORD_TYPE = STREAM
/* POINTERS TO DATA OBJECTS */
^COMPRESSED_FILE = "H6545_0000_ND3.JP2"
/* IDENTIFICATION DATA ELEMENTS */
DATA_SET_ID = "MEX-M-HRSC-5-REFDR-MAPPROJECTED-V3.0"
DATA_SET_NAME = "MARS EXPRESS HRSC MAP PROJECTED REFDR V3.0"
DETECTOR_ID = MEX_HRSC_NADIR
EVENT_TYPE = "MARS-REGIONAL-MAPPING-Te-Im-Fl"
INSTRUMENT_HOST_ID = MEX
INSTRUMENT_HOST_NAME = "MARS EXPRESS"
INSTRUMENT_ID = HRSC
INSTRUMENT_NAME = "HIGH RESOLUTION STEREO CAMERA"
MISSION_NAME = "MARS EXPRESS"
MISSION_PHASE_NAME = ME_Phase_15
PROCESSING_LEVEL_ID = 3
PRODUCT_CREATION_TIME = 2016-06-29T00:46:52.000Z
PRODUCT_ID = "H6545_0000_ND3.JP2"
RELEASE_ID = 0073
REVISION_ID = 0000
/* QUALITY DATA ELEMENTS */
DATA_QUALITY_ID = 2
DATA_QUALITY_DESC = "Data calculated based on photogrammetrically improved orbit and attitude data"
/* TIME DATA ELEMENTS */
SPACECRAFT_CLOCK_START_COUNT = "1/0181982110.09124"
SPACECRAFT_CLOCK_STOP_COUNT = "1/0181982674.08463"
START_TIME = 2009-02-06T06:36:17.961Z
STOP_TIME = 2009-02-06T06:41:35.921Z
/* ORBITAL DATA ELEMENTS */
ASCENDING_NODE_LONGITUDE = 92.99
MAXIMUM_RESOLUTION = 27
FOOTPRINT_POINT_LATITUDE = (-29.8602,-29.8575,-29.8534,-29.8479, -29.8409,-29.8322,-29.6585,-29.3322, -29.0022,-28.6699,-28.336,-27.8294, -27.4899,-27.1516,-26.8143,-26.478, -26.1431,-25.8096,-25.477,-25.1456, -24.8153,-24.4863,-24.1584,-23.8316, -23.506,-23.1815,-22.8583,-22.5361, -22.2152,-21.8953,-21.5767,-21.2593, -20.943,-20.6278,-20.3137,-20.0008, -19.6891,-19.3786,-19.0692,-18.761, -18.4539,-18.1479,-17.8431,-17.5395, -16.9357,-16.3363,-15.7417,-15.1515, -14.5658,-13.9846,-13.9563,-13.9445, -13.9283,-13.9162,-13.9038,-13.8883, -14.4755,-15.0671,-15.6629,-16.2632, -16.8679,-17.1719,-17.477,-17.7833, -18.0906,-18.3991,-18.7088,-19.0196, -19.3314,-19.6443,-19.9584,-20.2737, -20.59,-20.9075,-21.2262,-21.5459, -21.8669,-22.1889,-22.5121,-22.8362, -23.1616,-23.4882,-23.8159,-24.145, -24.4748,-24.8059,-25.1382,-25.4717, -25.8062,-26.1419,-26.4787,-26.8166, -27.1557,-27.4958,-27.8372,-28.3467, -28.6828,-29.0169,-29.3485,-29.8602)
FOOTPRINT_POINT_LONGITUDE = (27.7093,27.2847,26.8556,26.4223, 25.9846,25.5416,25.12,25.1176,25.1155, 25.1078,25.1099,25.1024,25.0972,25.0925 ,25.0856,25.0718,25.0649,25.0639, 25.0563,25.0487,25.0405,25.0324,25.024, 25.0142,25.0047,24.995,24.9855,24.974, 24.962,24.9499,24.9384,24.9272,24.9159, 24.9026,24.8853,24.8713,24.8591,24.8462 ,24.831,24.8155,24.8004,24.7833,24.7678 ,24.7533,24.7215,24.6816,24.6518, 24.6149,24.5773,24.539,25.3085,25.9947, 26.7856,27.3088,27.7913,28.3646,28.352, 28.339,28.326,28.3126,28.2988,28.2918, 28.2846,28.2773,28.2701,28.2623,28.2546 ,28.2467,28.2389,28.2309,28.2227, 28.2143,28.2059,28.1972,28.1884,28.1794 ,28.1703,28.161,28.1515,28.142,28.1321, 28.1221,28.1119,28.1015,28.0909,28.0801 ,28.0691,28.058,28.0465,28.0349,28.023, 28.0109,27.9986,27.986,27.9731,27.9536, 27.9405,27.927,27.9134,27.7093)
ORBIT_NUMBER = 6545
ORBITAL_ECCENTRICITY = 0.576
ORBITAL_INCLINATION = 86.76
ORBITAL_SEMIMAJOR_AXIS = 8686.45
PERIAPSIS_ALTITUDE = 305.89
PERIAPSIS_ARGUMENT_ANGLE = 288.1
PERIAPSIS_TIME = 2009-02-06T06:25:04.000Z
SPACECRAFT_ORIENTATION = (0.0,1.0,0.0)
^MEX_ORIENTATION_DESC = "MEX_ORIENTATION_DESC.TXT"
SPACECRAFT_POINTING_MODE = ACROSSTRACK
^MEX_POINTING_DESC = "MEX_POINTING_DESC.TXT"
RIGHT_ASCENSION = -1e+32
DECLINATION = -1e+32
OFFSET_ANGLE = 1.4
SPACECRAFT_SOLAR_DISTANCE = 2.12236e+08
TARGET_NAME = MARS
/* CAMERA DATA ELEMENTS */
DETECTOR_TEMPERATURE = 18.5744
FOCAL_PLANE_TEMPERATURE = 8.7872
INST_CMPRS_NAME = "DISCRETE COSINE TRANSFORMATION (DCT)"
INST_CMPRS_RATIO = 6.93433
INST_CMPRS_QUALITY = 0
INST_CMPRS_QUANTZ_TBL_ID = 0
INSTRUMENT_TEMPERATURE = 11.6418
LENS_TEMPERATURE = 8.9911
MACROPIXEL_SIZE = 1
MISSING_FRAMES = 0
PIXEL_SUBSAMPLING_FLAG = N
SIGNAL_CHAIN_ID = 0
/* RADIOMETRIC DATA ELEMENTS */
BANDWIDTH = 177.0
CENTER_FILTER_WAVELENGTH = 677.5
RADIANCE_OFFSET = 5.82329
RADIANCE_SCALING_FACTOR = 0.025095
REFLECTANCE_SCALING_FACTOR = 0.000600486
MEX:REFLECTANCE_OFFSET = 0.139343
/* IMAGE OBJECT DEFINITIONS */
OBJECT = IMAGE
  INTERCHANGE_FORMAT = BINARY
  LINES = 37870
  LINE_SAMPLES = 9032
  SAMPLE_TYPE = UNSIGNED_INTEGER
  SAMPLE_BITS = 8
  BANDS = 1
  BAND_STORAGE_TYPE = BAND_SEQUENTIAL
  MAXIMUM = 255
  MEAN = 153.11
  MINIMUM = 1
  STANDARD_DEVIATION = 31.0502
END_OBJECT = IMAGE
/* MAP OBJECT DEFINITIONS */
OBJECT = IMAGE_MAP_PROJECTION
  ^DATA_SET_MAP_PROJECTION_CATALOG= "DSMAP.CAT"
  A_AXIS_RADIUS = 3396.0
  B_AXIS_RADIUS = 3396.0
  C_AXIS_RADIUS = 3396.0
  CENTER_LATITUDE = 0.0
  CENTER_LONGITUDE = 27.0
  COORDINATE_SYSTEM_NAME = PLANETOGRAPHIC
  COORDINATE_SYSTEM_TYPE = "BODY-FIXED ROTATING"
  EASTERNMOST_LONGITUDE = 28.3646
  FIRST_STANDARD_PARALLEL = "N/A"
  LINE_FIRST_PIXEL = 1
  LINE_LAST_PIXEL = 37870
  LINE_PROJECTION_OFFSET = -32932.0
  MAP_PROJECTION_ROTATION = 0.0
  MAP_PROJECTION_TYPE = SINUSOIDAL
  MAP_RESOLUTION = 2370.85521546667
  MAP_SCALE = 0.025
  MAXIMUM_LATITUDE = -13.8883
  MINIMUM_LATITUDE = -29.8602
  POSITIVE_LONGITUDE_DIRECTION = EAST
  REFERENCE_LATITUDE = "N/A"
  REFERENCE_LONGITUDE = "N/A"
  SAMPLE_FIRST_PIXEL = 1
  SAMPLE_LAST_PIXEL = 9032
  SAMPLE_PROJECTION_OFFSET = 5860.0
  SECOND_STANDARD_PARALLEL = "N/A"
  WESTERNMOST_LONGITUDE = 24.539
END_OBJECT = IMAGE_MAP_PROJECTION
/* The JPEG2000 image data file associated with this label. */
OBJECT = COMPRESSED_FILE
  FILE_NAME = "H6545_0000_ND3.JP2"
  RECORD_TYPE = UNDEFINED
  FILE_RECORDS = UNK
  ENCODING_TYPE = "JP2"
  INTERCHANGE_FORMAT = BINARY
  UNCOMPRESSED_FILE_NAME = "H6545_0000_ND3.IMG"
  REQUIRED_STORAGE_BYTES = "342077968"
  ^DESCRIPTION = "JP2INFO.TXT"
END_OBJECT = COMPRESSED_FILE
END
