PDS_VERSION_ID = PDS3
/* FILE DATA ELEMENTS */
RECORD_TYPE = STREAM
/* POINTERS TO DATA OBJECTS */
^COMPRESSED_FILE = "H6545_0000_P13.JP2"
/* IDENTIFICATION DATA ELEMENTS */
DATA_SET_ID = "MEX-M-HRSC-5-REFDR-MAPPROJECTED-V3.0"
DATA_SET_NAME = "MARS EXPRESS HRSC MAP PROJECTED REFDR V3.0"
DETECTOR_ID = MEX_HRSC_P1
EVENT_TYPE = "MARS-REGIONAL-MAPPING-Te-Im-Fl"
INSTRUMENT_HOST_ID = MEX
INSTRUMENT_HOST_NAME = "MARS EXPRESS"
INSTRUMENT_ID = HRSC
INSTRUMENT_NAME = "HIGH RESOLUTION STEREO CAMERA"
MISSION_NAME = "MARS EXPRESS"
MISSION_PHASE_NAME = ME_Phase_15
PROCESSING_LEVEL_ID = 3
PRODUCT_CREATION_TIME = 2016-06-29T00:46:52.000Z
PRODUCT_ID = "H6545_0000_P13.JP2"
RELEASE_ID = 0073
REVISION_ID = 0000
/* QUALITY DATA ELEMENTS */
DATA_QUALITY_ID = 2
DATA_QUALITY_DESC = "Data calculated based on photogrammetrically improved orbit and attitude data"
/* TIME DATA ELEMENTS */
SPACECRAFT_CLOCK_START_COUNT = "1/0181982110.09124"
SPACECRAFT_CLOCK_STOP_COUNT = "1/0181982674.08463"
START_TIME = 2009-02-06T06:37:10.680Z
STOP_TIME = 2009-02-06T06:43:20.481Z
/* ORBITAL DATA ELEMENTS */
ASCENDING_NODE_LONGITUDE = 92.99
MAXIMUM_RESOLUTION = 60.2
FOOTPRINT_POINT_LATITUDE = (-29.8045,-29.8149,-29.8244,-29.8332, -29.8411,-29.8483,-29.3258,-28.9696, -28.6173,-28.2608,-27.9104,-27.5615, -27.2136,-26.8687,-26.531,-26.1905, -25.8461,-25.5057,-25.169,-24.8338, -24.335,-24.0026,-23.6737,-23.3467, -22.8583,-22.5358,-22.2151,-21.8957, -21.5779,-21.2615,-20.9458,-20.6326, -20.3225,-20.0158,-19.7083,-19.2496, -18.9475,-18.6462,-18.3463,-18.0494, -17.7517,-17.4569,-16.8705,-16.2982, -15.7217,-15.1563,-14.5973,-14.0454, -14.0163,-13.9984,-13.9712,-13.9514, -13.9341,-13.9027,-13.8791,-13.8575, -13.8405,-13.8238,-14.2335,-14.7942, -15.3665,-15.9447,-16.5289,-17.2692, -17.5679,-17.8681,-18.1695,-18.473, -18.7767,-19.2379,-19.7047,-20.0168, -20.3304,-20.6456,-20.9623,-21.281, -21.6006,-21.9221,-22.2435,-22.7358, -23.0699,-23.3993,-23.7299,-24.0563, -24.3912,-24.7307,-25.0687,-25.5747, -25.9172,-26.2617,-26.7829,-27.1289, -27.4792,-27.8309,-28.1845,-28.5394, -29.0772,-29.4379,-29.7954,-29.8045)
FOOTPRINT_POINT_LONGITUDE = (27.5627,27.1071,26.6467,26.1821, 25.7126,25.2371,24.9957,24.9904,24.9822 ,24.9802,24.9728,24.9652,24.958,24.949, 24.9336,24.9228,24.9175,24.9094,24.8987 ,24.8879,24.8702,24.8599,24.8476, 24.8346,24.8156,24.8016,24.787,24.7726, 24.7579,24.7432,24.729,24.7138,24.697, 24.6783,24.6616,24.6364,24.6179,24.5998 ,24.5816,24.5621,24.5444,24.5253, 24.4877,24.4429,24.4058,24.3638,24.321, 24.2766,24.6645,25.0091,25.523,25.864, 26.2027,26.7928,27.2542,27.7966,28.1296 ,28.4619,28.6274,28.6064,28.5863, 28.5658,28.545,28.5188,28.5081,28.4973, 28.4864,28.4755,28.4642,28.4476,28.4309 ,28.4195,28.4079,28.3962,28.3844, 28.3725,28.3603,28.3481,28.3355,28.317, 28.3047,28.2917,28.2785,28.2648,28.2514 ,28.2379,28.224,28.2027,28.1883,28.1738 ,28.1515,28.1363,28.1209,28.1053, 28.0893,28.0732,28.0483,28.0314,28.0143 ,27.5627)
ORBIT_NUMBER = 6545
ORBITAL_ECCENTRICITY = 0.576
ORBITAL_INCLINATION = 86.76
ORBITAL_SEMIMAJOR_AXIS = 8686.45
PERIAPSIS_ALTITUDE = 305.89
PERIAPSIS_ARGUMENT_ANGLE = 288.1
PERIAPSIS_TIME = 2009-02-06T06:25:04.000Z
SPACECRAFT_ORIENTATION = (0.0,1.0,0.0)
^MEX_ORIENTATION_DESC = "MEX_ORIENTATION_DESC.TXT"
SPACECRAFT_POINTING_MODE = ACROSSTRACK
^MEX_POINTING_DESC = "MEX_POINTING_DESC.TXT"
RIGHT_ASCENSION = -1e+32
DECLINATION = -1e+32
OFFSET_ANGLE = 1.4
SPACECRAFT_SOLAR_DISTANCE = 2.12236e+08
TARGET_NAME = MARS
/* CAMERA DATA ELEMENTS */
DETECTOR_TEMPERATURE = 17.7588
FOCAL_PLANE_TEMPERATURE = 8.7872
INST_CMPRS_NAME = "DISCRETE COSINE TRANSFORMATION (DCT)"
INST_CMPRS_RATIO = 8.90064
INST_CMPRS_QUALITY = 0
INST_CMPRS_QUANTZ_TBL_ID = 0
INSTRUMENT_TEMPERATURE = 11.6418
LENS_TEMPERATURE = 8.9911
MACROPIXEL_SIZE = 2
MISSING_FRAMES = 0
PIXEL_SUBSAMPLING_FLAG = N
SIGNAL_CHAIN_ID = 3
/* RADIOMETRIC DATA ELEMENTS */
BANDWIDTH = 174.0
CENTER_FILTER_WAVELENGTH = 675.0
RADIANCE_OFFSET = 6.21718
RADIANCE_SCALING_FACTOR = 0.0223826
REFLECTANCE_SCALING_FACTOR = 0.000542286
MEX:REFLECTANCE_OFFSET = 0.15063
/* IMAGE OBJECT DEFINITIONS */
OBJECT = IMAGE
  INTERCHANGE_FORMAT = BINARY
  LINES = 18935
  LINE_SAMPLES = 4516
  SAMPLE_TYPE = UNSIGNED_INTEGER
  SAMPLE_BITS = 8
  BANDS = 1
  BAND_STORAGE_TYPE = BAND_SEQUENTIAL
  MAXIMUM = 255
  MEAN = 152.743
  MINIMUM = 1
  STANDARD_DEVIATION = 31.299
END_OBJECT = IMAGE
/* MAP OBJECT DEFINITIONS */
OBJECT = IMAGE_MAP_PROJECTION
  ^DATA_SET_MAP_PROJECTION_CATALOG= "DSMAP.CAT"
  A_AXIS_RADIUS = 3396.0
  B_AXIS_RADIUS = 3396.0
  C_AXIS_RADIUS = 3396.0
  CENTER_LATITUDE = 0.0
  CENTER_LONGITUDE = 27.0
  COORDINATE_SYSTEM_NAME = PLANETOGRAPHIC
  COORDINATE_SYSTEM_TYPE = "BODY-FIXED ROTATING"
  EASTERNMOST_LONGITUDE = 28.6274
  FIRST_STANDARD_PARALLEL = "N/A"
  LINE_FIRST_PIXEL = 1
  LINE_LAST_PIXEL = 18935
  LINE_PROJECTION_OFFSET = -16466.25
  MAP_PROJECTION_ROTATION = 0.0
  MAP_PROJECTION_TYPE = SINUSOIDAL
  MAP_RESOLUTION = 1185.42760773333
  MAP_SCALE = 0.05
  MAXIMUM_LATITUDE = -13.8238
  MINIMUM_LATITUDE = -29.8483
  POSITIVE_LONGITUDE_DIRECTION = EAST
  REFERENCE_LATITUDE = "N/A"
  REFERENCE_LONGITUDE = "N/A"
  SAMPLE_FIRST_PIXEL = 1
  SAMPLE_LAST_PIXEL = 4516
  SAMPLE_PROJECTION_OFFSET = 2929.75
  SECOND_STANDARD_PARALLEL = "N/A"
  WESTERNMOST_LONGITUDE = 24.2766
END_OBJECT = IMAGE_MAP_PROJECTION
/* The JPEG2000 image data file associated with this label. */
OBJECT = COMPRESSED_FILE
  FILE_NAME = "H6545_0000_P13.JP2"
  RECORD_TYPE = UNDEFINED
  FILE_RECORDS = UNK
  ENCODING_TYPE = "JP2"
  INTERCHANGE_FORMAT = BINARY
  UNCOMPRESSED_FILE_NAME = "H6545_0000_P13.IMG"
  REQUIRED_STORAGE_BYTES = "85537556"
  ^DESCRIPTION = "JP2INFO.TXT"
END_OBJECT = COMPRESSED_FILE
END
