PDS_VERSION_ID = PDS3
/* FILE DATA ELEMENTS */
RECORD_TYPE = STREAM
/* POINTERS TO DATA OBJECTS */
^COMPRESSED_FILE = "H6545_0000_S13.JP2"
/* IDENTIFICATION DATA ELEMENTS */
DATA_SET_ID = "MEX-M-HRSC-5-REFDR-MAPPROJECTED-V3.0"
DATA_SET_NAME = "MARS EXPRESS HRSC MAP PROJECTED REFDR V3.0"
DETECTOR_ID = MEX_HRSC_S1
EVENT_TYPE = "MARS-REGIONAL-MAPPING-Te-Im-Fl"
INSTRUMENT_HOST_ID = MEX
INSTRUMENT_HOST_NAME = "MARS EXPRESS"
INSTRUMENT_ID = HRSC
INSTRUMENT_NAME = "HIGH RESOLUTION STEREO CAMERA"
MISSION_NAME = "MARS EXPRESS"
MISSION_PHASE_NAME = ME_Phase_15
PROCESSING_LEVEL_ID = 3
PRODUCT_CREATION_TIME = 2016-06-29T00:46:52.000Z
PRODUCT_ID = "H6545_0000_S13.JP2"
RELEASE_ID = 0073
REVISION_ID = 0000
/* QUALITY DATA ELEMENTS */
DATA_QUALITY_ID = 2
DATA_QUALITY_DESC = "Data calculated based on photogrammetrically improved orbit and attitude data"
/* TIME DATA ELEMENTS */
SPACECRAFT_CLOCK_START_COUNT = "1/0181982110.09124"
SPACECRAFT_CLOCK_STOP_COUNT = "1/0181982674.08463"
START_TIME = 2009-02-06T06:37:43.396Z
STOP_TIME = 2009-02-06T06:44:34.638Z
/* ORBITAL DATA ELEMENTS */
ASCENDING_NODE_LONGITUDE = 92.99
MAXIMUM_RESOLUTION = 65.6
FOOTPRINT_POINT_LATITUDE = (-29.7547,-29.7732,-29.7912,-29.809, -29.8263,-29.8433,-29.6947,-29.3258, -28.9586,-28.5948,-28.2306,-27.8707, -27.5129,-27.1577,-26.8055,-26.4669, -26.1185,-25.7634,-25.4207,-25.0794, -24.7409,-24.4065,-24.0673,-23.7354, -23.4049,-23.0762,-22.7512,-22.2669, -21.9472,-21.6292,-21.3134,-20.9991, -20.6867,-20.3789,-19.917,-19.6127, -19.3154,-19.0191,-18.5741,-18.2786, -17.699,-16.9814,-16.4175,-15.8659, -15.1849,-14.6477,-14.1188,-14.0431, -14.0122,-13.9845,-13.9386,-13.8992, -13.8731,-13.8438,-13.8336,-13.8043, -13.7809,-14.1667,-14.7077,-15.2614, -15.8217,-16.3893,-16.6787,-17.2581, -17.5529,-17.8484,-18.146,-18.4446, -18.7449,-19.0474,-19.3537,-19.6647, -19.9757,-20.2882,-20.6027,-20.9191, -21.2374,-21.5578,-21.8804,-22.2028, -22.5284,-22.8599,-23.2068,-23.5401, -24.0349,-24.5483,-24.8929,-25.2322, -25.578,-25.9281,-26.2802,-26.8142, -27.1685,-27.5285,-27.8901,-28.2545, -28.6215,-28.9886,-29.3602,-29.7547)
FOOTPRINT_POINT_LONGITUDE = (27.8897,27.4107,26.9271,26.4388,25.946 ,25.4471,24.9135,24.9068,24.9,24.8917, 24.8849,24.8761,24.8669,24.857,24.8461, 24.827,24.8158,24.81,24.7969,24.784, 24.7704,24.7551,24.7439,24.729,24.7143, 24.6994,24.6832,24.6588,24.6419,24.6249 ,24.6075,24.5902,24.5727,24.5535, 24.5264,24.5074,24.4855,24.4639,24.4334 ,24.4135,24.3702,24.317,24.2729,24.2256 ,24.1667,24.1192,24.0706,24.7335, 25.1586,25.5347,26.1421,26.699,27.069, 27.4835,27.851,28.3094,28.6751,28.8526, 28.8247,28.7975,28.77,28.7423,28.7287, 28.7008,28.6871,28.6731,28.659,28.6448, 28.6305,28.6161,28.6018,28.5878,28.5734 ,28.5589,28.5443,28.5295,28.5146, 28.4996,28.4845,28.4691,28.4536,28.4384 ,28.424,28.4081,28.3835,28.3594,28.3431 ,28.3262,28.3093,28.2923,28.2752,28.249 ,28.2312,28.2132,28.195,28.1765,28.1577 ,28.1386,28.1193,27.8897)
ORBIT_NUMBER = 6545
ORBITAL_ECCENTRICITY = 0.576
ORBITAL_INCLINATION = 86.76
ORBITAL_SEMIMAJOR_AXIS = 8686.45
PERIAPSIS_ALTITUDE = 305.89
PERIAPSIS_ARGUMENT_ANGLE = 288.1
PERIAPSIS_TIME = 2009-02-06T06:25:04.000Z
SPACECRAFT_ORIENTATION = (0.0,1.0,0.0)
^MEX_ORIENTATION_DESC = "MEX_ORIENTATION_DESC.TXT"
SPACECRAFT_POINTING_MODE = ACROSSTRACK
^MEX_POINTING_DESC = "MEX_POINTING_DESC.TXT"
RIGHT_ASCENSION = -1e+32
DECLINATION = -1e+32
OFFSET_ANGLE = 1.4
SPACECRAFT_SOLAR_DISTANCE = 2.12236e+08
TARGET_NAME = MARS
/* CAMERA DATA ELEMENTS */
DETECTOR_TEMPERATURE = 17.7588
FOCAL_PLANE_TEMPERATURE = 8.7872
INST_CMPRS_NAME = "DISCRETE COSINE TRANSFORMATION (DCT)"
INST_CMPRS_RATIO = 9.56686
INST_CMPRS_QUALITY = 0
INST_CMPRS_QUANTZ_TBL_ID = 0
INSTRUMENT_TEMPERATURE = 11.6418
LENS_TEMPERATURE = 8.9911
MACROPIXEL_SIZE = 2
MISSING_FRAMES = 0
PIXEL_SUBSAMPLING_FLAG = N
SIGNAL_CHAIN_ID = 1
/* RADIOMETRIC DATA ELEMENTS */
BANDWIDTH = 180.0
CENTER_FILTER_WAVELENGTH = 677.0
RADIANCE_OFFSET = 6.48513
RADIANCE_SCALING_FACTOR = 0.023599
REFLECTANCE_SCALING_FACTOR = 0.000554584
MEX:REFLECTANCE_OFFSET = 0.152403
/* IMAGE OBJECT DEFINITIONS */
OBJECT = IMAGE
  INTERCHANGE_FORMAT = BINARY
  LINES = 18935
  LINE_SAMPLES = 4516
  SAMPLE_TYPE = UNSIGNED_INTEGER
  SAMPLE_BITS = 8
  BANDS = 1
  BAND_STORAGE_TYPE = BAND_SEQUENTIAL
  MAXIMUM = 255
  MEAN = 159.928
  MINIMUM = 1
  STANDARD_DEVIATION = 30.1341
END_OBJECT = IMAGE
/* MAP OBJECT DEFINITIONS */
OBJECT = IMAGE_MAP_PROJECTION
  ^DATA_SET_MAP_PROJECTION_CATALOG= "DSMAP.CAT"
  A_AXIS_RADIUS = 3396.0
  B_AXIS_RADIUS = 3396.0
  C_AXIS_RADIUS = 3396.0
  CENTER_LATITUDE = 0.0
  CENTER_LONGITUDE = 27.0
  COORDINATE_SYSTEM_NAME = PLANETOGRAPHIC
  COORDINATE_SYSTEM_TYPE = "BODY-FIXED ROTATING"
  EASTERNMOST_LONGITUDE = 28.8526
  FIRST_STANDARD_PARALLEL = "N/A"
  LINE_FIRST_PIXEL = 1
  LINE_LAST_PIXEL = 18935
  LINE_PROJECTION_OFFSET = -16466.25
  MAP_PROJECTION_ROTATION = 0.0
  MAP_PROJECTION_TYPE = SINUSOIDAL
  MAP_RESOLUTION = 1185.42760773333
  MAP_SCALE = 0.05
  MAXIMUM_LATITUDE = -13.7809
  MINIMUM_LATITUDE = -29.8433
  POSITIVE_LONGITUDE_DIRECTION = EAST
  REFERENCE_LATITUDE = "N/A"
  REFERENCE_LONGITUDE = "N/A"
  SAMPLE_FIRST_PIXEL = 1
  SAMPLE_LAST_PIXEL = 4516
  SAMPLE_PROJECTION_OFFSET = 2929.75
  SECOND_STANDARD_PARALLEL = "N/A"
  WESTERNMOST_LONGITUDE = 24.0706
END_OBJECT = IMAGE_MAP_PROJECTION
/* The JPEG2000 image data file associated with this label. */
OBJECT = COMPRESSED_FILE
  FILE_NAME = "H6545_0000_S13.JP2"
  RECORD_TYPE = UNDEFINED
  FILE_RECORDS = UNK
  ENCODING_TYPE = "JP2"
  INTERCHANGE_FORMAT = BINARY
  UNCOMPRESSED_FILE_NAME = "H6545_0000_S13.IMG"
  REQUIRED_STORAGE_BYTES = "85537556"
  ^DESCRIPTION = "JP2INFO.TXT"
END_OBJECT = COMPRESSED_FILE
END
