PDS_VERSION_ID = PDS3
/* FILE DATA ELEMENTS */
RECORD_TYPE = STREAM
/* POINTERS TO DATA OBJECTS */
^COMPRESSED_FILE = "H6547_0000_ND3.JP2"
/* IDENTIFICATION DATA ELEMENTS */
DATA_SET_ID = "MEX-M-HRSC-5-REFDR-MAPPROJECTED-V3.0"
DATA_SET_NAME = "MARS EXPRESS HRSC MAP PROJECTED REFDR V3.0"
DETECTOR_ID = MEX_HRSC_NADIR
EVENT_TYPE = "MARS-REGIONAL-MAPPING-Te-Im-Fl"
INSTRUMENT_HOST_ID = MEX
INSTRUMENT_HOST_NAME = "MARS EXPRESS"
INSTRUMENT_ID = HRSC
INSTRUMENT_NAME = "HIGH RESOLUTION STEREO CAMERA"
MISSION_NAME = "MARS EXPRESS"
MISSION_PHASE_NAME = ME_Phase_15
PROCESSING_LEVEL_ID = 3
PRODUCT_CREATION_TIME = 2016-06-29T00:46:52.000Z
PRODUCT_ID = "H6547_0000_ND3.JP2"
RELEASE_ID = 0073
REVISION_ID = 0000
/* QUALITY DATA ELEMENTS */
DATA_QUALITY_ID = 2
DATA_QUALITY_DESC = "Data calculated based on photogrammetrically improved orbit and attitude data"
/* TIME DATA ELEMENTS */
SPACECRAFT_CLOCK_START_COUNT = "1/0182031476.08262"
SPACECRAFT_CLOCK_STOP_COUNT = "1/0182031985.61100"
START_TIME = 2009-02-06T20:18:36.930Z
STOP_TIME = 2009-02-06T20:24:46.931Z
/* ORBITAL DATA ELEMENTS */
ASCENDING_NODE_LONGITUDE = 92.94
MAXIMUM_RESOLUTION = 16.8
FOOTPRINT_POINT_LATITUDE = (-47.9001,-47.8702,-47.835,-47.6275, -46.9305,-46.0406,-45.4977,-45.1353, -44.5819,-44.2132,-43.8369,-43.4611, -43.0801,-42.6972,-42.3096,-41.9205, -41.5266,-41.131,-40.7299,-40.1233, -39.7148,-39.3007,-38.8848,-38.4635, -38.0387,-37.6111,-37.1775,-36.7397, -36.2985,-35.853,-35.4016,-34.946, -34.4861,-34.0216,-33.5524,-33.0777, -32.5975,-32.1125,-31.6215,-31.1316, -30.6438,-30.1583,-29.675,-29.1939, -28.715,-28.2384,-27.764,-27.2919, -26.822,-26.5669,-26.5751,-26.579, -26.5802,-26.5796,-27.051,-27.5246, -28.0004,-28.4784,-28.9586,-29.441, -29.9255,-30.4123,-30.9012,-31.3923, -31.8856,-32.62,-33.1028,-33.5798, -34.0515,-34.5184,-34.9806,-35.4385, -35.8919,-36.339,-36.7824,-37.2222, -37.6575,-38.0871,-38.514,-38.9369, -39.3546,-39.7706,-40.1803,-40.7894, -41.1925,-41.5894,-41.9851,-42.3756, -42.7646,-43.1485,-43.5316,-43.9087, -44.2867,-44.6571,-45.2126,-45.5761, -46.1215,-46.8355,-47.364,-47.9001)
FOOTPRINT_POINT_LONGITUDE = (184.645,183.951,183.235,182.68,182.757 ,182.832,182.881,182.909,182.947, 182.978,183.007,183.034,183.063,183.082 ,183.102,183.124,183.146,183.167, 183.189,183.217,183.234,183.251,183.266 ,183.281,183.295,183.309,183.323, 183.336,183.346,183.354,183.362,183.37, 183.378,183.384,183.392,183.398,183.403 ,183.411,183.41,183.41,183.409,183.408, 183.406,183.403,183.397,183.392,183.386 ,183.378,183.37,183.877,184.618,185.259 ,185.895,186.337,186.32,186.302,186.284 ,186.266,186.247,186.227,186.207, 186.186,186.165,186.143,186.121,186.086 ,186.062,186.039,186.015,185.991, 185.966,185.941,185.915,185.889,185.863 ,185.836,185.81,185.782,185.756,185.729 ,185.7,185.671,185.642,185.598,185.567, 185.537,185.506,185.476,185.444,185.413 ,185.381,185.349,185.316,185.283, 185.233,185.199,185.147,185.074,185.019 ,184.645)
ORBIT_NUMBER = 6547
ORBITAL_ECCENTRICITY = 0.576
ORBITAL_INCLINATION = 86.77
ORBITAL_SEMIMAJOR_AXIS = 8684.95
PERIAPSIS_ALTITUDE = 305.84
PERIAPSIS_ARGUMENT_ANGLE = 287.77
PERIAPSIS_TIME = 2009-02-06T20:12:26.000Z
SPACECRAFT_ORIENTATION = (0.0,1.0,0.0)
^MEX_ORIENTATION_DESC = "MEX_ORIENTATION_DESC.TXT"
SPACECRAFT_POINTING_MODE = ACROSSTRACK
^MEX_POINTING_DESC = "MEX_POINTING_DESC.TXT"
RIGHT_ASCENSION = -1e+32
DECLINATION = -1e+32
OFFSET_ANGLE = 1.42
SPACECRAFT_SOLAR_DISTANCE = 2.12155e+08
TARGET_NAME = MARS
/* CAMERA DATA ELEMENTS */
DETECTOR_TEMPERATURE = 18.3705
FOCAL_PLANE_TEMPERATURE = 8.1755
INST_CMPRS_NAME = "DISCRETE COSINE TRANSFORMATION (DCT)"
INST_CMPRS_RATIO = 6.37574
INST_CMPRS_QUALITY = 0
INST_CMPRS_QUANTZ_TBL_ID = 0
INSTRUMENT_TEMPERATURE = 11.0301
LENS_TEMPERATURE = 8.3794
MACROPIXEL_SIZE = 1
MISSING_FRAMES = 0
PIXEL_SUBSAMPLING_FLAG = N
SIGNAL_CHAIN_ID = 0
/* RADIOMETRIC DATA ELEMENTS */
BANDWIDTH = 177.0
CENTER_FILTER_WAVELENGTH = 677.5
RADIANCE_OFFSET = 4.06156
RADIANCE_SCALING_FACTOR = 0.0226341
REFLECTANCE_SCALING_FACTOR = 0.000541191
MEX:REFLECTANCE_OFFSET = 0.0971138
/* IMAGE OBJECT DEFINITIONS */
OBJECT = IMAGE
  INTERCHANGE_FORMAT = BINARY
  LINES = 101245
  LINE_SAMPLES = 13408
  SAMPLE_TYPE = UNSIGNED_INTEGER
  SAMPLE_BITS = 8
  BANDS = 1
  BAND_STORAGE_TYPE = BAND_SEQUENTIAL
  MAXIMUM = 255
  MEAN = 109.967
  MINIMUM = 1
  STANDARD_DEVIATION = 31.7711
END_OBJECT = IMAGE
/* MAP OBJECT DEFINITIONS */
OBJECT = IMAGE_MAP_PROJECTION
  ^DATA_SET_MAP_PROJECTION_CATALOG= "DSMAP.CAT"
  A_AXIS_RADIUS = 3396.0
  B_AXIS_RADIUS = 3396.0
  C_AXIS_RADIUS = 3396.0
  CENTER_LATITUDE = 0.0
  CENTER_LONGITUDE = 185.0
  COORDINATE_SYSTEM_NAME = PLANETOGRAPHIC
  COORDINATE_SYSTEM_TYPE = "BODY-FIXED ROTATING"
  EASTERNMOST_LONGITUDE = 186.337
  FIRST_STANDARD_PARALLEL = "N/A"
  LINE_FIRST_PIXEL = 1
  LINE_LAST_PIXEL = 101245
  LINE_PROJECTION_OFFSET = -125948.0
  MAP_PROJECTION_ROTATION = 0.0
  MAP_PROJECTION_TYPE = SINUSOIDAL
  MAP_RESOLUTION = 4741.71043093333
  MAP_SCALE = 0.0125
  MAXIMUM_LATITUDE = -26.5669
  MINIMUM_LATITUDE = -47.9001
  POSITIVE_LONGITUDE_DIRECTION = EAST
  REFERENCE_LATITUDE = "N/A"
  REFERENCE_LONGITUDE = "N/A"
  SAMPLE_FIRST_PIXEL = 1
  SAMPLE_LAST_PIXEL = 13408
  SAMPLE_PROJECTION_OFFSET = 7723.0
  SECOND_STANDARD_PARALLEL = "N/A"
  WESTERNMOST_LONGITUDE = 182.68
END_OBJECT = IMAGE_MAP_PROJECTION
/* The JPEG2000 image data file associated with this label. */
OBJECT = COMPRESSED_FILE
  FILE_NAME = "H6547_0000_ND3.JP2"
  RECORD_TYPE = UNDEFINED
  FILE_RECORDS = UNK
  ENCODING_TYPE = "JP2"
  INTERCHANGE_FORMAT = BINARY
  UNCOMPRESSED_FILE_NAME = "H6547_0000_ND3.IMG"
  REQUIRED_STORAGE_BYTES = "1357533184"
  ^DESCRIPTION = "JP2INFO.TXT"
END_OBJECT = COMPRESSED_FILE
END
