PDS_VERSION_ID = PDS3
/* FILE DATA ELEMENTS */
RECORD_TYPE = STREAM
/* POINTERS TO DATA OBJECTS */
^COMPRESSED_FILE = "H6552_0000_ND3.JP2"
/* IDENTIFICATION DATA ELEMENTS */
DATA_SET_ID = "MEX-M-HRSC-5-REFDR-MAPPROJECTED-V3.0"
DATA_SET_NAME = "MARS EXPRESS HRSC MAP PROJECTED REFDR V3.0"
DETECTOR_ID = MEX_HRSC_NADIR
EVENT_TYPE = "MARS-REGIONAL-MAPPING-Im-Fl-Pf"
INSTRUMENT_HOST_ID = MEX
INSTRUMENT_HOST_NAME = "MARS EXPRESS"
INSTRUMENT_ID = HRSC
INSTRUMENT_NAME = "HIGH RESOLUTION STEREO CAMERA"
MISSION_NAME = "MARS EXPRESS"
MISSION_PHASE_NAME = ME_Phase_15
PROCESSING_LEVEL_ID = 3
PRODUCT_CREATION_TIME = 2016-06-29T00:46:52.000Z
PRODUCT_ID = "H6552_0000_ND3.JP2"
RELEASE_ID = 0073
REVISION_ID = 0000
/* QUALITY DATA ELEMENTS */
DATA_QUALITY_ID = 2
DATA_QUALITY_DESC = "Data calculated based on photogrammetrically improved orbit and attitude data"
/* TIME DATA ELEMENTS */
SPACECRAFT_CLOCK_START_COUNT = "1/0182155572.08231"
SPACECRAFT_CLOCK_STOP_COUNT = "1/0182156107.18711"
START_TIME = 2009-02-08T06:46:51.689Z
STOP_TIME = 2009-02-08T06:53:24.683Z
/* ORBITAL DATA ELEMENTS */
ASCENDING_NODE_LONGITUDE = 92.85
MAXIMUM_RESOLUTION = 16.7
FOOTPRINT_POINT_LATITUDE = (-48.9872,-48.9666,-48.7552,-48.0234, -47.6504,-47.0906,-46.52,-46.1397, -45.751,-45.3633,-44.9691,-44.574, -44.1733,-43.7711,-43.3632,-42.9539, -42.5382,-41.9094,-41.4862,-41.0565, -40.6248,-40.1875,-39.7454,-39.3003, -38.8496,-38.394,-37.934,-37.4695, -36.9992,-36.5234,-36.0427,-35.5571, -35.066,-34.5692,-34.0667,-33.5579, -33.0433,-32.2588,-31.7343,-31.2122, -30.6928,-30.1759,-29.6558,-29.144, -28.6349,-28.1283,-27.6244,-27.1229, -26.3759,-26.3763,-26.3723,-26.3672, -26.357,-26.8573,-27.36,-27.8654, -28.3733,-28.8837,-29.3967,-30.1768, -30.6961,-31.2179,-31.7423,-32.2692, -33.0567,-33.5734,-34.0843,-34.5884, -35.0872,-35.5803,-36.0676,-36.5501, -37.0276,-37.4995,-37.9653,-38.4268, -38.8841,-39.3362,-39.7827,-40.2262, -40.6649,-41.0979,-41.5289,-41.9534, -42.584,-43.0009,-43.4113,-43.8203, -44.2237,-44.6256,-45.0218,-45.417, -45.8058,-46.1955,-46.5768,-47.149, -47.7102,-48.0842,-48.8179,-48.9872)
FOOTPRINT_POINT_LONGITUDE = (42.1805,41.453,40.698,40.74,40.7606, 40.7889,40.8162,40.8334,40.8497,40.8657 ,40.8804,40.8947,40.9084,40.9219, 40.9335,40.9444,40.9549,40.9691,40.9781 ,40.9864,40.9935,40.9995,41.0048, 41.0096,41.0126,41.0193,41.0189,41.0172 ,41.0192,41.0198,41.019,41.0163,41.013, 41.0087,41.0035,40.9974,40.9907,40.9747 ,40.9662,40.9556,40.9457,40.9335, 40.9206,40.9072,40.8935,40.8772,40.8625 ,40.8435,41.0844,41.6757,42.5312, 43.0633,43.8173,43.8069,43.796,43.7851, 43.773,43.7609,43.7482,43.7286,43.7152, 43.7008,43.6868,43.6715,43.6493,43.635, 43.6176,43.6085,43.5924,43.5724,43.5566 ,43.5405,43.5233,43.509,43.4921,43.4745 ,43.4554,43.4375,43.42,43.4002,43.3795, 43.3611,43.3419,43.321,43.293,43.2731, 43.2534,43.2319,43.2095,43.1875,43.1641 ,43.1436,43.122,43.1003,43.0753,43.038, 43.0052,42.9809,42.9316,42.1805)
ORBIT_NUMBER = 6552
ORBITAL_ECCENTRICITY = 0.576
ORBITAL_INCLINATION = 86.76
ORBITAL_SEMIMAJOR_AXIS = 8685.47
PERIAPSIS_ALTITUDE = 305.8
PERIAPSIS_ARGUMENT_ANGLE = 286.91
PERIAPSIS_TIME = 2009-02-08T06:40:44.000Z
SPACECRAFT_ORIENTATION = (0.0,1.0,0.0)
^MEX_ORIENTATION_DESC = "MEX_ORIENTATION_DESC.TXT"
SPACECRAFT_POINTING_MODE = NADIR
^MEX_POINTING_DESC = "MEX_POINTING_DESC.TXT"
RIGHT_ASCENSION = -1e+32
DECLINATION = -1e+32
OFFSET_ANGLE = -1e+32
SPACECRAFT_SOLAR_DISTANCE = 2.11954e+08
TARGET_NAME = MARS
/* CAMERA DATA ELEMENTS */
DETECTOR_TEMPERATURE = 18.1666
FOCAL_PLANE_TEMPERATURE = 7.9716
INST_CMPRS_NAME = "DISCRETE COSINE TRANSFORMATION (DCT)"
INST_CMPRS_RATIO = 7.73413
INST_CMPRS_QUALITY = 0
INST_CMPRS_QUANTZ_TBL_ID = 0
INSTRUMENT_TEMPERATURE = 10.8262
LENS_TEMPERATURE = 8.3794
MACROPIXEL_SIZE = 1
MISSING_FRAMES = 2
PIXEL_SUBSAMPLING_FLAG = N
SIGNAL_CHAIN_ID = 0
/* RADIOMETRIC DATA ELEMENTS */
BANDWIDTH = 177.0
CENTER_FILTER_WAVELENGTH = 677.5
RADIANCE_OFFSET = 3.77654
RADIANCE_SCALING_FACTOR = 0.0240313
REFLECTANCE_SCALING_FACTOR = 0.000573515
MEX:REFLECTANCE_OFFSET = 0.0901286
/* IMAGE OBJECT DEFINITIONS */
OBJECT = IMAGE
  INTERCHANGE_FORMAT = BINARY
  LINES = 107380
  LINE_SAMPLES = 13074
  SAMPLE_TYPE = UNSIGNED_INTEGER
  SAMPLE_BITS = 8
  BANDS = 1
  BAND_STORAGE_TYPE = BAND_SEQUENTIAL
  MAXIMUM = 255
  MEAN = 129.607
  MINIMUM = 1
  STANDARD_DEVIATION = 33.0778
END_OBJECT = IMAGE
/* MAP OBJECT DEFINITIONS */
OBJECT = IMAGE_MAP_PROJECTION
  ^DATA_SET_MAP_PROJECTION_CATALOG= "DSMAP.CAT"
  A_AXIS_RADIUS = 3396.0
  B_AXIS_RADIUS = 3396.0
  C_AXIS_RADIUS = 3396.0
  CENTER_LATITUDE = 0.0
  CENTER_LONGITUDE = 42.0
  COORDINATE_SYSTEM_NAME = PLANETOGRAPHIC
  COORDINATE_SYSTEM_TYPE = "BODY-FIXED ROTATING"
  EASTERNMOST_LONGITUDE = 43.8173
  FIRST_STANDARD_PARALLEL = "N/A"
  LINE_FIRST_PIXEL = 1
  LINE_LAST_PIXEL = 107380
  LINE_PROJECTION_OFFSET = -124975.0
  MAP_PROJECTION_ROTATION = 0.0
  MAP_PROJECTION_TYPE = SINUSOIDAL
  MAP_RESOLUTION = 4741.71043093333
  MAP_SCALE = 0.0125
  MAXIMUM_LATITUDE = -26.357
  MINIMUM_LATITUDE = -48.9872
  POSITIVE_LONGITUDE_DIRECTION = EAST
  REFERENCE_LATITUDE = "N/A"
  REFERENCE_LONGITUDE = "N/A"
  SAMPLE_FIRST_PIXEL = 1
  SAMPLE_LAST_PIXEL = 13074
  SAMPLE_PROJECTION_OFFSET = 5180.0
  SECOND_STANDARD_PARALLEL = "N/A"
  WESTERNMOST_LONGITUDE = 40.698
END_OBJECT = IMAGE_MAP_PROJECTION
/* The JPEG2000 image data file associated with this label. */
OBJECT = COMPRESSED_FILE
  FILE_NAME = "H6552_0000_ND3.JP2"
  RECORD_TYPE = UNDEFINED
  FILE_RECORDS = UNK
  ENCODING_TYPE = "JP2"
  INTERCHANGE_FORMAT = BINARY
  UNCOMPRESSED_FILE_NAME = "H6552_0000_ND3.IMG"
  REQUIRED_STORAGE_BYTES = "1403925342"
  ^DESCRIPTION = "JP2INFO.TXT"
END_OBJECT = COMPRESSED_FILE
END
