PDS_VERSION_ID = PDS3
/* FILE DATA ELEMENTS */
RECORD_TYPE = STREAM
/* POINTERS TO DATA OBJECTS */
^COMPRESSED_FILE = "H6556_0000_IR3.JP2"
/* IDENTIFICATION DATA ELEMENTS */
DATA_SET_ID = "MEX-M-HRSC-5-REFDR-MAPPROJECTED-V3.0"
DATA_SET_NAME = "MARS EXPRESS HRSC MAP PROJECTED REFDR V3.0"
DETECTOR_ID = MEX_HRSC_IR
EVENT_TYPE = "MARS-REGIONAL-MAPPING-Im-Fl"
INSTRUMENT_HOST_ID = MEX
INSTRUMENT_HOST_NAME = "MARS EXPRESS"
INSTRUMENT_ID = HRSC
INSTRUMENT_NAME = "HIGH RESOLUTION STEREO CAMERA"
MISSION_NAME = "MARS EXPRESS"
MISSION_PHASE_NAME = ME_Phase_15
PROCESSING_LEVEL_ID = 3
PRODUCT_CREATION_TIME = 2016-06-29T00:46:52.000Z
PRODUCT_ID = "H6556_0000_IR3.JP2"
RELEASE_ID = 0073
REVISION_ID = 0000
/* QUALITY DATA ELEMENTS */
DATA_QUALITY_ID = 1
DATA_QUALITY_DESC = "Data calculated based on original SPICE kernels"
/* TIME DATA ELEMENTS */
SPACECRAFT_CLOCK_START_COUNT = "1/0182255058.09049"
SPACECRAFT_CLOCK_STOP_COUNT = "1/0182255383.24271"
START_TIME = 2009-02-09T10:26:12.467Z
STOP_TIME = 2009-02-09T10:29:23.234Z
/* ORBITAL DATA ELEMENTS */
ASCENDING_NODE_LONGITUDE = 92.77
MAXIMUM_RESOLUTION = 52.5
FOOTPRINT_POINT_LATITUDE = (-36.1787,-36.1785,-36.1776,-36.1768, -36.1745,-36.1717,-36.1681,-36.1649, -35.9065,-35.7159,-35.5257,-35.2412, -35.0525,-34.8639,-34.6759,-34.4881, -34.301,-34.1144,-33.9281,-33.743, -33.4655,-33.2816,-33.0979,-32.9147, -32.7318,-32.5495,-32.3681,-32.1872, -32.0061,-31.8258,-31.6463,-31.4671, -31.2879,-31.1097,-30.9319,-30.7545, -30.578,-30.4017,-30.2256,-30.0498, -29.7005,-29.3528,-29.0069,-28.4928, -28.238,-27.9839,-27.5616,-27.2284, -27.2132,-27.2099,-27.2076,-27.2032, -27.2003,-27.197,-27.1932,-27.1881, -27.1852,-27.1797,-27.1722,-27.5955, -27.9346,-28.1918,-28.5362,-28.7941, -29.1389,-29.4874,-29.839,-30.1025, -30.2796,-30.4574,-30.6353,-30.8138, -30.9934,-31.2619,-31.4418,-31.6224, -31.8942,-32.0755,-32.2572,-32.4396, -32.6229,-32.8064,-32.9901,-33.1742, -33.3587,-33.5441,-33.7301,-34.0093, -34.1954,-34.3825,-34.5711,-34.7609, -34.9499,-35.1408,-35.4267,-35.6183, -35.8093,-36.0016,-36.1933,-36.1787)
FOOTPRINT_POINT_LONGITUDE = (360.144,359.735,359.381,359.163, 358.728,358.347,357.939,357.638,357.557 ,357.555,357.553,357.549,357.546, 357.544,357.541,357.538,357.534,357.531 ,357.528,357.524,357.518,357.514,357.51 ,357.506,357.501,357.497,357.492, 357.487,357.483,357.478,357.473,357.467 ,357.462,357.457,357.451,357.446,357.44 ,357.434,357.428,357.423,357.41,357.398 ,357.385,357.365,357.354,357.343, 357.325,357.309,357.507,357.773,358.005 ,358.403,358.701,359.065,359.33,359.727 ,359.992,360.29,360.733,360.719,360.707 ,360.699,360.688,360.679,360.666, 360.654,360.642,360.632,360.626,360.62, 360.614,360.608,360.602,360.592,360.586 ,360.579,360.569,360.563,360.556, 360.549,360.542,360.536,360.529,360.522 ,360.514,360.507,360.5,360.489,360.482, 360.474,360.467,360.46,360.453,360.446, 360.435,360.427,360.419,360.412,360.404 ,360.144)
ORBIT_NUMBER = 6556
ORBITAL_ECCENTRICITY = 0.576
ORBITAL_INCLINATION = 86.77
ORBITAL_SEMIMAJOR_AXIS = 8683.34
PERIAPSIS_ALTITUDE = 305.95
PERIAPSIS_ARGUMENT_ANGLE = 286.21
PERIAPSIS_TIME = 2009-02-09T10:15:23.000Z
SPACECRAFT_ORIENTATION = (0.0,1.0,0.0)
^MEX_ORIENTATION_DESC = "MEX_ORIENTATION_DESC.TXT"
SPACECRAFT_POINTING_MODE = NADIR
^MEX_POINTING_DESC = "MEX_POINTING_DESC.TXT"
RIGHT_ASCENSION = -1e+32
DECLINATION = -1e+32
OFFSET_ANGLE = -1e+32
SPACECRAFT_SOLAR_DISTANCE = 2.11796e+08
TARGET_NAME = MARS
/* CAMERA DATA ELEMENTS */
DETECTOR_TEMPERATURE = 17.1471
FOCAL_PLANE_TEMPERATURE = 7.7677
INST_CMPRS_NAME = "DISCRETE COSINE TRANSFORMATION (DCT)"
INST_CMPRS_RATIO = 8.34106
INST_CMPRS_QUALITY = 0
INST_CMPRS_QUANTZ_TBL_ID = 0
INSTRUMENT_TEMPERATURE = 11.0301
LENS_TEMPERATURE = 8.1755
MACROPIXEL_SIZE = 2
MISSING_FRAMES = 0
PIXEL_SUBSAMPLING_FLAG = N
SIGNAL_CHAIN_ID = 3
/* RADIOMETRIC DATA ELEMENTS */
BANDWIDTH = 81.0
CENTER_FILTER_WAVELENGTH = 955.5
RADIANCE_OFFSET = 1.39552
RADIANCE_SCALING_FACTOR = 0.00495142
REFLECTANCE_SCALING_FACTOR = 0.000479173
MEX:REFLECTANCE_OFFSET = 0.135051
/* IMAGE OBJECT DEFINITIONS */
OBJECT = IMAGE
  INTERCHANGE_FORMAT = BINARY
  LINES = 10704
  LINE_SAMPLES = 3244
  SAMPLE_TYPE = UNSIGNED_INTEGER
  SAMPLE_BITS = 8
  BANDS = 1
  BAND_STORAGE_TYPE = BAND_SEQUENTIAL
  MAXIMUM = 255
  MEAN = 143.599
  MINIMUM = 1
  STANDARD_DEVIATION = 34.068
END_OBJECT = IMAGE
/* MAP OBJECT DEFINITIONS */
OBJECT = IMAGE_MAP_PROJECTION
  ^DATA_SET_MAP_PROJECTION_CATALOG= "DSMAP.CAT"
  A_AXIS_RADIUS = 3396.0
  B_AXIS_RADIUS = 3396.0
  C_AXIS_RADIUS = 3396.0
  CENTER_LATITUDE = 0.0
  CENTER_LONGITUDE = 359.0
  COORDINATE_SYSTEM_NAME = PLANETOGRAPHIC
  COORDINATE_SYSTEM_TYPE = "BODY-FIXED ROTATING"
  EASTERNMOST_LONGITUDE = 0.733
  FIRST_STANDARD_PARALLEL = "N/A"
  LINE_FIRST_PIXEL = 1
  LINE_LAST_PIXEL = 10704
  LINE_PROJECTION_OFFSET = -32231.25
  MAP_PROJECTION_ROTATION = 0.0
  MAP_PROJECTION_TYPE = SINUSOIDAL
  MAP_RESOLUTION = 1185.42760773333
  MAP_SCALE = 0.05
  MAXIMUM_LATITUDE = -27.1722
  MINIMUM_LATITUDE = -36.1933
  POSITIVE_LONGITUDE_DIRECTION = EAST
  REFERENCE_LATITUDE = "N/A"
  REFERENCE_LONGITUDE = "N/A"
  SAMPLE_FIRST_PIXEL = 1
  SAMPLE_LAST_PIXEL = 3244
  SAMPLE_PROJECTION_OFFSET = 1617.75
  SECOND_STANDARD_PARALLEL = "N/A"
  WESTERNMOST_LONGITUDE = -2.691
END_OBJECT = IMAGE_MAP_PROJECTION
/* The JPEG2000 image data file associated with this label. */
OBJECT = COMPRESSED_FILE
  FILE_NAME = "H6556_0000_IR3.JP2"
  RECORD_TYPE = UNDEFINED
  FILE_RECORDS = UNK
  ENCODING_TYPE = "JP2"
  INTERCHANGE_FORMAT = BINARY
  UNCOMPRESSED_FILE_NAME = "H6556_0000_IR3.IMG"
  REQUIRED_STORAGE_BYTES = "34746484"
  ^DESCRIPTION = "JP2INFO.TXT"
END_OBJECT = COMPRESSED_FILE
END
