PDS_VERSION_ID = PDS3
/* FILE DATA ELEMENTS */
RECORD_TYPE = STREAM
/* POINTERS TO DATA OBJECTS */
^COMPRESSED_FILE = "H6564_0000_S23.JP2"
/* IDENTIFICATION DATA ELEMENTS */
DATA_SET_ID = "MEX-M-HRSC-5-REFDR-MAPPROJECTED-V3.0"
DATA_SET_NAME = "MARS EXPRESS HRSC MAP PROJECTED REFDR V3.0"
DETECTOR_ID = MEX_HRSC_S2
EVENT_TYPE = "MARS-REGIONAL-MAPPING-Im-Fl"
INSTRUMENT_HOST_ID = MEX
INSTRUMENT_HOST_NAME = "MARS EXPRESS"
INSTRUMENT_ID = HRSC
INSTRUMENT_NAME = "HIGH RESOLUTION STEREO CAMERA"
MISSION_NAME = "MARS EXPRESS"
MISSION_PHASE_NAME = ME_Phase_15
PROCESSING_LEVEL_ID = 3
PRODUCT_CREATION_TIME = 2016-06-29T00:46:52.000Z
PRODUCT_ID = "H6564_0000_S23.JP2"
RELEASE_ID = 0073
REVISION_ID = 0000
/* QUALITY DATA ELEMENTS */
DATA_QUALITY_ID = 1
DATA_QUALITY_DESC = "Data calculated based on original SPICE kernels"
/* TIME DATA ELEMENTS */
SPACECRAFT_CLOCK_START_COUNT = "1/0182453334.09055"
SPACECRAFT_CLOCK_STOP_COUNT = "1/0182453619.04716"
START_TIME = 2009-02-11T17:28:56.597Z
STOP_TIME = 2009-02-11T17:32:00.219Z
/* ORBITAL DATA ELEMENTS */
ASCENDING_NODE_LONGITUDE = 92.62
MAXIMUM_RESOLUTION = 30.3
FOOTPRINT_POINT_LATITUDE = (-56.3382,-56.3355,-56.3316,-56.3202, -56.2385,-56.0379,-55.8369,-55.5353, -55.2336,-54.9094,-54.6723,-54.4309, -54.1934,-53.9518,-53.5895,-53.349, -53.1093,-52.8701,-52.6316,-52.392, -52.0324,-51.7932,-51.5549,-51.3153, -51.0764,-50.8378,-50.5997,-50.3607, -50.1227,-49.8849,-49.6407,-49.2748, -49.0307,-48.7874,-48.5375,-48.288, -48.0387,-47.789,-47.4076,-47.153, -46.8974,-46.6398,-46.3787,-46.1188, -45.8575,-45.4587,-45.192,-44.9254, -44.5179,-44.2453,-44.1106,-44.1133, -44.1145,-44.1137,-44.1117,-44.1085, -44.3815,-44.6544,-44.9264,-45.1939, -45.5949,-45.9913,-46.2526,-46.5143, -46.775,-47.0309,-47.2853,-47.535, -47.7968,-48.0463,-48.4219,-48.6722, -49.0414,-49.2859,-49.6529,-49.8973, -50.2552,-50.6135,-50.8523,-51.0914, -51.3308,-51.69,-51.9298,-52.1693, -52.4095,-52.7688,-53.009,-53.369, -53.6094,-53.8499,-54.2108,-54.4529, -54.694,-55.0554,-55.2599,-55.4647, -55.7656,-56.0688,-56.2729,-56.3382)
FOOTPRINT_POINT_LONGITUDE = (272.837,272.491,272.148,271.467, 270.957,270.978,270.998,271.028,271.057 ,271.087,271.108,271.129,271.15,271.17, 271.199,271.218,271.236,271.254,271.271 ,271.288,271.313,271.329,271.344, 271.359,271.374,271.388,271.402,271.415 ,271.428,271.441,271.453,271.472, 271.483,271.495,271.506,271.517,271.527 ,271.538,271.552,271.562,271.571,271.58 ,271.589,271.597,271.605,271.616, 271.624,271.63,271.64,271.646,272.064, 272.415,272.767,273.188,273.523,273.934 ,273.923,273.913,273.902,273.892, 273.876,273.859,273.848,273.837,273.826 ,273.814,273.804,273.797,273.78,273.769 ,273.751,273.738,273.72,273.707,273.688 ,273.675,273.656,273.635,273.622, 273.608,273.593,273.571,273.556,273.541 ,273.526,273.503,273.486,273.462, 273.445,273.428,273.402,273.382,273.364 ,273.336,273.318,273.299,273.276, 273.251,273.231,272.837)
ORBIT_NUMBER = 6564
ORBITAL_ECCENTRICITY = 0.576
ORBITAL_INCLINATION = 86.76
ORBITAL_SEMIMAJOR_AXIS = 8682.19
PERIAPSIS_ALTITUDE = 305.7
PERIAPSIS_ARGUMENT_ANGLE = 284.86
PERIAPSIS_TIME = 2009-02-11T17:24:44.000Z
SPACECRAFT_ORIENTATION = (0.0,1.0,0.0)
^MEX_ORIENTATION_DESC = "MEX_ORIENTATION_DESC.TXT"
SPACECRAFT_POINTING_MODE = ACROSSTRACK
^MEX_POINTING_DESC = "MEX_POINTING_DESC.TXT"
RIGHT_ASCENSION = -1e+32
DECLINATION = -1e+32
OFFSET_ANGLE = -0.48
SPACECRAFT_SOLAR_DISTANCE = 2.11486e+08
TARGET_NAME = MARS
/* CAMERA DATA ELEMENTS */
DETECTOR_TEMPERATURE = 18.3705
FOCAL_PLANE_TEMPERATURE = 7.9716
INST_CMPRS_NAME = "DISCRETE COSINE TRANSFORMATION (DCT)"
INST_CMPRS_RATIO = 13.5233
INST_CMPRS_QUALITY = 0
INST_CMPRS_QUANTZ_TBL_ID = 0
INSTRUMENT_TEMPERATURE = 11.234
LENS_TEMPERATURE = 8.3794
MACROPIXEL_SIZE = 2
MISSING_FRAMES = 0
PIXEL_SUBSAMPLING_FLAG = N
SIGNAL_CHAIN_ID = 1
/* RADIOMETRIC DATA ELEMENTS */
BANDWIDTH = 178.0
CENTER_FILTER_WAVELENGTH = 679.0
RADIANCE_OFFSET = 4.03143
RADIANCE_SCALING_FACTOR = 0.0137769
REFLECTANCE_SCALING_FACTOR = 0.000326319
MEX:REFLECTANCE_OFFSET = 0.0954884
/* IMAGE OBJECT DEFINITIONS */
OBJECT = IMAGE
  INTERCHANGE_FORMAT = BINARY
  LINES = 28917
  LINE_SAMPLES = 4517
  SAMPLE_TYPE = UNSIGNED_INTEGER
  SAMPLE_BITS = 8
  BANDS = 1
  BAND_STORAGE_TYPE = BAND_SEQUENTIAL
  MAXIMUM = 255
  MEAN = 128.085
  MINIMUM = 1
  STANDARD_DEVIATION = 20.2229
END_OBJECT = IMAGE
/* MAP OBJECT DEFINITIONS */
OBJECT = IMAGE_MAP_PROJECTION
  ^DATA_SET_MAP_PROJECTION_CATALOG= "DSMAP.CAT"
  A_AXIS_RADIUS = 3396.0
  B_AXIS_RADIUS = 3396.0
  C_AXIS_RADIUS = 3396.0
  CENTER_LATITUDE = 0.0
  CENTER_LONGITUDE = 273.0
  COORDINATE_SYSTEM_NAME = PLANETOGRAPHIC
  COORDINATE_SYSTEM_TYPE = "BODY-FIXED ROTATING"
  EASTERNMOST_LONGITUDE = 273.934
  FIRST_STANDARD_PARALLEL = "N/A"
  LINE_FIRST_PIXEL = 1
  LINE_LAST_PIXEL = 28917
  LINE_PROJECTION_OFFSET = -104494.75
  MAP_PROJECTION_ROTATION = 0.0
  MAP_PROJECTION_TYPE = SINUSOIDAL
  MAP_RESOLUTION = 2370.85521546667
  MAP_SCALE = 0.025
  MAXIMUM_LATITUDE = -44.1085
  MINIMUM_LATITUDE = -56.3382
  POSITIVE_LONGITUDE_DIRECTION = EAST
  REFERENCE_LATITUDE = "N/A"
  REFERENCE_LONGITUDE = "N/A"
  SAMPLE_FIRST_PIXEL = 1
  SAMPLE_LAST_PIXEL = 4517
  SAMPLE_PROJECTION_OFFSET = 2759.25
  SECOND_STANDARD_PARALLEL = "N/A"
  WESTERNMOST_LONGITUDE = 270.957
END_OBJECT = IMAGE_MAP_PROJECTION
/* The JPEG2000 image data file associated with this label. */
OBJECT = COMPRESSED_FILE
  FILE_NAME = "H6564_0000_S23.JP2"
  RECORD_TYPE = UNDEFINED
  FILE_RECORDS = UNK
  ENCODING_TYPE = "JP2"
  INTERCHANGE_FORMAT = BINARY
  UNCOMPRESSED_FILE_NAME = "H6564_0000_S23.IMG"
  REQUIRED_STORAGE_BYTES = "130645191"
  ^DESCRIPTION = "JP2INFO.TXT"
END_OBJECT = COMPRESSED_FILE
END
