PDS_VERSION_ID = PDS3
/* FILE DATA ELEMENTS */
RECORD_TYPE = STREAM
/* POINTERS TO DATA OBJECTS */
^COMPRESSED_FILE = "H6613_0000_IR3.JP2"
/* IDENTIFICATION DATA ELEMENTS */
DATA_SET_ID = "MEX-M-HRSC-5-REFDR-MAPPROJECTED-V3.0"
DATA_SET_NAME = "MARS EXPRESS HRSC MAP PROJECTED REFDR V3.0"
DETECTOR_ID = MEX_HRSC_IR
EVENT_TYPE = "MARS-TERMINATOR-VARIABLE-Gl-At"
INSTRUMENT_HOST_ID = MEX
INSTRUMENT_HOST_NAME = "MARS EXPRESS"
INSTRUMENT_ID = HRSC
INSTRUMENT_NAME = "HIGH RESOLUTION STEREO CAMERA"
MISSION_NAME = "MARS EXPRESS"
MISSION_PHASE_NAME = ME_Phase_16
PROCESSING_LEVEL_ID = 3
PRODUCT_CREATION_TIME = 2016-06-29T05:28:41.000Z
PRODUCT_ID = "H6613_0000_IR3.JP2"
RELEASE_ID = 0074
REVISION_ID = 0000
/* QUALITY DATA ELEMENTS */
DATA_QUALITY_ID = 1
DATA_QUALITY_DESC = "Data calculated based on original SPICE kernels"
/* TIME DATA ELEMENTS */
SPACECRAFT_CLOCK_START_COUNT = "1/0183669036.08232"
SPACECRAFT_CLOCK_STOP_COUNT = "1/0183669364.28762"
START_TIME = 2009-02-25T19:11:38.965Z
STOP_TIME = 2009-02-25T19:15:59.507Z
/* ORBITAL DATA ELEMENTS */
ASCENDING_NODE_LONGITUDE = 91.66
MAXIMUM_RESOLUTION = 105.3
FOOTPRINT_POINT_LATITUDE = (-84.3555,-84.3507,-84.3391,-84.321, -84.2972,-84.2682,-84.69,-85.0252, -85.3572,-85.6867,-86.1704,-86.4856, -86.7925,-87.0878,-87.369,-87.7504, -87.9663,-88.1388,-88.2546,-88.2978, -88.2407,-88.041,-87.8487,-87.6229, -87.2389,-86.9588,-86.6694,-86.3711, -86.0667,-85.757,-85.444,-85.1275, -84.8076,-84.4925,-84.1624,-83.8427, -83.3483,-82.8531,-82.5212,-82.1896, -81.8586,-81.526,-81.1946,-80.6958, -80.3631,-80.0308,-79.6989,-79.1983, -78.8552,-78.3393,-78.1425,-78.2196, -78.2603,-78.2923,-78.3262,-78.6702, -79.017,-79.5382,-79.8746,-80.3791, -80.7155,-81.2208,-81.7308,-82.2387, -82.5811,-82.9214,-83.2608,-83.6013, -84.1132,-84.6139,-84.9515,-85.2904, -85.6314,-85.9674,-86.3075,-86.6468, -87.1531,-87.4913,-87.8368,-88.1712, -88.665,-89.1352,-89.4107,-89.5725, -89.4941,-89.2409,-88.9265,-88.76, -88.4202,-88.0751,-87.7276,-87.2012, -86.8485,-86.4975,-86.1429,-85.614, -85.0836,-84.7296,-84.3753,-84.3555)
FOOTPRINT_POINT_LONGITUDE = (204.399,206.459,208.457,210.388, 212.252,214.049,216.556,217.837,219.298 ,221.018,224.093,226.635,229.683, 233.313,237.834,246.604,254.144,263.288 ,273.979,291.365,302.604,317.316, 325.267,331.805,339.441,343.397,346.682 ,349.431,351.758,353.746,355.464, 356.956,358.259,359.447,360.431,361.37, 362.539,363.546,364.136,364.677,365.178 ,365.631,366.054,366.624,366.968,367.29 ,367.591,367.994,368.254,368.608, 370.166,371.987,373.072,374.011,375.033 ,374.958,374.897,374.822,374.752, 374.629,374.536,374.384,374.255,374.076 ,373.984,373.853,373.694,373.53,373.255 ,372.749,372.416,372.054,371.676, 371.135,370.584,369.907,368.541,367.367 ,366.078,363.977,358.834,347.852, 331.277,296.033,253.858,231.078,220.156 ,216.757,212.425,209.701,207.847, 205.844,204.869,204.179,203.512,202.823 ,202.259,201.942,201.663,204.399)
ORBIT_NUMBER = 6613
ORBITAL_ECCENTRICITY = 0.576
ORBITAL_INCLINATION = 86.77
ORBITAL_SEMIMAJOR_AXIS = 8677.73
PERIAPSIS_ALTITUDE = 306.81
PERIAPSIS_ARGUMENT_ANGLE = 276.46
PERIAPSIS_TIME = 2009-02-25T19:14:16.000Z
SPACECRAFT_ORIENTATION = (0.0,1.0,0.0)
^MEX_ORIENTATION_DESC = "MEX_ORIENTATION_DESC.TXT"
SPACECRAFT_POINTING_MODE = ACROSSTRACK
^MEX_POINTING_DESC = "MEX_POINTING_DESC.TXT"
RIGHT_ASCENSION = -1e+32
DECLINATION = -1e+32
OFFSET_ANGLE = -2.0
SPACECRAFT_SOLAR_DISTANCE = 2.09767e+08
TARGET_NAME = MARS
/* CAMERA DATA ELEMENTS */
DETECTOR_TEMPERATURE = 16.9432
FOCAL_PLANE_TEMPERATURE = 7.7677
INST_CMPRS_NAME = "DISCRETE COSINE TRANSFORMATION (DCT)"
INST_CMPRS_RATIO = 6.71858
INST_CMPRS_QUALITY = 0
INST_CMPRS_QUANTZ_TBL_ID = 0
INSTRUMENT_TEMPERATURE = 11.0301
LENS_TEMPERATURE = 8.3794
MACROPIXEL_SIZE = 8
MISSING_FRAMES = 0
PIXEL_SUBSAMPLING_FLAG = N
SIGNAL_CHAIN_ID = 2
/* RADIOMETRIC DATA ELEMENTS */
BANDWIDTH = 81.0
CENTER_FILTER_WAVELENGTH = 955.5
RADIANCE_OFFSET = 0.542892
RADIANCE_SCALING_FACTOR = 0.0143583
REFLECTANCE_SCALING_FACTOR = 0.00136303
MEX:REFLECTANCE_OFFSET = 0.0515368
/* IMAGE OBJECT DEFINITIONS */
OBJECT = IMAGE
  INTERCHANGE_FORMAT = BINARY
  LINES = 10083
  LINE_SAMPLES = 3766
  SAMPLE_TYPE = UNSIGNED_INTEGER
  SAMPLE_BITS = 8
  BANDS = 1
  BAND_STORAGE_TYPE = BAND_SEQUENTIAL
  MAXIMUM = 255
  MEAN = 106.99
  MINIMUM = 1
  STANDARD_DEVIATION = 58.6313
END_OBJECT = IMAGE
/* MAP OBJECT DEFINITIONS */
OBJECT = IMAGE_MAP_PROJECTION
  ^DATA_SET_MAP_PROJECTION_CATALOG= "DSMAP.CAT"
  A_AXIS_RADIUS = 3396.0
  B_AXIS_RADIUS = 3396.0
  C_AXIS_RADIUS = 3396.0
  CENTER_LATITUDE = -90.0
  CENTER_LONGITUDE = 0.0
  COORDINATE_SYSTEM_NAME = PLANETOGRAPHIC
  COORDINATE_SYSTEM_TYPE = "BODY-FIXED ROTATING"
  EASTERNMOST_LONGITUDE = 15.033
  FIRST_STANDARD_PARALLEL = "N/A"
  LINE_FIRST_PIXEL = 1
  LINE_LAST_PIXEL = 10083
  LINE_PROJECTION_OFFSET = 6970.125
  MAP_PROJECTION_ROTATION = 0.0
  MAP_PROJECTION_TYPE = STEREOGRAPHIC
  MAP_RESOLUTION = 592.713803866667
  MAP_SCALE = 0.1
  MAXIMUM_LATITUDE = -78.1425
  MINIMUM_LATITUDE = -89.57250000000001
  POSITIVE_LONGITUDE_DIRECTION = EAST
  REFERENCE_LATITUDE = "N/A"
  REFERENCE_LONGITUDE = "N/A"
  SAMPLE_FIRST_PIXEL = 1
  SAMPLE_LAST_PIXEL = 3766
  SAMPLE_PROJECTION_OFFSET = 2050.625
  SECOND_STANDARD_PARALLEL = "N/A"
  WESTERNMOST_LONGITUDE = -158.337
END_OBJECT = IMAGE_MAP_PROJECTION
/* The JPEG2000 image data file associated with this label. */
OBJECT = COMPRESSED_FILE
  FILE_NAME = "H6613_0000_IR3.JP2"
  RECORD_TYPE = UNDEFINED
  FILE_RECORDS = UNK
  ENCODING_TYPE = "JP2"
  INTERCHANGE_FORMAT = BINARY
  UNCOMPRESSED_FILE_NAME = "H6613_0000_IR3.IMG"
  REQUIRED_STORAGE_BYTES = "37998940"
  ^DESCRIPTION = "JP2INFO.TXT"
END_OBJECT = COMPRESSED_FILE
END
