PDS_VERSION_ID = PDS3
/* FILE DATA ELEMENTS */
RECORD_TYPE = STREAM
/* POINTERS TO DATA OBJECTS */
^COMPRESSED_FILE = "H6626_0000_ND3.JP2"
/* IDENTIFICATION DATA ELEMENTS */
DATA_SET_ID = "MEX-M-HRSC-5-REFDR-MAPPROJECTED-V3.0"
DATA_SET_NAME = "MARS EXPRESS HRSC MAP PROJECTED REFDR V3.0"
DETECTOR_ID = MEX_HRSC_NADIR
EVENT_TYPE = "MARS-REGIONAL-MAPPING-Te-Fl"
INSTRUMENT_HOST_ID = MEX
INSTRUMENT_HOST_NAME = "MARS EXPRESS"
INSTRUMENT_ID = HRSC
INSTRUMENT_NAME = "HIGH RESOLUTION STEREO CAMERA"
MISSION_NAME = "MARS EXPRESS"
MISSION_PHASE_NAME = ME_Phase_16
PROCESSING_LEVEL_ID = 3
PRODUCT_CREATION_TIME = 2016-06-29T05:28:41.000Z
PRODUCT_ID = "H6626_0000_ND3.JP2"
RELEASE_ID = 0074
REVISION_ID = 0000
/* QUALITY DATA ELEMENTS */
DATA_QUALITY_ID = 1
DATA_QUALITY_DESC = "Data calculated based on original SPICE kernels"
/* TIME DATA ELEMENTS */
SPACECRAFT_CLOCK_START_COUNT = "1/0183992148.08223"
SPACECRAFT_CLOCK_STOP_COUNT = "1/0183992536.06319"
START_TIME = 2009-03-01T12:56:22.795Z
STOP_TIME = 2009-03-01T13:01:11.789Z
/* ORBITAL DATA ELEMENTS */
ASCENDING_NODE_LONGITUDE = 91.4
MAXIMUM_RESOLUTION = 14.6
FOOTPRINT_POINT_LATITUDE = (-68.0885,-68.0181,-67.9567,-67.6187, -67.2984,-66.9784,-66.6587,-66.3392, -66.0194,-65.7004,-65.3819,-65.0637, -64.746,-64.4287,-64.1117,-63.795, -63.4787,-63.1628,-62.8397,-62.5162, -62.1933,-61.8649,-61.5345,-61.2045, -60.8691,-60.532,-60.1953,-59.8516, -59.3361,-58.8114,-58.4613,-57.9265, -57.5699,-57.206,-56.8424,-56.4733, -56.1031,-55.7284,-55.3519,-54.9709, -54.5882,-54.2001,-53.6133,-53.2176, -52.8174,-52.2115,-51.597,-50.9735, -50.5541,-50.3545,-50.3728,-50.397, -50.4099,-50.6381,-51.0591,-51.6851, -52.302,-52.9103,-53.312,-53.7089, -54.2979,-54.6875,-55.0717,-55.4542, -55.8322,-56.2083,-56.5798,-56.9502, -57.3151,-57.6805,-58.0386,-58.5757, -58.9273,-59.4541,-59.9717,-60.3169, -60.6549,-60.9936,-61.3304,-61.6617, -61.9936,-62.3234,-62.6478,-62.9727, -63.2972,-63.6145,-63.9323,-64.2505, -64.5691,-64.8881,-65.2076,-65.5274, -65.8477,-66.1684,-66.4895,-66.811, -67.1328,-67.455,-67.7775,-68.0885)
FOOTPRINT_POINT_LONGITUDE = (138.57,136.995,135.844,135.688,135.806 ,135.921,136.032,136.137,136.231, 136.327,136.422,136.513,136.603,136.69, 136.772,136.852,136.928,137.001,137.073 ,137.144,137.213,137.281,137.348, 137.412,137.473,137.537,137.596,137.655 ,137.74,137.821,137.874,137.952,138.004 ,138.052,138.097,138.14,138.182,138.224 ,138.264,138.304,138.344,138.381, 138.435,138.464,138.496,138.543,138.588 ,138.63,138.657,139.096,139.614,140.434 ,140.982,141.745,141.711,141.66,141.604 ,141.552,141.514,141.478,141.419, 141.378,141.336,141.296,141.255,141.212 ,141.169,141.125,141.081,141.035, 140.988,140.917,140.869,140.793,140.717 ,140.664,140.611,140.556,140.5,140.444, 140.385,140.326,140.266,140.203,140.14, 140.076,140.014,139.945,139.876,139.806 ,139.733,139.651,139.575,139.498, 139.417,139.333,139.249,139.158,139.065 ,138.57)
ORBIT_NUMBER = 6626
ORBITAL_ECCENTRICITY = 0.576
ORBITAL_INCLINATION = 86.76
ORBITAL_SEMIMAJOR_AXIS = 8678.04
PERIAPSIS_ALTITUDE = 307.35
PERIAPSIS_ARGUMENT_ANGLE = 274.25
PERIAPSIS_TIME = 2009-03-01T12:51:57.000Z
SPACECRAFT_ORIENTATION = (0.0,1.0,0.0)
^MEX_ORIENTATION_DESC = "MEX_ORIENTATION_DESC.TXT"
SPACECRAFT_POINTING_MODE = NADIR
^MEX_POINTING_DESC = "MEX_POINTING_DESC.TXT"
RIGHT_ASCENSION = -1e+32
DECLINATION = -1e+32
OFFSET_ANGLE = -1e+32
SPACECRAFT_SOLAR_DISTANCE = 2.09367e+08
TARGET_NAME = MARS
/* CAMERA DATA ELEMENTS */
DETECTOR_TEMPERATURE = 18.1666
FOCAL_PLANE_TEMPERATURE = 8.1755
INST_CMPRS_NAME = "DISCRETE COSINE TRANSFORMATION (DCT)"
INST_CMPRS_RATIO = 6.93077
INST_CMPRS_QUALITY = 0
INST_CMPRS_QUANTZ_TBL_ID = 0
INSTRUMENT_TEMPERATURE = 11.8457
LENS_TEMPERATURE = 8.5833
MACROPIXEL_SIZE = 1
MISSING_FRAMES = 0
PIXEL_SUBSAMPLING_FLAG = N
SIGNAL_CHAIN_ID = 0
/* RADIOMETRIC DATA ELEMENTS */
BANDWIDTH = 177.0
CENTER_FILTER_WAVELENGTH = 677.5
RADIANCE_OFFSET = 4.63472
RADIANCE_SCALING_FACTOR = 0.0294487
REFLECTANCE_SCALING_FACTOR = 0.000685749
MEX:REFLECTANCE_OFFSET = 0.107925
/* IMAGE OBJECT DEFINITIONS */
OBJECT = IMAGE
  INTERCHANGE_FORMAT = BINARY
  LINES = 84219
  LINE_SAMPLES = 14399
  SAMPLE_TYPE = UNSIGNED_INTEGER
  SAMPLE_BITS = 8
  BANDS = 1
  BAND_STORAGE_TYPE = BAND_SEQUENTIAL
  MAXIMUM = 255
  MEAN = 83.0091
  MINIMUM = 1
  STANDARD_DEVIATION = 37.5688
END_OBJECT = IMAGE
/* MAP OBJECT DEFINITIONS */
OBJECT = IMAGE_MAP_PROJECTION
  ^DATA_SET_MAP_PROJECTION_CATALOG= "DSMAP.CAT"
  A_AXIS_RADIUS = 3396.0
  B_AXIS_RADIUS = 3396.0
  C_AXIS_RADIUS = 3396.0
  CENTER_LATITUDE = 0.0
  CENTER_LONGITUDE = 139.0
  COORDINATE_SYSTEM_NAME = PLANETOGRAPHIC
  COORDINATE_SYSTEM_TYPE = "BODY-FIXED ROTATING"
  EASTERNMOST_LONGITUDE = 141.745
  FIRST_STANDARD_PARALLEL = "N/A"
  LINE_FIRST_PIXEL = 1
  LINE_LAST_PIXEL = 84219
  LINE_PROJECTION_OFFSET = -238698.0
  MAP_PROJECTION_ROTATION = 0.0
  MAP_PROJECTION_TYPE = SINUSOIDAL
  MAP_RESOLUTION = 4741.71043093333
  MAP_SCALE = 0.0125
  MAXIMUM_LATITUDE = -50.3545
  MINIMUM_LATITUDE = -68.0885
  POSITIVE_LONGITUDE_DIRECTION = EAST
  REFERENCE_LATITUDE = "N/A"
  REFERENCE_LONGITUDE = "N/A"
  SAMPLE_FIRST_PIXEL = 1
  SAMPLE_LAST_PIXEL = 14399
  SAMPLE_PROJECTION_OFFSET = 5993.0
  SECOND_STANDARD_PARALLEL = "N/A"
  WESTERNMOST_LONGITUDE = 135.688
END_OBJECT = IMAGE_MAP_PROJECTION
/* The JPEG2000 image data file associated with this label. */
OBJECT = COMPRESSED_FILE
  FILE_NAME = "H6626_0000_ND3.JP2"
  RECORD_TYPE = UNDEFINED
  FILE_RECORDS = UNK
  ENCODING_TYPE = "JP2"
  INTERCHANGE_FORMAT = BINARY
  UNCOMPRESSED_FILE_NAME = "H6626_0000_ND3.IMG"
  REQUIRED_STORAGE_BYTES = "1212712578"
  ^DESCRIPTION = "JP2INFO.TXT"
END_OBJECT = COMPRESSED_FILE
END
