PDS_VERSION_ID = PDS3
/* FILE DATA ELEMENTS */
RECORD_TYPE = STREAM
/* POINTERS TO DATA OBJECTS */
^COMPRESSED_FILE = "H6626_0000_S23.JP2"
/* IDENTIFICATION DATA ELEMENTS */
DATA_SET_ID = "MEX-M-HRSC-5-REFDR-MAPPROJECTED-V3.0"
DATA_SET_NAME = "MARS EXPRESS HRSC MAP PROJECTED REFDR V3.0"
DETECTOR_ID = MEX_HRSC_S2
EVENT_TYPE = "MARS-REGIONAL-MAPPING-Te-Fl"
INSTRUMENT_HOST_ID = MEX
INSTRUMENT_HOST_NAME = "MARS EXPRESS"
INSTRUMENT_ID = HRSC
INSTRUMENT_NAME = "HIGH RESOLUTION STEREO CAMERA"
MISSION_NAME = "MARS EXPRESS"
MISSION_PHASE_NAME = ME_Phase_16
PROCESSING_LEVEL_ID = 3
PRODUCT_CREATION_TIME = 2016-06-29T05:28:41.000Z
PRODUCT_ID = "H6626_0000_S23.JP2"
RELEASE_ID = 0074
REVISION_ID = 0000
/* QUALITY DATA ELEMENTS */
DATA_QUALITY_ID = 1
DATA_QUALITY_DESC = "Data calculated based on original SPICE kernels"
/* TIME DATA ELEMENTS */
SPACECRAFT_CLOCK_START_COUNT = "1/0183992148.08223"
SPACECRAFT_CLOCK_STOP_COUNT = "1/0183992536.06319"
START_TIME = 2009-03-01T12:55:50.568Z
STOP_TIME = 2009-03-01T13:00:19.586Z
/* ORBITAL DATA ELEMENTS */
ASCENDING_NODE_LONGITUDE = 91.4
MAXIMUM_RESOLUTION = 30
FOOTPRINT_POINT_LATITUDE = (-68.2108,-68.1598,-68.1171,-68.0745, -67.6768,-67.3966,-67.1175,-66.5648, -66.2808,-65.9915,-65.4993,-65.1648, -64.8302,-64.4976,-63.9953,-63.6601, -63.3222,-62.8154,-62.479,-62.1442, -61.8094,-61.4753,-60.9737,-60.4653, -60.123,-59.7806,-59.433,-58.9073, -58.3777,-58.0221,-57.6686,-57.3045, -56.9373,-56.5662,-56.1872,-55.8115, -55.429,-54.8554,-54.2744,-53.8817, -53.4817,-53.074,-52.465,-52.0539, -51.6414,-51.2222,-50.8017,-50.3688, -50.3951,-50.4255,-50.4361,-50.4419, -50.8751,-51.2956,-51.7179,-52.1364, -52.5484,-52.9517,-53.3567,-53.7549, -54.1534,-54.5458,-55.1353,-55.5171, -55.8998,-56.2756,-56.6517,-57.0219, -57.3872,-57.7565,-58.1164,-58.4757, -58.8338,-59.1863,-59.5384,-59.8882, -60.2319,-60.5756,-60.9195,-61.2545, -61.5899,-61.9263,-62.2627,-62.5996, -62.9382,-63.2744,-63.6125,-63.9441, -64.2847,-64.7888,-65.1258,-65.4715, -65.8085,-66.1294,-66.5514,-66.8337, -67.1128,-67.3958,-67.6795,-68.2108)
FOOTPRINT_POINT_LONGITUDE = (138.812,137.617,136.763,136.002, 135.732,135.836,135.937,136.133,136.224 ,136.311,136.459,136.557,136.653, 136.745,136.878,136.962,137.042,137.158 ,137.232,137.305,137.375,137.443,137.54 ,137.635,137.696,137.755,137.813, 137.898,137.979,138.032,138.085,138.135 ,138.183,138.229,138.273,138.316, 138.359,138.421,138.482,138.52,138.556, 138.589,138.64,138.673,138.704,138.735, 138.764,139.126,139.681,140.484,141.151 ,141.664,141.63,141.598,141.564,141.528 ,141.493,141.46,141.423,141.387,141.349 ,141.31,141.248,141.209,141.168,141.126 ,141.083,141.04,140.998,140.951,140.905 ,140.859,140.811,140.762,140.712, 140.661,140.61,140.557,140.503,140.448, 140.393,140.335,140.275,140.214,140.149 ,140.085,140.018,139.954,139.881, 139.773,139.697,139.611,139.531,139.456 ,139.35,139.277,139.204,139.126,139.045 ,138.812)
ORBIT_NUMBER = 6626
ORBITAL_ECCENTRICITY = 0.576
ORBITAL_INCLINATION = 86.76
ORBITAL_SEMIMAJOR_AXIS = 8678.04
PERIAPSIS_ALTITUDE = 307.35
PERIAPSIS_ARGUMENT_ANGLE = 274.25
PERIAPSIS_TIME = 2009-03-01T12:51:57.000Z
SPACECRAFT_ORIENTATION = (0.0,1.0,0.0)
^MEX_ORIENTATION_DESC = "MEX_ORIENTATION_DESC.TXT"
SPACECRAFT_POINTING_MODE = NADIR
^MEX_POINTING_DESC = "MEX_POINTING_DESC.TXT"
RIGHT_ASCENSION = -1e+32
DECLINATION = -1e+32
OFFSET_ANGLE = -1e+32
SPACECRAFT_SOLAR_DISTANCE = 2.09367e+08
TARGET_NAME = MARS
/* CAMERA DATA ELEMENTS */
DETECTOR_TEMPERATURE = 18.5744
FOCAL_PLANE_TEMPERATURE = 8.1755
INST_CMPRS_NAME = "DISCRETE COSINE TRANSFORMATION (DCT)"
INST_CMPRS_RATIO = 12.2513
INST_CMPRS_QUALITY = 0
INST_CMPRS_QUANTZ_TBL_ID = 0
INSTRUMENT_TEMPERATURE = 11.8457
LENS_TEMPERATURE = 8.5833
MACROPIXEL_SIZE = 2
MISSING_FRAMES = 0
PIXEL_SUBSAMPLING_FLAG = N
SIGNAL_CHAIN_ID = 1
/* RADIOMETRIC DATA ELEMENTS */
BANDWIDTH = 178.0
CENTER_FILTER_WAVELENGTH = 679.0
RADIANCE_OFFSET = 5.47122
RADIANCE_SCALING_FACTOR = 0.0327483
REFLECTANCE_SCALING_FACTOR = 0.000760209
MEX:REFLECTANCE_OFFSET = 0.127007
/* IMAGE OBJECT DEFINITIONS */
OBJECT = IMAGE
  INTERCHANGE_FORMAT = BINARY
  LINES = 42110
  LINE_SAMPLES = 7200
  SAMPLE_TYPE = UNSIGNED_INTEGER
  SAMPLE_BITS = 8
  BANDS = 1
  BAND_STORAGE_TYPE = BAND_SEQUENTIAL
  MAXIMUM = 255
  MEAN = 68.1628
  MINIMUM = 1
  STANDARD_DEVIATION = 38.7704
END_OBJECT = IMAGE
/* MAP OBJECT DEFINITIONS */
OBJECT = IMAGE_MAP_PROJECTION
  ^DATA_SET_MAP_PROJECTION_CATALOG= "DSMAP.CAT"
  A_AXIS_RADIUS = 3396.0
  B_AXIS_RADIUS = 3396.0
  C_AXIS_RADIUS = 3396.0
  CENTER_LATITUDE = 0.0
  CENTER_LONGITUDE = 139.0
  COORDINATE_SYSTEM_NAME = PLANETOGRAPHIC
  COORDINATE_SYSTEM_TYPE = "BODY-FIXED ROTATING"
  EASTERNMOST_LONGITUDE = 141.664
  FIRST_STANDARD_PARALLEL = "N/A"
  LINE_FIRST_PIXEL = 1
  LINE_LAST_PIXEL = 42110
  LINE_PROJECTION_OFFSET = -119349.25
  MAP_PROJECTION_ROTATION = 0.0
  MAP_PROJECTION_TYPE = SINUSOIDAL
  MAP_RESOLUTION = 2370.85521546667
  MAP_SCALE = 0.025
  MAXIMUM_LATITUDE = -50.3688
  MINIMUM_LATITUDE = -68.21080000000001
  POSITIVE_LONGITUDE_DIRECTION = EAST
  REFERENCE_LATITUDE = "N/A"
  REFERENCE_LONGITUDE = "N/A"
  SAMPLE_FIRST_PIXEL = 1
  SAMPLE_LAST_PIXEL = 7200
  SAMPLE_PROJECTION_OFFSET = 2996.25
  SECOND_STANDARD_PARALLEL = "N/A"
  WESTERNMOST_LONGITUDE = 135.732
END_OBJECT = IMAGE_MAP_PROJECTION
/* The JPEG2000 image data file associated with this label. */
OBJECT = COMPRESSED_FILE
  FILE_NAME = "H6626_0000_S23.JP2"
  RECORD_TYPE = UNDEFINED
  FILE_RECORDS = UNK
  ENCODING_TYPE = "JP2"
  INTERCHANGE_FORMAT = BINARY
  UNCOMPRESSED_FILE_NAME = "H6626_0000_S23.IMG"
  REQUIRED_STORAGE_BYTES = "303220800"
  ^DESCRIPTION = "JP2INFO.TXT"
END_OBJECT = COMPRESSED_FILE
END
