PDS_VERSION_ID = PDS3
/* FILE DATA ELEMENTS */
RECORD_TYPE = STREAM
/* POINTERS TO DATA OBJECTS */
^COMPRESSED_FILE = "H6628_0000_P23.JP2"
/* IDENTIFICATION DATA ELEMENTS */
DATA_SET_ID = "MEX-M-HRSC-5-REFDR-MAPPROJECTED-V3.0"
DATA_SET_NAME = "MARS EXPRESS HRSC MAP PROJECTED REFDR V3.0"
DETECTOR_ID = MEX_HRSC_P2
EVENT_TYPE = "MARS-LOCAL-STEREO-Im-Fl-Gl"
INSTRUMENT_HOST_ID = MEX
INSTRUMENT_HOST_NAME = "MARS EXPRESS"
INSTRUMENT_ID = HRSC
INSTRUMENT_NAME = "HIGH RESOLUTION STEREO CAMERA"
MISSION_NAME = "MARS EXPRESS"
MISSION_PHASE_NAME = ME_Phase_16
PROCESSING_LEVEL_ID = 3
PRODUCT_CREATION_TIME = 2016-06-29T05:28:41.000Z
PRODUCT_ID = "H6628_0000_P23.JP2"
RELEASE_ID = 0074
REVISION_ID = 0000
/* QUALITY DATA ELEMENTS */
DATA_QUALITY_ID = 1
DATA_QUALITY_DESC = "Data calculated based on original SPICE kernels"
/* TIME DATA ELEMENTS */
SPACECRAFT_CLOCK_START_COUNT = "1/0184041917.07296"
SPACECRAFT_CLOCK_STOP_COUNT = "1/0184042215.32887"
START_TIME = 2009-03-02T02:45:32.539Z
STOP_TIME = 2009-03-02T02:48:28.539Z
/* ORBITAL DATA ELEMENTS */
ASCENDING_NODE_LONGITUDE = 91.36
MAXIMUM_RESOLUTION = 34.9
FOOTPRINT_POINT_LATITUDE = (-60.097,-60.0789,-60.0579,-60.035, -60.0103,-59.9838,-59.8,-59.5034, -59.1083,-58.711,-58.306,-57.9036, -57.6989,-57.4927,-57.1837,-56.9783, -56.7688,-56.5588,-56.3476,-56.1375, -55.9245,-55.7042,-55.4952,-55.2811, -55.0634,-54.8442,-54.6174,-54.3964, -54.1731,-53.9553,-53.7326,-53.507, -53.2795,-53.0529,-52.7084,-52.3591, -52.1263,-51.89,-51.6545,-51.4202, -51.1814,-50.9451,-50.7065,-50.4654, -50.223,-49.8549,-49.6067,-49.3624, -49.1112,-48.8601,-48.8804,-48.8961, -48.9091,-48.9312,-48.9447,-48.9541, -49.2056,-49.4577,-49.7086,-49.9583, -50.1954,-50.4383,-50.6848,-51.0574, -51.2962,-51.5365,-51.7732,-52.0107, -52.2357,-52.4744,-52.8198,-53.0487, -53.2763,-53.5023,-53.7362,-53.956, -54.2926,-54.5181,-54.7378,-54.9528, -55.1722,-55.3918,-55.6077,-55.8299, -56.0487,-56.2632,-56.4741,-56.6857, -56.8972,-57.1084,-57.3132,-57.6198, -57.8272,-58.1379,-58.6431,-58.8463, -59.2447,-59.5429,-59.9404,-60.097)
FOOTPRINT_POINT_LONGITUDE = (298.075,297.66,297.215,296.77,296.324, 295.877,295.409,295.464,295.536,295.605 ,295.672,295.739,295.772,295.804, 295.851,295.882,295.912,295.942,295.971 ,295.999,296.028,296.051,296.083,296.11 ,296.137,296.163,296.182,296.205,296.23 ,296.258,296.282,296.305,296.328, 296.351,296.383,296.413,296.433,296.453 ,296.472,296.493,296.512,296.533, 296.552,296.571,296.59,296.615,296.63, 296.648,296.664,296.971,297.405,297.78, 298.097,298.673,299.104,299.662,299.643 ,299.622,299.6,299.579,299.563,299.543, 299.52,299.482,299.461,299.439,299.416, 299.393,299.376,299.35,299.316,299.294, 299.27,299.248,299.22,299.198,299.161, 299.134,299.109,299.087,299.061,299.034 ,299.008,298.977,298.948,298.921, 298.894,298.866,298.838,298.809,298.782 ,298.741,298.711,298.664,298.59,298.558 ,298.496,298.447,298.381,298.075)
ORBIT_NUMBER = 6628
ORBITAL_ECCENTRICITY = 0.576
ORBITAL_INCLINATION = 86.77
ORBITAL_SEMIMAJOR_AXIS = 8676.99
PERIAPSIS_ALTITUDE = 307.0
PERIAPSIS_ARGUMENT_ANGLE = 273.93
PERIAPSIS_TIME = 2009-03-02T02:39:21.000Z
SPACECRAFT_ORIENTATION = (0.0,1.0,0.0)
^MEX_ORIENTATION_DESC = "MEX_ORIENTATION_DESC.TXT"
SPACECRAFT_POINTING_MODE = ACROSSTRACK
^MEX_POINTING_DESC = "MEX_POINTING_DESC.TXT"
RIGHT_ASCENSION = -1e+32
DECLINATION = -1e+32
OFFSET_ANGLE = 0.3
SPACECRAFT_SOLAR_DISTANCE = 2.09308e+08
TARGET_NAME = MARS
/* CAMERA DATA ELEMENTS */
DETECTOR_TEMPERATURE = 18.1666
FOCAL_PLANE_TEMPERATURE = 7.5638
INST_CMPRS_NAME = "DISCRETE COSINE TRANSFORMATION (DCT)"
INST_CMPRS_RATIO = 7.78043
INST_CMPRS_QUALITY = 0
INST_CMPRS_QUANTZ_TBL_ID = 0
INSTRUMENT_TEMPERATURE = 10.8262
LENS_TEMPERATURE = 8.1755
MACROPIXEL_SIZE = 2
MISSING_FRAMES = 0
PIXEL_SUBSAMPLING_FLAG = N
SIGNAL_CHAIN_ID = 3
/* RADIOMETRIC DATA ELEMENTS */
BANDWIDTH = 177.0
CENTER_FILTER_WAVELENGTH = 676.5
RADIANCE_OFFSET = 5.31923
RADIANCE_SCALING_FACTOR = 0.0124865
REFLECTANCE_SCALING_FACTOR = 0.000290044
MEX:REFLECTANCE_OFFSET = 0.123559
/* IMAGE OBJECT DEFINITIONS */
OBJECT = IMAGE
  INTERCHANGE_FORMAT = BINARY
  LINES = 26540
  LINE_SAMPLES = 5914
  SAMPLE_TYPE = UNSIGNED_INTEGER
  SAMPLE_BITS = 8
  BANDS = 1
  BAND_STORAGE_TYPE = BAND_SEQUENTIAL
  MAXIMUM = 255
  MEAN = 125.286
  MINIMUM = 1
  STANDARD_DEVIATION = 25.2817
END_OBJECT = IMAGE
/* MAP OBJECT DEFINITIONS */
OBJECT = IMAGE_MAP_PROJECTION
  ^DATA_SET_MAP_PROJECTION_CATALOG= "DSMAP.CAT"
  A_AXIS_RADIUS = 3396.0
  B_AXIS_RADIUS = 3396.0
  C_AXIS_RADIUS = 3396.0
  CENTER_LATITUDE = 0.0
  CENTER_LONGITUDE = 298.0
  COORDINATE_SYSTEM_NAME = PLANETOGRAPHIC
  COORDINATE_SYSTEM_TYPE = "BODY-FIXED ROTATING"
  EASTERNMOST_LONGITUDE = 299.662
  FIRST_STANDARD_PARALLEL = "N/A"
  LINE_FIRST_PIXEL = 1
  LINE_LAST_PIXEL = 26540
  LINE_PROJECTION_OFFSET = -115764.75
  MAP_PROJECTION_ROTATION = 0.0
  MAP_PROJECTION_TYPE = SINUSOIDAL
  MAP_RESOLUTION = 2370.85521546667
  MAP_SCALE = 0.025
  MAXIMUM_LATITUDE = -48.8601
  MINIMUM_LATITUDE = -60.097
  POSITIVE_LONGITUDE_DIRECTION = EAST
  REFERENCE_LATITUDE = "N/A"
  REFERENCE_LONGITUDE = "N/A"
  SAMPLE_FIRST_PIXEL = 1
  SAMPLE_LAST_PIXEL = 5914
  SAMPLE_PROJECTION_OFFSET = 3173.25
  SECOND_STANDARD_PARALLEL = "N/A"
  WESTERNMOST_LONGITUDE = 295.409
END_OBJECT = IMAGE_MAP_PROJECTION
/* The JPEG2000 image data file associated with this label. */
OBJECT = COMPRESSED_FILE
  FILE_NAME = "H6628_0000_P23.JP2"
  RECORD_TYPE = UNDEFINED
  FILE_RECORDS = UNK
  ENCODING_TYPE = "JP2"
  INTERCHANGE_FORMAT = BINARY
  UNCOMPRESSED_FILE_NAME = "H6628_0000_P23.IMG"
  REQUIRED_STORAGE_BYTES = "156987130"
  ^DESCRIPTION = "JP2INFO.TXT"
END_OBJECT = COMPRESSED_FILE
END
