PDS_VERSION_ID = PDS3
/* FILE DATA ELEMENTS */
RECORD_TYPE = STREAM
/* POINTERS TO DATA OBJECTS */
^COMPRESSED_FILE = "H6641_0000_GR3.JP2"
/* IDENTIFICATION DATA ELEMENTS */
DATA_SET_ID = "MEX-M-HRSC-5-REFDR-MAPPROJECTED-V3.0"
DATA_SET_NAME = "MARS EXPRESS HRSC MAP PROJECTED REFDR V3.0"
DETECTOR_ID = MEX_HRSC_GREEN
EVENT_TYPE = "MARS-CLOUD-VARIABLE-At"
INSTRUMENT_HOST_ID = MEX
INSTRUMENT_HOST_NAME = "MARS EXPRESS"
INSTRUMENT_ID = HRSC
INSTRUMENT_NAME = "HIGH RESOLUTION STEREO CAMERA"
MISSION_NAME = "MARS EXPRESS"
MISSION_PHASE_NAME = ME_Phase_16
PROCESSING_LEVEL_ID = 3
PRODUCT_CREATION_TIME = 2016-06-29T05:28:41.000Z
PRODUCT_ID = "H6641_0000_GR3.JP2"
RELEASE_ID = 0074
REVISION_ID = 0000
/* QUALITY DATA ELEMENTS */
DATA_QUALITY_ID = 1
DATA_QUALITY_DESC = "Data calculated based on original SPICE kernels"
/* TIME DATA ELEMENTS */
SPACECRAFT_CLOCK_START_COUNT = "1/0184364725.07291"
SPACECRAFT_CLOCK_STOP_COUNT = "1/0184365242.54610"
START_TIME = 2009-03-05T20:25:45.442Z
STOP_TIME = 2009-03-05T20:34:03.402Z
/* ORBITAL DATA ELEMENTS */
ASCENDING_NODE_LONGITUDE = 91.1
MAXIMUM_RESOLUTION = 173
FOOTPRINT_POINT_LATITUDE = (-55.2538,-55.201,-55.1795,-54.6088, -54.0399,-53.4739,-52.9105,-52.3497, -51.7912,-51.2354,-50.6826,-50.1326, -49.5854,-49.0406,-48.4986,-47.9599, -47.4236,-46.8904,-46.36,-45.8327, -45.3076,-44.7859,-44.267,-43.7511, -43.238,-42.728,-42.2205,-41.7161, -41.2148,-40.7164,-40.2208,-39.7279, -39.2379,-38.751,-38.2668,-37.7863, -37.3081,-36.8327,-36.3602,-35.8903, -35.4239,-34.9607,-34.4998,-33.5859, -32.6838,-31.7931,-30.9137,-30.0454, -30.019,-30.014,-30.0062,-29.9933, -29.9754,-30.4035,-31.2866,-32.1806, -33.0855,-34.0014,-34.4632,-34.9275, -35.3952,-35.8662,-36.3392,-36.815, -37.2942,-37.7755,-38.261,-38.7476, -39.2384,-39.7318,-40.2276,-40.7262, -41.2272,-41.7322,-42.239,-42.7499, -43.2633,-43.7788,-44.2979,-44.8197, -45.3441,-45.8718,-46.4009,-46.9338, -47.4699,-48.0085,-48.5498,-49.094, -49.6413,-50.1912,-50.7438,-51.2987, -51.8567,-52.4172,-52.9803,-53.5458, -54.114,-54.6848,-55.2579,-55.2538)
FOOTPRINT_POINT_LONGITUDE = (68.0615,66.5128,65.7011,65.7527, 65.8037,65.8501,65.8934,65.9342,65.9731 ,66.0094,66.042,66.0721,66.0993,66.1258 ,66.1497,66.17,66.1895,66.2063,66.2211, 66.2336,66.2461,66.2558,66.2638,66.2698 ,66.2746,66.2777,66.2801,66.2808, 66.2797,66.2773,66.2739,66.2699,66.2648 ,66.258,66.2507,66.2404,66.2304,66.2199 ,66.2082,66.1963,66.1819,66.1661, 66.1505,66.1189,66.0829,66.0435,66.0011 ,65.9563,66.9875,67.692,68.3543,69.142, 69.9715,70.3624,70.3397,70.3157,70.2902 ,70.2629,70.2478,70.2318,70.2168, 70.2025,70.1856,70.1681,70.1517,70.1327 ,70.1167,70.0957,70.0776,70.0579, 70.0367,70.0145,69.9904,69.9684,69.9429 ,69.9199,69.8947,69.8669,69.8402, 69.8119,69.7819,69.752,69.7172,69.6838, 69.6502,69.6141,69.5766,69.538,69.4985, 69.4571,69.414,69.3674,69.3204,69.2707, 69.2186,69.1634,69.1061,69.0463,68.9827 ,68.0615)
ORBIT_NUMBER = 6641
ORBITAL_ECCENTRICITY = 0.576
ORBITAL_INCLINATION = 86.77
ORBITAL_SEMIMAJOR_AXIS = 8676.38
PERIAPSIS_ALTITUDE = 306.4
PERIAPSIS_ARGUMENT_ANGLE = 271.7
PERIAPSIS_TIME = 2009-03-05T20:17:02.000Z
SPACECRAFT_ORIENTATION = (0.0,1.0,0.0)
^MEX_ORIENTATION_DESC = "MEX_ORIENTATION_DESC.TXT"
SPACECRAFT_POINTING_MODE = NADIR
^MEX_POINTING_DESC = "MEX_POINTING_DESC.TXT"
RIGHT_ASCENSION = -1e+32
DECLINATION = -1e+32
OFFSET_ANGLE = -1e+32
SPACECRAFT_SOLAR_DISTANCE = 2.08936e+08
TARGET_NAME = MARS
/* CAMERA DATA ELEMENTS */
DETECTOR_TEMPERATURE = 18.1666
FOCAL_PLANE_TEMPERATURE = 7.156
INST_CMPRS_NAME = "DISCRETE COSINE TRANSFORMATION (DCT)"
INST_CMPRS_RATIO = 29.5044
INST_CMPRS_QUALITY = 0
INST_CMPRS_QUANTZ_TBL_ID = 0
INSTRUMENT_TEMPERATURE = 10.8262
LENS_TEMPERATURE = 7.9716
MACROPIXEL_SIZE = 8
MISSING_FRAMES = 0
PIXEL_SUBSAMPLING_FLAG = N
SIGNAL_CHAIN_ID = 2
/* RADIOMETRIC DATA ELEMENTS */
BANDWIDTH = 88.0
CENTER_FILTER_WAVELENGTH = 538.0
RADIANCE_OFFSET = 2.78195
RADIANCE_SCALING_FACTOR = 0.00429421
REFLECTANCE_SCALING_FACTOR = 0.000161398
MEX:REFLECTANCE_OFFSET = 0.10456
/* IMAGE OBJECT DEFINITIONS */
OBJECT = IMAGE
  INTERCHANGE_FORMAT = BINARY
  LINES = 7506
  LINE_SAMPLES = 1125
  SAMPLE_TYPE = UNSIGNED_INTEGER
  SAMPLE_BITS = 8
  BANDS = 1
  BAND_STORAGE_TYPE = BAND_SEQUENTIAL
  MAXIMUM = 255
  MEAN = 163.648
  MINIMUM = 3
  STANDARD_DEVIATION = 52.3099
END_OBJECT = IMAGE
/* MAP OBJECT DEFINITIONS */
OBJECT = IMAGE_MAP_PROJECTION
  ^DATA_SET_MAP_PROJECTION_CATALOG= "DSMAP.CAT"
  A_AXIS_RADIUS = 3396.0
  B_AXIS_RADIUS = 3396.0
  C_AXIS_RADIUS = 3396.0
  CENTER_LATITUDE = 0.0
  CENTER_LONGITUDE = 68.0
  COORDINATE_SYSTEM_NAME = PLANETOGRAPHIC
  COORDINATE_SYSTEM_TYPE = "BODY-FIXED ROTATING"
  EASTERNMOST_LONGITUDE = 70.36239999999999
  FIRST_STANDARD_PARALLEL = "N/A"
  LINE_FIRST_PIXEL = 1
  LINE_LAST_PIXEL = 7506
  LINE_PROJECTION_OFFSET = -8880.125
  MAP_PROJECTION_ROTATION = 0.0
  MAP_PROJECTION_TYPE = SINUSOIDAL
  MAP_RESOLUTION = 296.356901933333
  MAP_SCALE = 0.2
  MAXIMUM_LATITUDE = -29.9754
  MINIMUM_LATITUDE = -55.2579
  POSITIVE_LONGITUDE_DIRECTION = EAST
  REFERENCE_LATITUDE = "N/A"
  REFERENCE_LONGITUDE = "N/A"
  SAMPLE_FIRST_PIXEL = 1
  SAMPLE_LAST_PIXEL = 1125
  SAMPLE_PROJECTION_OFFSET = 525.375
  SECOND_STANDARD_PARALLEL = "N/A"
  WESTERNMOST_LONGITUDE = 65.7011
END_OBJECT = IMAGE_MAP_PROJECTION
/* The JPEG2000 image data file associated with this label. */
OBJECT = COMPRESSED_FILE
  FILE_NAME = "H6641_0000_GR3.JP2"
  RECORD_TYPE = UNDEFINED
  FILE_RECORDS = UNK
  ENCODING_TYPE = "JP2"
  INTERCHANGE_FORMAT = BINARY
  UNCOMPRESSED_FILE_NAME = "H6641_0000_GR3.IMG"
  REQUIRED_STORAGE_BYTES = "8463375"
  ^DESCRIPTION = "JP2INFO.TXT"
END_OBJECT = COMPRESSED_FILE
END
