PDS_VERSION_ID = PDS3
/* FILE DATA ELEMENTS */
RECORD_TYPE = STREAM
/* POINTERS TO DATA OBJECTS */
^COMPRESSED_FILE = "H6654_0000_ND3.JP2"
/* IDENTIFICATION DATA ELEMENTS */
DATA_SET_ID = "MEX-M-HRSC-5-REFDR-MAPPROJECTED-V3.0"
DATA_SET_NAME = "MARS EXPRESS HRSC MAP PROJECTED REFDR V3.0"
DETECTOR_ID = MEX_HRSC_NADIR
EVENT_TYPE = "MARS-LOCAL-STEREO-Gl-La-At"
INSTRUMENT_HOST_ID = MEX
INSTRUMENT_HOST_NAME = "MARS EXPRESS"
INSTRUMENT_ID = HRSC
INSTRUMENT_NAME = "HIGH RESOLUTION STEREO CAMERA"
MISSION_NAME = "MARS EXPRESS"
MISSION_PHASE_NAME = ME_Phase_16
PROCESSING_LEVEL_ID = 3
PRODUCT_CREATION_TIME = 2016-06-29T05:28:41.000Z
PRODUCT_ID = "H6654_0000_ND3.JP2"
RELEASE_ID = 0074
REVISION_ID = 0000
/* QUALITY DATA ELEMENTS */
DATA_QUALITY_ID = 1
DATA_QUALITY_DESC = "Data calculated based on original SPICE kernels"
/* TIME DATA ELEMENTS */
SPACECRAFT_CLOCK_START_COUNT = "1/0184686964.08246"
SPACECRAFT_CLOCK_STOP_COUNT = "1/0184687130.41748"
START_TIME = 2009-03-09T13:56:34.288Z
STOP_TIME = 2009-03-09T13:58:18.276Z
/* ORBITAL DATA ELEMENTS */
ASCENDING_NODE_LONGITUDE = 90.85
MAXIMUM_RESOLUTION = 12.5
FOOTPRINT_POINT_LATITUDE = (-82.5823,-82.491,-82.3803,-82.3038, -82.2145,-81.9925,-81.8743,-81.7557, -81.6367,-81.5173,-81.2773,-81.0359, -80.7933,-80.5495,-80.3046,-80.0588, -79.8122,-79.6861,-79.558,-79.4297, -79.3011,-79.1725,-79.0434,-78.9145, -78.7854,-78.6561,-78.5267,-78.3971, -78.2675,-78.1377,-78.0078,-77.8778, -77.7477,-77.6175,-77.4169,-77.2821, -77.1472,-77.0123,-76.8773,-76.7422, -76.6071,-76.4718,-76.3366,-76.2013, -76.0659,-75.9306,-75.7951,-75.829, -75.8964,-75.9383,-75.9754,-76.0105, -76.0391,-76.2554,-76.3931,-76.5308, -76.6685,-76.8062,-76.9437,-77.0814, -77.219,-77.3567,-77.4943,-77.6319, -77.7695,-77.9061,-78.0392,-78.1722, -78.3051,-78.4381,-78.5711,-78.704, -78.8368,-78.9696,-79.1023,-79.235, -79.3676,-79.5001,-79.6326,-79.7649, -79.8972,-80.0294,-80.16,-80.4152, -80.6698,-80.924,-81.0508,-81.1775, -81.3041,-81.4305,-81.5568,-81.6828, -81.8087,-81.9344,-82.0598,-82.185, -82.31,-82.4347,-82.5592,-82.5823)
FOOTPRINT_POINT_LONGITUDE = (180.86,179.181,177.333,176.155,174.864 ,174.935,175.368,175.787,176.195, 176.591,177.348,178.064,178.74,179.381, 179.988,180.564,181.112,181.381,181.646 ,181.905,182.156,182.402,182.639, 182.874,183.102,183.325,183.542,183.755 ,183.963,184.166,184.363,184.557, 184.746,184.931,185.208,185.388,185.565 ,185.737,185.906,186.07,186.232,186.389 ,186.543,186.695,186.843,186.988,187.13 ,187.794,188.929,189.691,190.41,191.132 ,191.761,191.814,191.701,191.586, 191.471,191.35,191.223,191.096,190.967, 190.835,190.7,190.563,190.424,190.283, 190.14,189.992,189.838,189.686,189.53, 189.369,189.204,189.034,188.861,188.684 ,188.501,188.313,188.121,187.925, 187.723,187.515,187.304,186.876,186.423 ,185.943,185.691,185.434,185.168, 184.895,184.614,184.323,184.024,183.716 ,183.397,183.068,182.728,182.377, 182.014,180.86)
ORBIT_NUMBER = 6654
ORBITAL_ECCENTRICITY = 0.576
ORBITAL_INCLINATION = 86.77
ORBITAL_SEMIMAJOR_AXIS = 8676.97
PERIAPSIS_ALTITUDE = 307.11
PERIAPSIS_ARGUMENT_ANGLE = 269.48
PERIAPSIS_TIME = 2009-03-09T13:54:43.000Z
SPACECRAFT_ORIENTATION = (0.0,1.0,0.0)
^MEX_ORIENTATION_DESC = "MEX_ORIENTATION_DESC.TXT"
SPACECRAFT_POINTING_MODE = NADIR
^MEX_POINTING_DESC = "MEX_POINTING_DESC.TXT"
RIGHT_ASCENSION = -1e+32
DECLINATION = -1e+32
OFFSET_ANGLE = -1e+32
SPACECRAFT_SOLAR_DISTANCE = 2.08591e+08
TARGET_NAME = MARS
/* CAMERA DATA ELEMENTS */
DETECTOR_TEMPERATURE = 18.5744
FOCAL_PLANE_TEMPERATURE = 8.9911
INST_CMPRS_NAME = "DISCRETE COSINE TRANSFORMATION (DCT)"
INST_CMPRS_RATIO = 3.8589
INST_CMPRS_QUALITY = 0
INST_CMPRS_QUANTZ_TBL_ID = 0
INSTRUMENT_TEMPERATURE = 11.6418
LENS_TEMPERATURE = 9.3989
MACROPIXEL_SIZE = 1
MISSING_FRAMES = 0
PIXEL_SUBSAMPLING_FLAG = N
SIGNAL_CHAIN_ID = 0
/* RADIOMETRIC DATA ELEMENTS */
BANDWIDTH = 177.0
CENTER_FILTER_WAVELENGTH = 677.5
RADIANCE_OFFSET = 3.96481
RADIANCE_SCALING_FACTOR = 0.0254081
REFLECTANCE_SCALING_FACTOR = 0.000587283
MEX:REFLECTANCE_OFFSET = 0.0916424
/* IMAGE OBJECT DEFINITIONS */
OBJECT = IMAGE
  INTERCHANGE_FORMAT = BINARY
  LINES = 32359
  LINE_SAMPLES = 14721
  SAMPLE_TYPE = UNSIGNED_INTEGER
  SAMPLE_BITS = 8
  BANDS = 1
  BAND_STORAGE_TYPE = BAND_SEQUENTIAL
  MAXIMUM = 255
  MEAN = 93.6047
  MINIMUM = 1
  STANDARD_DEVIATION = 44.1983
END_OBJECT = IMAGE
/* MAP OBJECT DEFINITIONS */
OBJECT = IMAGE_MAP_PROJECTION
  ^DATA_SET_MAP_PROJECTION_CATALOG= "DSMAP.CAT"
  A_AXIS_RADIUS = 3396.0
  B_AXIS_RADIUS = 3396.0
  C_AXIS_RADIUS = 3396.0
  CENTER_LATITUDE = 0.0
  CENTER_LONGITUDE = 185.0
  COORDINATE_SYSTEM_NAME = PLANETOGRAPHIC
  COORDINATE_SYSTEM_TYPE = "BODY-FIXED ROTATING"
  EASTERNMOST_LONGITUDE = 191.814
  FIRST_STANDARD_PARALLEL = "N/A"
  LINE_FIRST_PIXEL = 1
  LINE_LAST_PIXEL = 32359
  LINE_PROJECTION_OFFSET = -359403.0
  MAP_PROJECTION_ROTATION = 0.0
  MAP_PROJECTION_TYPE = SINUSOIDAL
  MAP_RESOLUTION = 4741.71043093333
  MAP_SCALE = 0.0125
  MAXIMUM_LATITUDE = -75.79510000000001
  MINIMUM_LATITUDE = -82.5823
  POSITIVE_LONGITUDE_DIRECTION = EAST
  REFERENCE_LATITUDE = "N/A"
  REFERENCE_LONGITUDE = "N/A"
  SAMPLE_FIRST_PIXEL = 1
  SAMPLE_LAST_PIXEL = 14721
  SAMPLE_PROJECTION_OFFSET = 6816.0
  SECOND_STANDARD_PARALLEL = "N/A"
  WESTERNMOST_LONGITUDE = 174.864
END_OBJECT = IMAGE_MAP_PROJECTION
/* The JPEG2000 image data file associated with this label. */
OBJECT = COMPRESSED_FILE
  FILE_NAME = "H6654_0000_ND3.JP2"
  RECORD_TYPE = UNDEFINED
  FILE_RECORDS = UNK
  ENCODING_TYPE = "JP2"
  INTERCHANGE_FORMAT = BINARY
  UNCOMPRESSED_FILE_NAME = "H6654_0000_ND3.IMG"
  REQUIRED_STORAGE_BYTES = "476401002"
  ^DESCRIPTION = "JP2INFO.TXT"
END_OBJECT = COMPRESSED_FILE
END
