PDS_VERSION_ID = PDS3
/* FILE DATA ELEMENTS */
RECORD_TYPE = STREAM
/* POINTERS TO DATA OBJECTS */
^COMPRESSED_FILE = "H6676_0000_RE3.JP2"
/* IDENTIFICATION DATA ELEMENTS */
DATA_SET_ID = "MEX-M-HRSC-5-REFDR-MAPPROJECTED-V3.0"
DATA_SET_NAME = "MARS EXPRESS HRSC MAP PROJECTED REFDR V3.0"
DETECTOR_ID = MEX_HRSC_RED
EVENT_TYPE = "MARS-REGIONAL-VARIABLE-Gl-At"
INSTRUMENT_HOST_ID = MEX
INSTRUMENT_HOST_NAME = "MARS EXPRESS"
INSTRUMENT_ID = HRSC
INSTRUMENT_NAME = "HIGH RESOLUTION STEREO CAMERA"
MISSION_NAME = "MARS EXPRESS"
MISSION_PHASE_NAME = ME_Phase_16
PROCESSING_LEVEL_ID = 3
PRODUCT_CREATION_TIME = 2016-06-29T05:28:41.000Z
PRODUCT_ID = "H6676_0000_RE3.JP2"
RELEASE_ID = 0074
REVISION_ID = 0000
/* QUALITY DATA ELEMENTS */
DATA_QUALITY_ID = 1
DATA_QUALITY_DESC = "Data calculated based on original SPICE kernels"
/* TIME DATA ELEMENTS */
SPACECRAFT_CLOCK_START_COUNT = "1/0185232846.09047"
SPACECRAFT_CLOCK_STOP_COUNT = "1/0185233148.37297"
START_TIME = 2009-03-15T21:34:13.323Z
STOP_TIME = 2009-03-15T21:38:12.601Z
/* ORBITAL DATA ELEMENTS */
ASCENDING_NODE_LONGITUDE = 90.43
MAXIMUM_RESOLUTION = 50.6
FOOTPRINT_POINT_LATITUDE = (-81.519,-81.4009,-81.2337,-81.241, -81.519,-81.7955,-82.205,-82.6096, -82.8764,-83.1389,-83.3936,-83.6504, -83.8986,-84.1412,-84.3733,-84.6009, -84.9266,-85.1308,-85.3235,-85.5028, -85.7427,-85.8805,-85.9985,-86.0947, -86.1674,-86.2298,-86.2389,-86.2032, -86.1471,-86.0167,-85.9023,-85.7671, -85.6132,-85.4423,-85.2553,-85.0508, -84.8395,-84.6098,-84.3752,-84.1287, -83.7438,-83.4793,-83.0725,-82.795, -82.5144,-82.2298,-81.9321,-81.4791, -81.1738,-81.2202,-81.308,-81.3714, -81.446,-81.5023,-81.8546,-82.1734, -82.49,-82.953,-83.254,-83.7005, -83.9959,-84.4304,-84.7149,-84.9932, -85.2655,-85.6576,-85.8994,-86.1321, -86.4563,-86.6536,-86.831,-87.0528, -87.1662,-87.2479,-87.2952,-87.2976, -87.219,-87.1249,-87.0005,-86.8493, -86.6756,-86.4827,-86.2738,-86.0512, -85.8169,-85.574,-85.1956,-84.935, -84.6706,-84.4063,-84.1324,-83.7153, -83.4333,-83.1482,-82.8613,-82.5728, -82.2828,-81.9919,-81.7003,-81.519)
FOOTPRINT_POINT_LONGITUDE = (344.819,347.003,349.705,350.923,351.8, 352.741,354.272,355.988,357.251,358.608 ,360.029,361.652,363.366,365.232,367.19 ,369.371,373.024,375.725,378.668,381.86 ,387.138,390.979,395.067,399.389, 403.908,410.931,415.703,422.823,427.453 ,434.094,438.239,442.143,445.791, 449.179,452.321,455.242,457.895,460.414 ,462.703,464.816,467.669,469.378, 471.691,473.085,474.373,475.565,476.707 ,478.268,479.217,480.993,482.358, 483.417,484.763,485.856,485.75,484.937, 484.058,482.616,481.564,479.797,478.458 ,476.202,474.489,472.594,470.475, 466.823,464.123,461.055,455.744,451.606 ,447.002,439.159,433.343,427.105,420.56 ,410.537,400.81,394.747,389.124,383.991 ,379.37,375.235,371.552,368.274,365.355 ,362.758,359.372,357.402,355.631, 354.038,352.583,350.644,349.491,348.433 ,347.462,346.568,345.741,344.976, 344.266,344.819)
ORBIT_NUMBER = 6676
ORBITAL_ECCENTRICITY = 0.575
ORBITAL_INCLINATION = 86.77
ORBITAL_SEMIMAJOR_AXIS = 8677.53
PERIAPSIS_ALTITUDE = 308.32
PERIAPSIS_ARGUMENT_ANGLE = 265.71
PERIAPSIS_TIME = 2009-03-15T21:35:31.000Z
SPACECRAFT_ORIENTATION = (0.0,1.0,0.0)
^MEX_ORIENTATION_DESC = "MEX_ORIENTATION_DESC.TXT"
SPACECRAFT_POINTING_MODE = NADIR
^MEX_POINTING_DESC = "MEX_POINTING_DESC.TXT"
RIGHT_ASCENSION = -1e+32
DECLINATION = -1e+32
OFFSET_ANGLE = -1e+32
SPACECRAFT_SOLAR_DISTANCE = 2.08068e+08
TARGET_NAME = MARS
/* CAMERA DATA ELEMENTS */
DETECTOR_TEMPERATURE = 18.5744
FOCAL_PLANE_TEMPERATURE = 8.1755
INST_CMPRS_NAME = "DISCRETE COSINE TRANSFORMATION (DCT)"
INST_CMPRS_RATIO = 6.96195
INST_CMPRS_QUALITY = 0
INST_CMPRS_QUANTZ_TBL_ID = 0
INSTRUMENT_TEMPERATURE = 11.234
LENS_TEMPERATURE = 7.7677
MACROPIXEL_SIZE = 4
MISSING_FRAMES = 0
PIXEL_SUBSAMPLING_FLAG = N
SIGNAL_CHAIN_ID = 2
/* RADIOMETRIC DATA ELEMENTS */
BANDWIDTH = 48.0
CENTER_FILTER_WAVELENGTH = 748.0
RADIANCE_OFFSET = 1.24086
RADIANCE_SCALING_FACTOR = 0.00552265
REFLECTANCE_SCALING_FACTOR = 0.000545611
MEX:REFLECTANCE_OFFSET = 0.122591
/* IMAGE OBJECT DEFINITIONS */
OBJECT = IMAGE
  INTERCHANGE_FORMAT = BINARY
  LINES = 16227
  LINE_SAMPLES = 11866
  SAMPLE_TYPE = UNSIGNED_INTEGER
  SAMPLE_BITS = 8
  BANDS = 1
  BAND_STORAGE_TYPE = BAND_SEQUENTIAL
  MAXIMUM = 255
  MEAN = 100.916
  MINIMUM = 1
  STANDARD_DEVIATION = 59.4468
END_OBJECT = IMAGE
/* MAP OBJECT DEFINITIONS */
OBJECT = IMAGE_MAP_PROJECTION
  ^DATA_SET_MAP_PROJECTION_CATALOG= "DSMAP.CAT"
  A_AXIS_RADIUS = 3396.0
  B_AXIS_RADIUS = 3396.0
  C_AXIS_RADIUS = 3396.0
  CENTER_LATITUDE = -90.0
  CENTER_LONGITUDE = 0.0
  COORDINATE_SYSTEM_NAME = PLANETOGRAPHIC
  COORDINATE_SYSTEM_TYPE = "BODY-FIXED ROTATING"
  EASTERNMOST_LONGITUDE = 125.856
  FIRST_STANDARD_PARALLEL = "N/A"
  LINE_FIRST_PIXEL = 1
  LINE_LAST_PIXEL = 16227
  LINE_PROJECTION_OFFSET = 10224.25
  MAP_PROJECTION_ROTATION = 0.0
  MAP_PROJECTION_TYPE = STEREOGRAPHIC
  MAP_RESOLUTION = 1185.42760773333
  MAP_SCALE = 0.05
  MAXIMUM_LATITUDE = -81.1738
  MINIMUM_LATITUDE = -87.2976
  POSITIVE_LONGITUDE_DIRECTION = EAST
  REFERENCE_LATITUDE = "N/A"
  REFERENCE_LONGITUDE = "N/A"
  SAMPLE_FIRST_PIXEL = 1
  SAMPLE_LAST_PIXEL = 11866
  SAMPLE_PROJECTION_OFFSET = 2658.75
  SECOND_STANDARD_PARALLEL = "N/A"
  WESTERNMOST_LONGITUDE = -15.734
END_OBJECT = IMAGE_MAP_PROJECTION
/* The JPEG2000 image data file associated with this label. */
OBJECT = COMPRESSED_FILE
  FILE_NAME = "H6676_0000_RE3.JP2"
  RECORD_TYPE = UNDEFINED
  FILE_RECORDS = UNK
  ENCODING_TYPE = "JP2"
  INTERCHANGE_FORMAT = BINARY
  UNCOMPRESSED_FILE_NAME = "H6676_0000_RE3.IMG"
  REQUIRED_STORAGE_BYTES = "192585180"
  ^DESCRIPTION = "JP2INFO.TXT"
END_OBJECT = COMPRESSED_FILE
END
