PDS_VERSION_ID = PDS3
/* FILE DATA ELEMENTS */
RECORD_TYPE = STREAM
/* POINTERS TO DATA OBJECTS */
^COMPRESSED_FILE = "H6685_0000_S23.JP2"
/* IDENTIFICATION DATA ELEMENTS */
DATA_SET_ID = "MEX-M-HRSC-5-REFDR-MAPPROJECTED-V3.0"
DATA_SET_NAME = "MARS EXPRESS HRSC MAP PROJECTED REFDR V3.0"
DETECTOR_ID = MEX_HRSC_S2
EVENT_TYPE = "MARS-REGIONAL-STEREO-Gl-La-At"
INSTRUMENT_HOST_ID = MEX
INSTRUMENT_HOST_NAME = "MARS EXPRESS"
INSTRUMENT_ID = HRSC
INSTRUMENT_NAME = "HIGH RESOLUTION STEREO CAMERA"
MISSION_NAME = "MARS EXPRESS"
MISSION_PHASE_NAME = ME_Phase_16
PROCESSING_LEVEL_ID = 3
PRODUCT_CREATION_TIME = 2016-06-29T05:28:41.000Z
PRODUCT_ID = "H6685_0000_S23.JP2"
RELEASE_ID = 0074
REVISION_ID = 0000
/* QUALITY DATA ELEMENTS */
DATA_QUALITY_ID = 1
DATA_QUALITY_DESC = "Data calculated based on original SPICE kernels"
/* TIME DATA ELEMENTS */
SPACECRAFT_CLOCK_START_COUNT = "1/0185456498.09058"
SPACECRAFT_CLOCK_STOP_COUNT = "1/0185456649.33937"
START_TIME = 2009-03-18T11:42:44.192Z
STOP_TIME = 2009-03-18T11:44:09.942Z
/* ORBITAL DATA ELEMENTS */
ASCENDING_NODE_LONGITUDE = 90.25
MAXIMUM_RESOLUTION = 15.3
FOOTPRINT_POINT_LATITUDE = (-81.0425,-81.114,-81.1828,-81.2486, -81.3114,-81.3997,-81.4748,-81.2536, -81.0764,-80.8995,-80.7016,-80.5959, -80.4899,-80.3841,-80.2783,-80.1726, -80.0141,-79.9083,-79.8047,-79.6965, -79.5905,-79.486,-79.381,-79.2758, -79.1711,-79.0133,-78.855,-78.7495, -78.5916,-78.4341,-78.329,-78.224, -78.1197,-78.0152,-77.9107,-77.7543, -77.6504,-77.5463,-77.4422,-77.3385, -77.1826,-77.0785,-76.9739,-76.8179, -76.7142,-76.6103,-76.5066,-76.4267, -76.4064,-76.3879,-76.3633,-76.3263, -76.2998,-76.272,-76.2467,-76.2208, -76.1876,-76.1598,-76.3011,-76.4035, -76.5054,-76.6076,-76.7101,-76.8123, -76.9141,-77.0164,-77.1697,-77.2722, -77.375,-77.4773,-77.6311,-77.7335, -77.8863,-77.9884,-78.1448,-78.2487, -78.3511,-78.4537,-78.607,-78.7578, -78.8583,-78.9606,-79.0641,-79.2238, -79.3781,-79.4824,-79.5858,-79.6896, -79.7924,-79.8923,-79.9944,-80.1488, -80.2527,-80.3555,-80.4526,-80.6204, -80.7485,-80.9195,-81.1325,-81.0425)
FOOTPRINT_POINT_LONGITUDE = (295.483,296.612,297.766,298.945, 300.148,301.999,303.43,303.797,304.076, 304.344,304.631,304.779,304.923,305.064 ,305.202,305.336,305.533,305.66,305.789 ,305.906,306.025,306.143,306.259, 306.371,306.482,306.643,306.798,306.899 ,307.047,307.191,307.285,307.377, 307.468,307.557,307.644,307.773,307.857 ,307.939,308.02,308.1,308.216,308.292, 308.365,308.475,308.546,308.616,308.685 ,308.177,307.694,307.274,306.737,305.97 ,305.443,304.919,304.457,303.998, 303.428,302.976,302.635,302.538,302.439 ,302.338,302.235,302.131,302.025, 301.917,301.752,301.638,301.522,301.406 ,301.226,301.103,300.916,300.788, 300.587,300.449,300.312,300.172,299.957 ,299.741,299.593,299.439,299.28,299.025 ,298.773,298.597,298.42,298.238,298.054 ,297.872,297.681,297.384,297.178, 296.969,296.768,296.411,296.128,295.736 ,295.224,295.483)
ORBIT_NUMBER = 6685
ORBITAL_ECCENTRICITY = 0.575
ORBITAL_INCLINATION = 86.77
ORBITAL_SEMIMAJOR_AXIS = 8677.87
PERIAPSIS_ALTITUDE = 308.08
PERIAPSIS_ARGUMENT_ANGLE = 264.2
PERIAPSIS_TIME = 2009-03-18T11:38:39.000Z
SPACECRAFT_ORIENTATION = (0.0,-1.0,0.0)
^MEX_ORIENTATION_DESC = "MEX_ORIENTATION_DESC.TXT"
SPACECRAFT_POINTING_MODE = ACROSSTRACK
^MEX_POINTING_DESC = "MEX_POINTING_DESC.TXT"
RIGHT_ASCENSION = -1e+32
DECLINATION = -1e+32
OFFSET_ANGLE = -0.5
SPACECRAFT_SOLAR_DISTANCE = 2.07876e+08
TARGET_NAME = MARS
/* CAMERA DATA ELEMENTS */
DETECTOR_TEMPERATURE = 17.9627
FOCAL_PLANE_TEMPERATURE = 7.7677
INST_CMPRS_NAME = "DISCRETE COSINE TRANSFORMATION (DCT)"
INST_CMPRS_RATIO = 28.7111
INST_CMPRS_QUALITY = 0
INST_CMPRS_QUANTZ_TBL_ID = 0
INSTRUMENT_TEMPERATURE = 11.0301
LENS_TEMPERATURE = 8.1755
MACROPIXEL_SIZE = 1
MISSING_FRAMES = 0
PIXEL_SUBSAMPLING_FLAG = N
SIGNAL_CHAIN_ID = 1
/* RADIOMETRIC DATA ELEMENTS */
BANDWIDTH = 178.0
CENTER_FILTER_WAVELENGTH = 679.0
RADIANCE_OFFSET = 7.14585
RADIANCE_SCALING_FACTOR = 0.0277081
REFLECTANCE_SCALING_FACTOR = 0.000634078
MEX:REFLECTANCE_OFFSET = 0.163527
/* IMAGE OBJECT DEFINITIONS */
OBJECT = IMAGE
  INTERCHANGE_FORMAT = BINARY
  LINES = 25392
  LINE_SAMPLES = 11729
  SAMPLE_TYPE = UNSIGNED_INTEGER
  SAMPLE_BITS = 8
  BANDS = 1
  BAND_STORAGE_TYPE = BAND_SEQUENTIAL
  MAXIMUM = 255
  MEAN = 248.423
  MINIMUM = 1
  STANDARD_DEVIATION = 29.2543
END_OBJECT = IMAGE
/* MAP OBJECT DEFINITIONS */
OBJECT = IMAGE_MAP_PROJECTION
  ^DATA_SET_MAP_PROJECTION_CATALOG= "DSMAP.CAT"
  A_AXIS_RADIUS = 3396.0
  B_AXIS_RADIUS = 3396.0
  C_AXIS_RADIUS = 3396.0
  CENTER_LATITUDE = 0.0
  CENTER_LONGITUDE = 303.0
  COORDINATE_SYSTEM_NAME = PLANETOGRAPHIC
  COORDINATE_SYSTEM_TYPE = "BODY-FIXED ROTATING"
  EASTERNMOST_LONGITUDE = 308.685
  FIRST_STANDARD_PARALLEL = "N/A"
  LINE_FIRST_PIXEL = 1
  LINE_LAST_PIXEL = 25392
  LINE_PROJECTION_OFFSET = -361300.0
  MAP_PROJECTION_ROTATION = 0.0
  MAP_PROJECTION_TYPE = SINUSOIDAL
  MAP_RESOLUTION = 4741.71043093333
  MAP_SCALE = 0.0125
  MAXIMUM_LATITUDE = -76.1598
  MINIMUM_LATITUDE = -81.4748
  POSITIVE_LONGITUDE_DIRECTION = EAST
  REFERENCE_LATITUDE = "N/A"
  REFERENCE_LONGITUDE = "N/A"
  SAMPLE_FIRST_PIXEL = 1
  SAMPLE_LAST_PIXEL = 11729
  SAMPLE_PROJECTION_OFFSET = 5629.0
  SECOND_STANDARD_PARALLEL = "N/A"
  WESTERNMOST_LONGITUDE = 295.224
END_OBJECT = IMAGE_MAP_PROJECTION
/* The JPEG2000 image data file associated with this label. */
OBJECT = COMPRESSED_FILE
  FILE_NAME = "H6685_0000_S23.JP2"
  RECORD_TYPE = UNDEFINED
  FILE_RECORDS = UNK
  ENCODING_TYPE = "JP2"
  INTERCHANGE_FORMAT = BINARY
  UNCOMPRESSED_FILE_NAME = "H6685_0000_S23.IMG"
  REQUIRED_STORAGE_BYTES = "297857955"
  ^DESCRIPTION = "JP2INFO.TXT"
END_OBJECT = COMPRESSED_FILE
END
