PDS_VERSION_ID = PDS3
/* FILE DATA ELEMENTS */
RECORD_TYPE = STREAM
/* POINTERS TO DATA OBJECTS */
^COMPRESSED_FILE = "H6687_0000_S13.JP2"
/* IDENTIFICATION DATA ELEMENTS */
DATA_SET_ID = "MEX-M-HRSC-5-REFDR-MAPPROJECTED-V3.0"
DATA_SET_NAME = "MARS EXPRESS HRSC MAP PROJECTED REFDR V3.0"
DETECTOR_ID = MEX_HRSC_S1
EVENT_TYPE = "MARS-LOCAL-STEREO-Im-Gl"
INSTRUMENT_HOST_ID = MEX
INSTRUMENT_HOST_NAME = "MARS EXPRESS"
INSTRUMENT_ID = HRSC
INSTRUMENT_NAME = "HIGH RESOLUTION STEREO CAMERA"
MISSION_NAME = "MARS EXPRESS"
MISSION_PHASE_NAME = ME_Phase_16
PROCESSING_LEVEL_ID = 3
PRODUCT_CREATION_TIME = 2016-06-29T05:28:41.000Z
PRODUCT_ID = "H6687_0000_S13.JP2"
RELEASE_ID = 0074
REVISION_ID = 0000
/* QUALITY DATA ELEMENTS */
DATA_QUALITY_ID = 1
DATA_QUALITY_DESC = "Data calculated based on original SPICE kernels"
/* TIME DATA ELEMENTS */
SPACECRAFT_CLOCK_START_COUNT = "1/0185506126.09059"
SPACECRAFT_CLOCK_STOP_COUNT = "1/0185506259.18458"
START_TIME = 2009-03-19T01:28:48.555Z
STOP_TIME = 2009-03-19T01:29:51.205Z
/* ORBITAL DATA ELEMENTS */
ASCENDING_NODE_LONGITUDE = 90.21
MAXIMUM_RESOLUTION = 14
FOOTPRINT_POINT_LATITUDE = (-82.387,-82.4225,-82.4572,-82.4911, -82.5243,-82.5566,-82.5882,-82.6189, -82.6486,-82.6776,-82.7056,-82.7327, -82.7748,-82.6953,-82.5784,-82.4612, -82.2654,-82.1106,-81.9108,-81.708, -81.6266,-81.5452,-81.4639,-81.3824, -81.26,-81.1784,-81.0966,-81.0147, -80.9327,-80.8507,-80.7275,-80.6044, -80.4811,-80.3989,-80.3167,-80.2343, -80.152,-80.0282,-79.9457,-79.8218, -79.6973,-79.6141,-79.5307,-79.447, -79.3633,-79.2372,-79.1545,-79.0717, -78.989,-78.9063,-78.8234,-78.7406, -78.6165,-78.586,-78.5667,-78.5509, -78.5223,-78.4997,-78.4814,-78.4515, -78.4288,-78.4052,-78.381,-78.356, -78.4665,-78.5474,-78.7089,-78.7897, -78.9506,-79.0313,-79.112,-79.1926, -79.2731,-79.3537,-79.4343,-79.5148, -79.5956,-79.756,-79.8358,-79.9937, -80.1152,-80.1961,-80.2759,-80.3566, -80.4763,-80.634,-80.7133,-80.8711, -81.024,-81.1809,-81.2987,-81.416, -81.494,-81.6109,-81.6885,-81.8396, -81.9888,-82.1374,-82.2871,-82.387)
FOOTPRINT_POINT_LONGITUDE = (89.3946,89.9878,90.5883,91.1958, 91.8107,92.4331,93.063,93.6995,94.3426, 94.9932,95.6515,96.317,97.4135,98.11, 98.3967,98.6752,99.1216,99.4466,99.847, 100.243,100.397,100.547,100.695,100.839 ,101.052,101.19,101.326,101.46,101.592, 101.721,101.911,102.096,102.275,102.392 ,102.507,102.621,102.732,102.896, 103.003,103.161,103.317,103.42,103.522, 103.623,103.723,103.871,103.962,104.053 ,104.14,104.227,104.313,104.398,104.521 ,103.842,103.282,102.85,102.115,101.569 ,101.146,100.486,100.01,99.538,99.0687, 98.6025,98.2281,98.1114,97.873,97.7509, 97.5018,97.3739,97.2441,97.1122,96.9784 ,96.8421,96.7037,96.5631,96.4196, 96.1273,95.9778,95.6738,95.4342,95.271, 95.1066,94.9379,94.6811,94.331,94.1501, 93.7799,93.4051,93.0079,92.6993,92.3827 ,92.1666,91.8347,91.6082,91.1538, 90.6862,90.2005,89.6905,89.3946)
ORBIT_NUMBER = 6687
ORBITAL_ECCENTRICITY = 0.575
ORBITAL_INCLINATION = 86.77
ORBITAL_SEMIMAJOR_AXIS = 8677.06
PERIAPSIS_ALTITUDE = 307.47
PERIAPSIS_ARGUMENT_ANGLE = 263.83
PERIAPSIS_TIME = 2009-03-19T01:25:59.000Z
SPACECRAFT_ORIENTATION = (0.0,-1.0,0.0)
^MEX_ORIENTATION_DESC = "MEX_ORIENTATION_DESC.TXT"
SPACECRAFT_POINTING_MODE = ACROSSTRACK
^MEX_POINTING_DESC = "MEX_POINTING_DESC.TXT"
RIGHT_ASCENSION = -1e+32
DECLINATION = -1e+32
OFFSET_ANGLE = -0.4
SPACECRAFT_SOLAR_DISTANCE = 2.07835e+08
TARGET_NAME = MARS
/* CAMERA DATA ELEMENTS */
DETECTOR_TEMPERATURE = 17.1471
FOCAL_PLANE_TEMPERATURE = 7.7677
INST_CMPRS_NAME = "DISCRETE COSINE TRANSFORMATION (DCT)"
INST_CMPRS_RATIO = 5.103
INST_CMPRS_QUALITY = 0
INST_CMPRS_QUANTZ_TBL_ID = 0
INSTRUMENT_TEMPERATURE = 11.0301
LENS_TEMPERATURE = 8.1755
MACROPIXEL_SIZE = 1
MISSING_FRAMES = 0
PIXEL_SUBSAMPLING_FLAG = N
SIGNAL_CHAIN_ID = 2
/* RADIOMETRIC DATA ELEMENTS */
BANDWIDTH = 180.0
CENTER_FILTER_WAVELENGTH = 677.0
RADIANCE_OFFSET = 5.36934
RADIANCE_SCALING_FACTOR = 0.0234925
REFLECTANCE_SCALING_FACTOR = 0.000529428
MEX:REFLECTANCE_OFFSET = 0.121004
/* IMAGE OBJECT DEFINITIONS */
OBJECT = IMAGE
  INTERCHANGE_FORMAT = BINARY
  LINES = 20691
  LINE_SAMPLES = 11252
  SAMPLE_TYPE = UNSIGNED_INTEGER
  SAMPLE_BITS = 8
  BANDS = 1
  BAND_STORAGE_TYPE = BAND_SEQUENTIAL
  MAXIMUM = 255
  MEAN = 147.324
  MINIMUM = 1
  STANDARD_DEVIATION = 47.8631
END_OBJECT = IMAGE
/* MAP OBJECT DEFINITIONS */
OBJECT = IMAGE_MAP_PROJECTION
  ^DATA_SET_MAP_PROJECTION_CATALOG= "DSMAP.CAT"
  A_AXIS_RADIUS = 3396.0
  B_AXIS_RADIUS = 3396.0
  C_AXIS_RADIUS = 3396.0
  CENTER_LATITUDE = 0.0
  CENTER_LONGITUDE = 98.0
  COORDINATE_SYSTEM_NAME = PLANETOGRAPHIC
  COORDINATE_SYSTEM_TYPE = "BODY-FIXED ROTATING"
  EASTERNMOST_LONGITUDE = 104.521
  FIRST_STANDARD_PARALLEL = "N/A"
  LINE_FIRST_PIXEL = 1
  LINE_LAST_PIXEL = 20691
  LINE_PROJECTION_OFFSET = -371281.0
  MAP_PROJECTION_ROTATION = 0.0
  MAP_PROJECTION_TYPE = SINUSOIDAL
  MAP_RESOLUTION = 4741.71043093333
  MAP_SCALE = 0.0125
  MAXIMUM_LATITUDE = -78.35599999999999
  MINIMUM_LATITUDE = -82.7748
  POSITIVE_LONGITUDE_DIRECTION = EAST
  REFERENCE_LATITUDE = "N/A"
  REFERENCE_LONGITUDE = "N/A"
  SAMPLE_FIRST_PIXEL = 1
  SAMPLE_LAST_PIXEL = 11252
  SAMPLE_PROJECTION_OFFSET = 5290.0
  SECOND_STANDARD_PARALLEL = "N/A"
  WESTERNMOST_LONGITUDE = 89.3946
END_OBJECT = IMAGE_MAP_PROJECTION
/* The JPEG2000 image data file associated with this label. */
OBJECT = COMPRESSED_FILE
  FILE_NAME = "H6687_0000_S13.JP2"
  RECORD_TYPE = UNDEFINED
  FILE_RECORDS = UNK
  ENCODING_TYPE = "JP2"
  INTERCHANGE_FORMAT = BINARY
  UNCOMPRESSED_FILE_NAME = "H6687_0000_S13.IMG"
  REQUIRED_STORAGE_BYTES = "232848888"
  ^DESCRIPTION = "JP2INFO.TXT"
END_OBJECT = COMPRESSED_FILE
END
