PDS_VERSION_ID = PDS3
/* FILE DATA ELEMENTS */
RECORD_TYPE = STREAM
/* POINTERS TO DATA OBJECTS */
^COMPRESSED_FILE = "H6700_0000_S13.JP2"
/* IDENTIFICATION DATA ELEMENTS */
DATA_SET_ID = "MEX-M-HRSC-5-REFDR-MAPPROJECTED-V3.0"
DATA_SET_NAME = "MARS EXPRESS HRSC MAP PROJECTED REFDR V3.0"
DETECTOR_ID = MEX_HRSC_S1
EVENT_TYPE = "MARS-REGIONAL-MAPPING-Te-Im-Fl"
INSTRUMENT_HOST_ID = MEX
INSTRUMENT_HOST_NAME = "MARS EXPRESS"
INSTRUMENT_ID = HRSC
INSTRUMENT_NAME = "HIGH RESOLUTION STEREO CAMERA"
MISSION_NAME = "MARS EXPRESS"
MISSION_PHASE_NAME = ME_Phase_16
PROCESSING_LEVEL_ID = 3
PRODUCT_CREATION_TIME = 2016-06-29T05:28:41.000Z
PRODUCT_ID = "H6700_0000_S13.JP2"
RELEASE_ID = 0074
REVISION_ID = 0000
/* QUALITY DATA ELEMENTS */
DATA_QUALITY_ID = 1
DATA_QUALITY_DESC = "Data calculated based on original SPICE kernels"
/* TIME DATA ELEMENTS */
SPACECRAFT_CLOCK_START_COUNT = "1/0185829038.09145"
SPACECRAFT_CLOCK_STOP_COUNT = "1/0185829655.40127"
START_TIME = 2009-03-22T19:10:40.569Z
STOP_TIME = 2009-03-22T19:16:52.185Z
/* ORBITAL DATA ELEMENTS */
ASCENDING_NODE_LONGITUDE = 89.96
MAXIMUM_RESOLUTION = 39.1
FOOTPRINT_POINT_LATITUDE = (-68.1222,-68.2188,-68.2974,-68.3642, -67.9361,-67.5806,-67.0331,-66.6716, -66.2979,-65.9256,-65.5588,-65.1816, -64.6073,-64.2215,-63.8312,-63.4388, -63.0397,-62.4369,-62.0305,-61.6184, -60.9932,-60.3587,-59.9318,-59.4972, -59.0614,-58.3998,-57.9537,-57.4997, -57.0432,-56.5717,-55.8729,-55.1566, -54.4226,-53.9223,-53.4276,-52.9242, -52.4152,-51.8988,-51.3776,-50.844, -50.0358,-49.4951,-48.9188,-48.3573, -47.7901,-47.2155,-46.6321,-46.0419, -45.4457,-45.3891,-45.3735,-45.3466, -45.3202,-45.2971,-45.2564,-45.8521, -46.4405,-47.0183,-47.5909,-48.1555, -48.7132,-49.5594,-50.1002,-50.6347, -51.1617,-51.6834,-52.1973,-52.7062, -53.2083,-53.7051,-54.1965,-54.6822, -55.162,-55.6383,-56.1076,-56.5712, -57.0304,-57.7066,-58.3789,-58.8169, -59.2538,-59.6861,-60.1118,-60.7404, -61.3625,-61.778,-62.1806,-62.7801, -63.1769,-63.5675,-63.9563,-64.3402, -64.723,-65.0994,-65.4775,-66.0283, -66.3979,-66.7587,-67.2947,-68.1222)
FOOTPRINT_POINT_LONGITUDE = (232.778,234.15,235.443,236.738,237.142 ,237.255,237.427,237.532,237.641, 237.744,237.838,237.934,238.076,238.167 ,238.255,238.341,238.427,238.549, 238.629,238.706,238.82,238.929,238.999, 239.069,239.135,239.232,239.294,239.356 ,239.415,239.478,239.561,239.643, 239.725,239.78,239.828,239.876,239.923, 239.969,240.014,240.059,240.124,240.163 ,240.205,240.244,240.281,240.318, 240.353,240.387,240.42,239.911,239.2, 238.292,237.619,237.104,236.335,236.32, 236.303,236.282,236.26,236.236,236.209, 236.165,236.134,236.101,236.065,236.028 ,235.988,235.946,235.902,235.856, 235.808,235.758,235.706,235.652,235.595 ,235.536,235.475,235.377,235.278, 235.207,235.136,235.06,234.983,234.86, 234.734,234.648,234.556,234.414,234.316 ,234.215,234.11,234.003,233.893,233.779 ,233.663,233.478,233.355,233.224,233.02 ,232.778)
ORBIT_NUMBER = 6700
ORBITAL_ECCENTRICITY = 0.576
ORBITAL_INCLINATION = 86.78
ORBITAL_SEMIMAJOR_AXIS = 8678.94
PERIAPSIS_ALTITUDE = 307.41
PERIAPSIS_ARGUMENT_ANGLE = 261.61
PERIAPSIS_TIME = 2009-03-22T19:03:38.000Z
SPACECRAFT_ORIENTATION = (0.0,-1.0,0.0)
^MEX_ORIENTATION_DESC = "MEX_ORIENTATION_DESC.TXT"
SPACECRAFT_POINTING_MODE = ACROSSTRACK
^MEX_POINTING_DESC = "MEX_POINTING_DESC.TXT"
RIGHT_ASCENSION = -1e+32
DECLINATION = -1e+32
OFFSET_ANGLE = 0.29
SPACECRAFT_SOLAR_DISTANCE = 2.07586e+08
TARGET_NAME = MARS
/* CAMERA DATA ELEMENTS */
DETECTOR_TEMPERATURE = 17.351
FOCAL_PLANE_TEMPERATURE = 8.1755
INST_CMPRS_NAME = "DISCRETE COSINE TRANSFORMATION (DCT)"
INST_CMPRS_RATIO = 11.2056
INST_CMPRS_QUALITY = 0
INST_CMPRS_QUANTZ_TBL_ID = 0
INSTRUMENT_TEMPERATURE = 11.234
LENS_TEMPERATURE = 8.5833
MACROPIXEL_SIZE = 2
MISSING_FRAMES = 3
PIXEL_SUBSAMPLING_FLAG = N
SIGNAL_CHAIN_ID = 1
/* RADIOMETRIC DATA ELEMENTS */
BANDWIDTH = 180.0
CENTER_FILTER_WAVELENGTH = 677.0
RADIANCE_OFFSET = 6.14277
RADIANCE_SCALING_FACTOR = 0.0196808
REFLECTANCE_SCALING_FACTOR = 0.000442465
MEX:REFLECTANCE_OFFSET = 0.138102
/* IMAGE OBJECT DEFINITIONS */
OBJECT = IMAGE
  INTERCHANGE_FORMAT = BINARY
  LINES = 27275
  LINE_SAMPLES = 5043
  SAMPLE_TYPE = UNSIGNED_INTEGER
  SAMPLE_BITS = 8
  BANDS = 1
  BAND_STORAGE_TYPE = BAND_SEQUENTIAL
  MAXIMUM = 255
  MEAN = 95.7217
  MINIMUM = 1
  STANDARD_DEVIATION = 39.3077
END_OBJECT = IMAGE
/* MAP OBJECT DEFINITIONS */
OBJECT = IMAGE_MAP_PROJECTION
  ^DATA_SET_MAP_PROJECTION_CATALOG= "DSMAP.CAT"
  A_AXIS_RADIUS = 3396.0
  B_AXIS_RADIUS = 3396.0
  C_AXIS_RADIUS = 3396.0
  CENTER_LATITUDE = 0.0
  CENTER_LONGITUDE = 237.0
  COORDINATE_SYSTEM_NAME = PLANETOGRAPHIC
  COORDINATE_SYSTEM_TYPE = "BODY-FIXED ROTATING"
  EASTERNMOST_LONGITUDE = 240.42
  FIRST_STANDARD_PARALLEL = "N/A"
  LINE_FIRST_PIXEL = 1
  LINE_LAST_PIXEL = 27275
  LINE_PROJECTION_OFFSET = -53611.25
  MAP_PROJECTION_ROTATION = 0.0
  MAP_PROJECTION_TYPE = SINUSOIDAL
  MAP_RESOLUTION = 1185.42760773333
  MAP_SCALE = 0.05
  MAXIMUM_LATITUDE = -45.2564
  MINIMUM_LATITUDE = -68.3642
  POSITIVE_LONGITUDE_DIRECTION = EAST
  REFERENCE_LATITUDE = "N/A"
  REFERENCE_LONGITUDE = "N/A"
  SAMPLE_FIRST_PIXEL = 1
  SAMPLE_LAST_PIXEL = 5043
  SAMPLE_PROJECTION_OFFSET = 1976.75
  SECOND_STANDARD_PARALLEL = "N/A"
  WESTERNMOST_LONGITUDE = 232.778
END_OBJECT = IMAGE_MAP_PROJECTION
/* The JPEG2000 image data file associated with this label. */
OBJECT = COMPRESSED_FILE
  FILE_NAME = "H6700_0000_S13.JP2"
  RECORD_TYPE = UNDEFINED
  FILE_RECORDS = UNK
  ENCODING_TYPE = "JP2"
  INTERCHANGE_FORMAT = BINARY
  UNCOMPRESSED_FILE_NAME = "H6700_0000_S13.IMG"
  REQUIRED_STORAGE_BYTES = "137573040"
  ^DESCRIPTION = "JP2INFO.TXT"
END_OBJECT = COMPRESSED_FILE
END
