PDS_VERSION_ID = PDS3
/* FILE DATA ELEMENTS */
RECORD_TYPE = STREAM
/* POINTERS TO DATA OBJECTS */
^COMPRESSED_FILE = "H6713_0000_P13.JP2"
/* IDENTIFICATION DATA ELEMENTS */
DATA_SET_ID = "MEX-M-HRSC-5-REFDR-MAPPROJECTED-V3.0"
DATA_SET_NAME = "MARS EXPRESS HRSC MAP PROJECTED REFDR V3.0"
DETECTOR_ID = MEX_HRSC_P1
EVENT_TYPE = "MARS-REGIONAL-STEREO-Gl-La-At"
INSTRUMENT_HOST_ID = MEX
INSTRUMENT_HOST_NAME = "MARS EXPRESS"
INSTRUMENT_ID = HRSC
INSTRUMENT_NAME = "HIGH RESOLUTION STEREO CAMERA"
MISSION_NAME = "MARS EXPRESS"
MISSION_PHASE_NAME = ME_Phase_16
PROCESSING_LEVEL_ID = 3
PRODUCT_CREATION_TIME = 2016-06-29T08:07:06.000Z
PRODUCT_ID = "H6713_0000_P13.JP2"
RELEASE_ID = 0075
REVISION_ID = 0000
/* QUALITY DATA ELEMENTS */
DATA_QUALITY_ID = 1
DATA_QUALITY_DESC = "Data calculated based on original SPICE kernels"
/* TIME DATA ELEMENTS */
SPACECRAFT_CLOCK_START_COUNT = "1/0186151636.08229"
SPACECRAFT_CLOCK_STOP_COUNT = "1/0186151827.09078"
START_TIME = 2009-03-26T12:47:31.961Z
STOP_TIME = 2009-03-26T12:48:58.215Z
/* ORBITAL DATA ELEMENTS */
ASCENDING_NODE_LONGITUDE = 89.71
MAXIMUM_RESOLUTION = 32
FOOTPRINT_POINT_LATITUDE = (-74.3792,-74.4168,-74.4533,-74.4888, -74.5234,-74.557,-74.5896,-74.6213, -74.652,-74.6817,-74.7106,-74.7386, -74.7656,-74.6546,-74.4533,-74.2517, -74.0454,-73.839,-73.6327,-73.4778, -73.323,-73.112,-73.0063,-72.9007, -72.6895,-72.4784,-72.3724,-72.2096, -72.1013,-71.9938,-71.832,-71.6702, -71.562,-71.4518,-71.3414,-71.2318, -71.1215,-71.0113,-70.9007,-70.7345, -70.5686,-70.457,-70.3444,-70.2318, -70.0628,-69.9505,-69.8385,-69.7243, -69.6097,-69.4948,-69.301,-69.2778, -69.2537,-69.2228,-69.1971,-69.1704, -69.1392,-69.0993,-69.0694,-69.029, -68.9988,-68.9633,-69.0585,-69.2288, -69.3423,-69.4562,-69.5673,-69.6783, -69.7897,-69.9563,-70.0673,-70.179, -70.2901,-70.3982,-70.5069,-70.6157, -70.7789,-70.8885,-70.9968,-71.1062, -71.2126,-71.3185,-71.4248,-71.5318, -71.6381,-71.7447,-71.8512,-72.0107, -72.2186,-72.3747,-72.6325,-72.8403, -72.9951,-73.1998,-73.4535,-73.6057, -73.8575,-74.0531,-74.2531,-74.3792)
FOOTPRINT_POINT_LONGITUDE = (355.799,356.209,356.619,357.028, 357.438,357.847,358.255,358.664,359.071 ,359.479,359.886,360.294,360.7,360.783, 360.957,361.126,361.294,361.459,361.618 ,361.735,361.85,362.003,362.078,362.151 ,362.296,362.438,362.507,362.612, 362.681,362.748,362.848,362.946,363.01, 363.075,363.139,363.202,363.265,363.326 ,363.387,363.477,363.566,363.625, 363.684,363.742,363.827,363.883,363.938 ,363.993,364.049,364.103,364.055,363.69 ,363.324,362.866,362.499,362.131, 361.717,361.209,360.84,360.375,360.047, 359.632,359.365,359.268,359.202,359.136 ,359.07,359.003,358.935,358.832,358.761 ,358.691,358.62,358.548,358.475,358.402 ,358.29,358.216,358.138,358.062,357.985 ,357.906,357.827,357.748,357.667, 357.585,357.502,357.376,357.207,357.077 ,356.85,356.667,356.531,356.347,356.105 ,355.956,355.701,355.491,355.285, 355.799)
ORBIT_NUMBER = 6713
ORBITAL_ECCENTRICITY = 0.575
ORBITAL_INCLINATION = 86.77
ORBITAL_SEMIMAJOR_AXIS = 8679.64
PERIAPSIS_ALTITUDE = 308.71
PERIAPSIS_ARGUMENT_ANGLE = 259.38
PERIAPSIS_TIME = 2009-03-26T12:41:24.000Z
SPACECRAFT_ORIENTATION = (0.0,-1.0,0.0)
^MEX_ORIENTATION_DESC = "MEX_ORIENTATION_DESC.TXT"
SPACECRAFT_POINTING_MODE = ACROSSTRACK
^MEX_POINTING_DESC = "MEX_POINTING_DESC.TXT"
RIGHT_ASCENSION = -1e+32
DECLINATION = -1e+32
OFFSET_ANGLE = 0.9
SPACECRAFT_SOLAR_DISTANCE = 2.07365e+08
TARGET_NAME = MARS
/* CAMERA DATA ELEMENTS */
DETECTOR_TEMPERATURE = 17.351
FOCAL_PLANE_TEMPERATURE = 8.1755
INST_CMPRS_NAME = "DISCRETE COSINE TRANSFORMATION (DCT)"
INST_CMPRS_RATIO = 13.4856
INST_CMPRS_QUALITY = 0
INST_CMPRS_QUANTZ_TBL_ID = 0
INSTRUMENT_TEMPERATURE = 11.0301
LENS_TEMPERATURE = 8.3794
MACROPIXEL_SIZE = 2
MISSING_FRAMES = 0
PIXEL_SUBSAMPLING_FLAG = N
SIGNAL_CHAIN_ID = 3
/* RADIOMETRIC DATA ELEMENTS */
BANDWIDTH = 174.0
CENTER_FILTER_WAVELENGTH = 675.0
RADIANCE_OFFSET = 7.54808
RADIANCE_SCALING_FACTOR = 0.0363475
REFLECTANCE_SCALING_FACTOR = 0.000840678
MEX:REFLECTANCE_OFFSET = 0.174579
/* IMAGE OBJECT DEFINITIONS */
OBJECT = IMAGE
  INTERCHANGE_FORMAT = BINARY
  LINES = 13536
  LINE_SAMPLES = 6674
  SAMPLE_TYPE = UNSIGNED_INTEGER
  SAMPLE_BITS = 8
  BANDS = 1
  BAND_STORAGE_TYPE = BAND_SEQUENTIAL
  MAXIMUM = 255
  MEAN = 205.446
  MINIMUM = 1
  STANDARD_DEVIATION = 72.2721
END_OBJECT = IMAGE
/* MAP OBJECT DEFINITIONS */
OBJECT = IMAGE_MAP_PROJECTION
  ^DATA_SET_MAP_PROJECTION_CATALOG= "DSMAP.CAT"
  A_AXIS_RADIUS = 3396.0
  B_AXIS_RADIUS = 3396.0
  C_AXIS_RADIUS = 3396.0
  CENTER_LATITUDE = 0.0
  CENTER_LONGITUDE = 0.0
  COORDINATE_SYSTEM_NAME = PLANETOGRAPHIC
  COORDINATE_SYSTEM_TYPE = "BODY-FIXED ROTATING"
  EASTERNMOST_LONGITUDE = 4.103
  FIRST_STANDARD_PARALLEL = "N/A"
  LINE_FIRST_PIXEL = 1
  LINE_LAST_PIXEL = 13536
  LINE_PROJECTION_OFFSET = -163486.75
  MAP_PROJECTION_ROTATION = 0.0
  MAP_PROJECTION_TYPE = SINUSOIDAL
  MAP_RESOLUTION = 2370.85521546667
  MAP_SCALE = 0.025
  MAXIMUM_LATITUDE = -68.9633
  MINIMUM_LATITUDE = -74.76560000000001
  POSITIVE_LONGITUDE_DIRECTION = EAST
  REFERENCE_LATITUDE = "N/A"
  REFERENCE_LONGITUDE = "N/A"
  SAMPLE_FIRST_PIXEL = 1
  SAMPLE_LAST_PIXEL = 6674
  SAMPLE_PROJECTION_OFFSET = 3033.25
  SECOND_STANDARD_PARALLEL = "N/A"
  WESTERNMOST_LONGITUDE = -4.715
END_OBJECT = IMAGE_MAP_PROJECTION
/* The JPEG2000 image data file associated with this label. */
OBJECT = COMPRESSED_FILE
  FILE_NAME = "H6713_0000_P13.JP2"
  RECORD_TYPE = UNDEFINED
  FILE_RECORDS = UNK
  ENCODING_TYPE = "JP2"
  INTERCHANGE_FORMAT = BINARY
  UNCOMPRESSED_FILE_NAME = "H6713_0000_P13.IMG"
  REQUIRED_STORAGE_BYTES = "90372634"
  ^DESCRIPTION = "JP2INFO.TXT"
END_OBJECT = COMPRESSED_FILE
END
