PDS_VERSION_ID = PDS3
/* FILE DATA ELEMENTS */
RECORD_TYPE = STREAM
/* POINTERS TO DATA OBJECTS */
^COMPRESSED_FILE = "H6713_0000_S13.JP2"
/* IDENTIFICATION DATA ELEMENTS */
DATA_SET_ID = "MEX-M-HRSC-5-REFDR-MAPPROJECTED-V3.0"
DATA_SET_NAME = "MARS EXPRESS HRSC MAP PROJECTED REFDR V3.0"
DETECTOR_ID = MEX_HRSC_S1
EVENT_TYPE = "MARS-REGIONAL-STEREO-Gl-La-At"
INSTRUMENT_HOST_ID = MEX
INSTRUMENT_HOST_NAME = "MARS EXPRESS"
INSTRUMENT_ID = HRSC
INSTRUMENT_NAME = "HIGH RESOLUTION STEREO CAMERA"
MISSION_NAME = "MARS EXPRESS"
MISSION_PHASE_NAME = ME_Phase_16
PROCESSING_LEVEL_ID = 3
PRODUCT_CREATION_TIME = 2016-06-29T08:07:06.000Z
PRODUCT_ID = "H6713_0000_S13.JP2"
RELEASE_ID = 0075
REVISION_ID = 0000
/* QUALITY DATA ELEMENTS */
DATA_QUALITY_ID = 1
DATA_QUALITY_DESC = "Data calculated based on original SPICE kernels"
/* TIME DATA ELEMENTS */
SPACECRAFT_CLOCK_START_COUNT = "1/0186151636.08229"
SPACECRAFT_CLOCK_STOP_COUNT = "1/0186151827.09078"
START_TIME = 2009-03-26T12:47:18.539Z
STOP_TIME = 2009-03-26T12:48:42.681Z
/* ORBITAL DATA ELEMENTS */
ASCENDING_NODE_LONGITUDE = 89.71
MAXIMUM_RESOLUTION = 16.2
FOOTPRINT_POINT_LATITUDE = (-74.389,-74.455,-74.4942,-74.5325, -74.5697,-74.6059,-74.6411,-74.6753, -74.7085,-74.7407,-74.7719,-74.8023, -74.8316,-74.6389,-74.4382,-74.284, -74.0264,-73.8205,-73.666,-73.4598, -73.25,-72.9861,-72.7221,-72.5638, -72.4043,-72.2964,-72.1873,-72.0784, -71.9174,-71.8094,-71.7013,-71.5928, -71.482,-71.3154,-71.2064,-71.0958, -70.9854,-70.8733,-70.7625,-70.6523, -70.5437,-70.4306,-70.3174,-70.1477, -69.9782,-69.866,-69.7538,-69.6393, -69.5239,-69.3347,-69.306,-69.2823, -69.2553,-69.2308,-69.202,-69.1684, -69.1338,-69.1057,-69.0542,-69.0203, -68.954,-69.1251,-69.2393,-69.353, -69.4651,-69.5765,-69.6882,-69.7999, -69.9115,-70.0231,-70.135,-70.2459, -70.3547,-70.4631,-70.5722,-70.7354, -70.9006,-71.0092,-71.1184,-71.2247, -71.3308,-71.4374,-71.5446,-71.7044, -71.8644,-71.9711,-72.0765,-72.2845, -72.4399,-72.5922,-72.7483,-72.9576, -73.11,-73.3159,-73.5184,-73.7209, -73.8726,-74.0684,-74.2688,-74.389)
FOOTPRINT_POINT_LONGITUDE = (355.441,356.107,356.516,356.925, 357.334,357.743,358.152,358.56,358.968, 359.376,359.784,360.191,360.598,360.758 ,360.931,361.06,361.271,361.434,361.554 ,361.71,361.864,362.053,362.235,362.342 ,362.447,362.518,362.587,362.656, 362.757,362.823,362.888,362.953,363.018 ,363.115,363.177,363.24,363.301,363.363 ,363.423,363.482,363.54,363.6,363.658, 363.745,363.829,363.885,363.94,363.995, 364.05,363.998,363.589,363.27,362.904, 362.584,362.218,361.806,361.392,361.07, 360.515,360.146,359.474,359.378,359.312 ,359.246,359.181,359.114,359.047, 358.979,358.909,358.839,358.768,358.698 ,358.626,358.553,358.48,358.368,358.256 ,358.179,358.102,358.024,357.945, 357.866,357.787,357.664,357.539,357.455 ,357.37,357.2,357.068,356.93,356.794, 356.609,356.47,356.284,356.088,355.887, 355.733,355.521,355.314,355.441)
ORBIT_NUMBER = 6713
ORBITAL_ECCENTRICITY = 0.575
ORBITAL_INCLINATION = 86.77
ORBITAL_SEMIMAJOR_AXIS = 8679.64
PERIAPSIS_ALTITUDE = 308.71
PERIAPSIS_ARGUMENT_ANGLE = 259.38
PERIAPSIS_TIME = 2009-03-26T12:41:24.000Z
SPACECRAFT_ORIENTATION = (0.0,-1.0,0.0)
^MEX_ORIENTATION_DESC = "MEX_ORIENTATION_DESC.TXT"
SPACECRAFT_POINTING_MODE = ACROSSTRACK
^MEX_POINTING_DESC = "MEX_POINTING_DESC.TXT"
RIGHT_ASCENSION = -1e+32
DECLINATION = -1e+32
OFFSET_ANGLE = 0.9
SPACECRAFT_SOLAR_DISTANCE = 2.07365e+08
TARGET_NAME = MARS
/* CAMERA DATA ELEMENTS */
DETECTOR_TEMPERATURE = 17.351
FOCAL_PLANE_TEMPERATURE = 8.1755
INST_CMPRS_NAME = "DISCRETE COSINE TRANSFORMATION (DCT)"
INST_CMPRS_RATIO = 10.7593
INST_CMPRS_QUALITY = 0
INST_CMPRS_QUANTZ_TBL_ID = 0
INSTRUMENT_TEMPERATURE = 11.0301
LENS_TEMPERATURE = 8.3794
MACROPIXEL_SIZE = 1
MISSING_FRAMES = 0
PIXEL_SUBSAMPLING_FLAG = N
SIGNAL_CHAIN_ID = 2
/* RADIOMETRIC DATA ELEMENTS */
BANDWIDTH = 180.0
CENTER_FILTER_WAVELENGTH = 677.0
RADIANCE_OFFSET = 7.93229
RADIANCE_SCALING_FACTOR = 0.041557
REFLECTANCE_SCALING_FACTOR = 0.000932305
MEX:REFLECTANCE_OFFSET = 0.177956
/* IMAGE OBJECT DEFINITIONS */
OBJECT = IMAGE
  INTERCHANGE_FORMAT = BINARY
  LINES = 27071
  LINE_SAMPLES = 13347
  SAMPLE_TYPE = UNSIGNED_INTEGER
  SAMPLE_BITS = 8
  BANDS = 1
  BAND_STORAGE_TYPE = BAND_SEQUENTIAL
  MAXIMUM = 255
  MEAN = 194.092
  MINIMUM = 1
  STANDARD_DEVIATION = 73.2948
END_OBJECT = IMAGE
/* MAP OBJECT DEFINITIONS */
OBJECT = IMAGE_MAP_PROJECTION
  ^DATA_SET_MAP_PROJECTION_CATALOG= "DSMAP.CAT"
  A_AXIS_RADIUS = 3396.0
  B_AXIS_RADIUS = 3396.0
  C_AXIS_RADIUS = 3396.0
  CENTER_LATITUDE = 0.0
  CENTER_LONGITUDE = 0.0
  COORDINATE_SYSTEM_NAME = PLANETOGRAPHIC
  COORDINATE_SYSTEM_TYPE = "BODY-FIXED ROTATING"
  EASTERNMOST_LONGITUDE = 4.05
  FIRST_STANDARD_PARALLEL = "N/A"
  LINE_FIRST_PIXEL = 1
  LINE_LAST_PIXEL = 27071
  LINE_PROJECTION_OFFSET = -326973.0
  MAP_PROJECTION_ROTATION = 0.0
  MAP_PROJECTION_TYPE = SINUSOIDAL
  MAP_RESOLUTION = 4741.71043093333
  MAP_SCALE = 0.0125
  MAXIMUM_LATITUDE = -68.95399999999999
  MINIMUM_LATITUDE = -74.83159999999999
  POSITIVE_LONGITUDE_DIRECTION = EAST
  REFERENCE_LATITUDE = "N/A"
  REFERENCE_LONGITUDE = "N/A"
  SAMPLE_FIRST_PIXEL = 1
  SAMPLE_LAST_PIXEL = 13347
  SAMPLE_PROJECTION_OFFSET = 6067.0
  SECOND_STANDARD_PARALLEL = "N/A"
  WESTERNMOST_LONGITUDE = -4.686
END_OBJECT = IMAGE_MAP_PROJECTION
/* The JPEG2000 image data file associated with this label. */
OBJECT = COMPRESSED_FILE
  FILE_NAME = "H6713_0000_S13.JP2"
  RECORD_TYPE = UNDEFINED
  FILE_RECORDS = UNK
  ENCODING_TYPE = "JP2"
  INTERCHANGE_FORMAT = BINARY
  UNCOMPRESSED_FILE_NAME = "H6713_0000_S13.IMG"
  REQUIRED_STORAGE_BYTES = "361356678"
  ^DESCRIPTION = "JP2INFO.TXT"
END_OBJECT = COMPRESSED_FILE
END
