PDS_VERSION_ID = PDS3
/* FILE DATA ELEMENTS */
RECORD_TYPE = STREAM
/* POINTERS TO DATA OBJECTS */
^COMPRESSED_FILE = "H6713_0000_S23.JP2"
/* IDENTIFICATION DATA ELEMENTS */
DATA_SET_ID = "MEX-M-HRSC-5-REFDR-MAPPROJECTED-V3.0"
DATA_SET_NAME = "MARS EXPRESS HRSC MAP PROJECTED REFDR V3.0"
DETECTOR_ID = MEX_HRSC_S2
EVENT_TYPE = "MARS-REGIONAL-STEREO-Gl-La-At"
INSTRUMENT_HOST_ID = MEX
INSTRUMENT_HOST_NAME = "MARS EXPRESS"
INSTRUMENT_ID = HRSC
INSTRUMENT_NAME = "HIGH RESOLUTION STEREO CAMERA"
MISSION_NAME = "MARS EXPRESS"
MISSION_PHASE_NAME = ME_Phase_16
PROCESSING_LEVEL_ID = 3
PRODUCT_CREATION_TIME = 2016-06-29T08:07:06.000Z
PRODUCT_ID = "H6713_0000_S23.JP2"
RELEASE_ID = 0075
REVISION_ID = 0000
/* QUALITY DATA ELEMENTS */
DATA_QUALITY_ID = 1
DATA_QUALITY_DESC = "Data calculated based on original SPICE kernels"
/* TIME DATA ELEMENTS */
SPACECRAFT_CLOCK_START_COUNT = "1/0186151636.08229"
SPACECRAFT_CLOCK_STOP_COUNT = "1/0186151827.09078"
START_TIME = 2009-03-26T12:48:46.180Z
STOP_TIME = 2009-03-26T12:50:27.526Z
/* ORBITAL DATA ELEMENTS */
ASCENDING_NODE_LONGITUDE = 89.71
MAXIMUM_RESOLUTION = 19.3
FOOTPRINT_POINT_LATITUDE = (-74.2006,-74.2318,-74.2619,-74.2909, -74.3189,-74.3458,-74.3717,-74.3966, -74.4204,-74.4433,-74.4652,-74.486, -74.404,-74.2511,-74.0465,-73.8931, -73.7398,-73.4802,-73.272,-73.0642, -72.9587,-72.8529,-72.7471,-72.6415, -72.5359,-72.4305,-72.3241,-72.1659, -72.056,-71.9483,-71.7876,-71.6793, -71.5704,-71.4615,-71.3528,-71.2441, -71.0817,-70.9723,-70.8622,-70.7517, -70.6413,-70.528,-70.4158,-70.304, -70.1364,-69.9686,-69.8543,-69.7403, -69.6268,-69.5151,-69.4021,-69.2004, -69.1854,-69.1678,-69.1532,-69.1376, -69.1191,-69.0996,-69.084,-69.0593, -69.0394,-69.01,-68.97,-69.0591, -69.1719,-69.2834,-69.4511,-69.5629, -69.7308,-69.8407,-70.0063,-70.1171, -70.227,-70.3913,-70.5546,-70.6633, -70.774,-70.8832,-70.9886,-71.0947, -71.256,-71.3634,-71.4704,-71.5759, -71.6819,-71.787,-71.8924,-71.9981, -72.1036,-72.363,-72.519,-72.7271, -72.9319,-73.0845,-73.2884,-73.4907, -73.6411,-73.8445,-74.1422,-74.2006)
FOOTPRINT_POINT_LONGITUDE = (355.565,356.047,356.527,357.007, 357.487,357.965,358.443,358.919,359.394 ,359.869,360.344,360.818,361.407, 361.535,361.702,361.825,361.945,362.143 ,362.297,362.447,362.521,362.595, 362.668,362.74,362.811,362.881,362.951, 363.053,363.123,363.19,363.29,363.355, 363.421,363.486,363.549,363.612,363.705 ,363.767,363.828,363.889,363.948, 364.009,364.068,364.127,364.213,364.298 ,364.355,364.411,364.466,364.52,364.574 ,364.559,364.122,363.629,363.245, 362.861,362.42,361.979,361.647,361.149, 360.76,360.203,359.474,358.991,358.928, 358.864,358.768,358.702,358.601,358.535 ,358.432,358.362,358.294,358.186, 358.078,358.006,357.926,357.85,357.78, 357.708,357.591,357.512,357.433,357.354 ,357.272,357.192,357.11,357.027,356.942 ,356.729,356.598,356.418,356.234, 356.097,355.908,355.714,355.567,355.354 ,355.05,355.565)
ORBIT_NUMBER = 6713
ORBITAL_ECCENTRICITY = 0.575
ORBITAL_INCLINATION = 86.77
ORBITAL_SEMIMAJOR_AXIS = 8679.64
PERIAPSIS_ALTITUDE = 308.71
PERIAPSIS_ARGUMENT_ANGLE = 259.38
PERIAPSIS_TIME = 2009-03-26T12:41:24.000Z
SPACECRAFT_ORIENTATION = (0.0,-1.0,0.0)
^MEX_ORIENTATION_DESC = "MEX_ORIENTATION_DESC.TXT"
SPACECRAFT_POINTING_MODE = ACROSSTRACK
^MEX_POINTING_DESC = "MEX_POINTING_DESC.TXT"
RIGHT_ASCENSION = -1e+32
DECLINATION = -1e+32
OFFSET_ANGLE = 0.9
SPACECRAFT_SOLAR_DISTANCE = 2.07365e+08
TARGET_NAME = MARS
/* CAMERA DATA ELEMENTS */
DETECTOR_TEMPERATURE = 18.3705
FOCAL_PLANE_TEMPERATURE = 8.1755
INST_CMPRS_NAME = "DISCRETE COSINE TRANSFORMATION (DCT)"
INST_CMPRS_RATIO = 8.75524
INST_CMPRS_QUALITY = 0
INST_CMPRS_QUANTZ_TBL_ID = 0
INSTRUMENT_TEMPERATURE = 11.0301
LENS_TEMPERATURE = 8.3794
MACROPIXEL_SIZE = 1
MISSING_FRAMES = 0
PIXEL_SUBSAMPLING_FLAG = N
SIGNAL_CHAIN_ID = 1
/* RADIOMETRIC DATA ELEMENTS */
BANDWIDTH = 178.0
CENTER_FILTER_WAVELENGTH = 679.0
RADIANCE_OFFSET = 8.45502
RADIANCE_SCALING_FACTOR = 0.0484795
REFLECTANCE_SCALING_FACTOR = 0.00110397
MEX:REFLECTANCE_OFFSET = 0.192538
/* IMAGE OBJECT DEFINITIONS */
OBJECT = IMAGE
  INTERCHANGE_FORMAT = BINARY
  LINES = 27071
  LINE_SAMPLES = 13347
  SAMPLE_TYPE = UNSIGNED_INTEGER
  SAMPLE_BITS = 8
  BANDS = 1
  BAND_STORAGE_TYPE = BAND_SEQUENTIAL
  MAXIMUM = 255
  MEAN = 165.993
  MINIMUM = 1
  STANDARD_DEVIATION = 74.1022
END_OBJECT = IMAGE
/* MAP OBJECT DEFINITIONS */
OBJECT = IMAGE_MAP_PROJECTION
  ^DATA_SET_MAP_PROJECTION_CATALOG= "DSMAP.CAT"
  A_AXIS_RADIUS = 3396.0
  B_AXIS_RADIUS = 3396.0
  C_AXIS_RADIUS = 3396.0
  CENTER_LATITUDE = 0.0
  CENTER_LONGITUDE = 0.0
  COORDINATE_SYSTEM_NAME = PLANETOGRAPHIC
  COORDINATE_SYSTEM_TYPE = "BODY-FIXED ROTATING"
  EASTERNMOST_LONGITUDE = 4.574
  FIRST_STANDARD_PARALLEL = "N/A"
  LINE_FIRST_PIXEL = 1
  LINE_LAST_PIXEL = 27071
  LINE_PROJECTION_OFFSET = -326973.0
  MAP_PROJECTION_ROTATION = 0.0
  MAP_PROJECTION_TYPE = SINUSOIDAL
  MAP_RESOLUTION = 4741.71043093333
  MAP_SCALE = 0.0125
  MAXIMUM_LATITUDE = -68.97
  MINIMUM_LATITUDE = -74.486
  POSITIVE_LONGITUDE_DIRECTION = EAST
  REFERENCE_LATITUDE = "N/A"
  REFERENCE_LONGITUDE = "N/A"
  SAMPLE_FIRST_PIXEL = 1
  SAMPLE_LAST_PIXEL = 13347
  SAMPLE_PROJECTION_OFFSET = 6067.0
  SECOND_STANDARD_PARALLEL = "N/A"
  WESTERNMOST_LONGITUDE = -4.95
END_OBJECT = IMAGE_MAP_PROJECTION
/* The JPEG2000 image data file associated with this label. */
OBJECT = COMPRESSED_FILE
  FILE_NAME = "H6713_0000_S23.JP2"
  RECORD_TYPE = UNDEFINED
  FILE_RECORDS = UNK
  ENCODING_TYPE = "JP2"
  INTERCHANGE_FORMAT = BINARY
  UNCOMPRESSED_FILE_NAME = "H6713_0000_S23.IMG"
  REQUIRED_STORAGE_BYTES = "361356678"
  ^DESCRIPTION = "JP2INFO.TXT"
END_OBJECT = COMPRESSED_FILE
END
