PDS_VERSION_ID = PDS3
/* FILE DATA ELEMENTS */
RECORD_TYPE = STREAM
/* POINTERS TO DATA OBJECTS */
^COMPRESSED_FILE = "H6729_0000_S23.JP2"
/* IDENTIFICATION DATA ELEMENTS */
DATA_SET_ID = "MEX-M-HRSC-5-REFDR-MAPPROJECTED-V3.0"
DATA_SET_NAME = "MARS EXPRESS HRSC MAP PROJECTED REFDR V3.0"
DETECTOR_ID = MEX_HRSC_S2
EVENT_TYPE = "MARS-LOCAL-STEREO-Gl-La-At"
INSTRUMENT_HOST_ID = MEX
INSTRUMENT_HOST_NAME = "MARS EXPRESS"
INSTRUMENT_ID = HRSC
INSTRUMENT_NAME = "HIGH RESOLUTION STEREO CAMERA"
MISSION_NAME = "MARS EXPRESS"
MISSION_PHASE_NAME = ME_Phase_16
PROCESSING_LEVEL_ID = 3
PRODUCT_CREATION_TIME = 2016-06-29T08:07:06.000Z
PRODUCT_ID = "H6729_0000_S23.JP2"
RELEASE_ID = 0075
REVISION_ID = 0000
/* QUALITY DATA ELEMENTS */
DATA_QUALITY_ID = 1
DATA_QUALITY_DESC = "Data calculated based on original SPICE kernels"
/* TIME DATA ELEMENTS */
SPACECRAFT_CLOCK_START_COUNT = "1/0186548690.09041"
SPACECRAFT_CLOCK_STOP_COUNT = "1/0186548884.34285"
START_TIME = 2009-03-31T03:06:07.197Z
STOP_TIME = 2009-03-31T03:08:04.911Z
/* ORBITAL DATA ELEMENTS */
ASCENDING_NODE_LONGITUDE = 89.39
MAXIMUM_RESOLUTION = 17.7
FOOTPRINT_POINT_LATITUDE = (-81.5855,-81.6891,-81.7875,-81.8806, -81.9684,-82.0509,-82.1833,-81.9504, -81.7168,-81.4827,-81.3626,-81.2423, -81.122,-80.8814,-80.6403,-80.5164, -80.3926,-80.2065,-80.0818,-79.9574, -79.8331,-79.7059,-79.5156,-79.3255, -79.1984,-79.0715,-78.8775,-78.6829, -78.4884,-78.3585,-78.1614,-77.9632, -77.8307,-77.6984,-77.5655,-77.4294, -77.2272,-77.092,-76.9572,-76.8228, -76.6847,-76.5469,-76.3407,-76.2037, -75.9949,-75.8549,-75.756,-75.7159, -75.6904,-75.6633,-75.61,-75.5763, -75.5446,-75.5032,-75.4686,-75.4236, -75.5303,-75.6673,-75.803,-76.004, -76.1388,-76.2722,-76.4057,-76.537, -76.6682,-76.7992,-76.9307,-77.0623, -77.1923,-77.3211,-77.4494,-77.5778, -77.7064,-77.8344,-77.96,-78.0858, -78.2115,-78.3369,-78.4626,-78.5875, -78.7101,-78.8321,-78.9528,-79.0751, -79.1972,-79.3188,-79.4377,-79.5564, -79.675,-79.8526,-79.9708,-80.0887, -80.3183,-80.5473,-80.7754,-81.0002, -81.1664,-81.3294,-81.5466,-81.5855)
FOOTPRINT_POINT_LONGITUDE = (170.221,171.613,173.029,174.468, 175.929,177.414,178.007,178.724,179.399 ,180.035,180.347,180.65,180.945,181.509 ,182.043,182.305,182.561,182.932, 183.172,183.405,183.632,183.858,184.186 ,184.502,184.706,184.905,185.2,185.486, 185.761,185.939,186.201,186.457,186.622 ,186.784,186.942,187.1,187.33,187.48, 187.625,187.768,187.91,188.05,188.253, 188.385,188.58,188.708,188.365,187.464, 186.91,186.358,185.322,184.701,184.149, 183.462,182.913,182.228,181.625,181.461 ,181.296,181.046,180.871,180.698, 180.522,180.343,180.16,179.973,179.781, 179.584,179.384,179.181,178.977,178.767 ,178.551,178.331,178.111,177.883, 177.651,177.414,177.17,176.922,176.671, 176.418,176.167,175.898,175.624,175.344 ,175.063,174.775,174.481,174.023,173.71 ,173.388,172.734,172.045,171.318, 170.555,169.957,169.36,168.516,170.221)
ORBIT_NUMBER = 6729
ORBITAL_ECCENTRICITY = 0.575
ORBITAL_INCLINATION = 86.77
ORBITAL_SEMIMAJOR_AXIS = 8682.52
PERIAPSIS_ALTITUDE = 308.77
PERIAPSIS_ARGUMENT_ANGLE = 256.66
PERIAPSIS_TIME = 2009-03-31T03:00:14.000Z
SPACECRAFT_ORIENTATION = (0.0,-1.0,0.0)
^MEX_ORIENTATION_DESC = "MEX_ORIENTATION_DESC.TXT"
SPACECRAFT_POINTING_MODE = ACROSSTRACK
^MEX_POINTING_DESC = "MEX_POINTING_DESC.TXT"
RIGHT_ASCENSION = -1e+32
DECLINATION = -1e+32
OFFSET_ANGLE = 0.5
SPACECRAFT_SOLAR_DISTANCE = 2.07133e+08
TARGET_NAME = MARS
/* CAMERA DATA ELEMENTS */
DETECTOR_TEMPERATURE = 18.5744
FOCAL_PLANE_TEMPERATURE = 9.195
INST_CMPRS_NAME = "DISCRETE COSINE TRANSFORMATION (DCT)"
INST_CMPRS_RATIO = 4.90491
INST_CMPRS_QUALITY = 0
INST_CMPRS_QUANTZ_TBL_ID = 0
INSTRUMENT_TEMPERATURE = 11.4379
LENS_TEMPERATURE = 9.195
MACROPIXEL_SIZE = 1
MISSING_FRAMES = 0
PIXEL_SUBSAMPLING_FLAG = N
SIGNAL_CHAIN_ID = 1
/* RADIOMETRIC DATA ELEMENTS */
BANDWIDTH = 178.0
CENTER_FILTER_WAVELENGTH = 679.0
RADIANCE_OFFSET = 6.93131
RADIANCE_SCALING_FACTOR = 0.0288805
REFLECTANCE_SCALING_FACTOR = 0.000656196
MEX:REFLECTANCE_OFFSET = 0.157487
/* IMAGE OBJECT DEFINITIONS */
OBJECT = IMAGE
  INTERCHANGE_FORMAT = BINARY
  LINES = 32201
  LINE_SAMPLES = 17046
  SAMPLE_TYPE = UNSIGNED_INTEGER
  SAMPLE_BITS = 8
  BANDS = 1
  BAND_STORAGE_TYPE = BAND_SEQUENTIAL
  MAXIMUM = 255
  MEAN = 123.961
  MINIMUM = 1
  STANDARD_DEVIATION = 42.5938
END_OBJECT = IMAGE
/* MAP OBJECT DEFINITIONS */
OBJECT = IMAGE_MAP_PROJECTION
  ^DATA_SET_MAP_PROJECTION_CATALOG= "DSMAP.CAT"
  A_AXIS_RADIUS = 3396.0
  B_AXIS_RADIUS = 3396.0
  C_AXIS_RADIUS = 3396.0
  CENTER_LATITUDE = 0.0
  CENTER_LONGITUDE = 181.0
  COORDINATE_SYSTEM_NAME = PLANETOGRAPHIC
  COORDINATE_SYSTEM_TYPE = "BODY-FIXED ROTATING"
  EASTERNMOST_LONGITUDE = 188.708
  FIRST_STANDARD_PARALLEL = "N/A"
  LINE_FIRST_PIXEL = 1
  LINE_LAST_PIXEL = 32201
  LINE_PROJECTION_OFFSET = -357613.0
  MAP_PROJECTION_ROTATION = 0.0
  MAP_PROJECTION_TYPE = SINUSOIDAL
  MAP_RESOLUTION = 4741.71043093333
  MAP_SCALE = 0.0125
  MAXIMUM_LATITUDE = -75.42359999999999
  MINIMUM_LATITUDE = -82.1833
  POSITIVE_LONGITUDE_DIRECTION = EAST
  REFERENCE_LATITUDE = "N/A"
  REFERENCE_LONGITUDE = "N/A"
  SAMPLE_FIRST_PIXEL = 1
  SAMPLE_LAST_PIXEL = 17046
  SAMPLE_PROJECTION_OFFSET = 8484.0
  SECOND_STANDARD_PARALLEL = "N/A"
  WESTERNMOST_LONGITUDE = 168.516
END_OBJECT = IMAGE_MAP_PROJECTION
/* The JPEG2000 image data file associated with this label. */
OBJECT = COMPRESSED_FILE
  FILE_NAME = "H6729_0000_S23.JP2"
  RECORD_TYPE = UNDEFINED
  FILE_RECORDS = UNK
  ENCODING_TYPE = "JP2"
  INTERCHANGE_FORMAT = BINARY
  UNCOMPRESSED_FILE_NAME = "H6729_0000_S23.IMG"
  REQUIRED_STORAGE_BYTES = "548949384"
  ^DESCRIPTION = "JP2INFO.TXT"
END_OBJECT = COMPRESSED_FILE
END
