PDS_VERSION_ID = PDS3
/* FILE DATA ELEMENTS */
RECORD_TYPE = STREAM
/* POINTERS TO DATA OBJECTS */
^COMPRESSED_FILE = "H6742_0000_S13.JP2"
/* IDENTIFICATION DATA ELEMENTS */
DATA_SET_ID = "MEX-M-HRSC-5-REFDR-MAPPROJECTED-V3.0"
DATA_SET_NAME = "MARS EXPRESS HRSC MAP PROJECTED REFDR V3.0"
DETECTOR_ID = MEX_HRSC_S1
EVENT_TYPE = "MARS-REGIONAL-VARIABLE-Gl-At"
INSTRUMENT_HOST_ID = MEX
INSTRUMENT_HOST_NAME = "MARS EXPRESS"
INSTRUMENT_ID = HRSC
INSTRUMENT_NAME = "HIGH RESOLUTION STEREO CAMERA"
MISSION_NAME = "MARS EXPRESS"
MISSION_PHASE_NAME = ME_Phase_16
PROCESSING_LEVEL_ID = 3
PRODUCT_CREATION_TIME = 2016-06-29T08:07:06.000Z
PRODUCT_ID = "H6742_0000_S13.JP2"
RELEASE_ID = 0075
REVISION_ID = 0000
/* QUALITY DATA ELEMENTS */
DATA_QUALITY_ID = 1
DATA_QUALITY_DESC = "Data calculated based on original SPICE kernels"
/* TIME DATA ELEMENTS */
SPACECRAFT_CLOCK_START_COUNT = "1/0186871162.09056"
SPACECRAFT_CLOCK_STOP_COUNT = "1/0186871437.50240"
START_TIME = 2009-04-03T20:39:24.594Z
STOP_TIME = 2009-04-03T20:42:43.753Z
/* ORBITAL DATA ELEMENTS */
ASCENDING_NODE_LONGITUDE = 89.14
MAXIMUM_RESOLUTION = 52.8
FOOTPRINT_POINT_LATITUDE = (-80.5612,-80.6578,-80.7992,-80.8685, -81.1223,-81.353,-81.5877,-81.8257, -82.0646,-82.3028,-82.5398,-82.776, -83.1281,-83.3611,-83.593,-83.9374, -84.1647,-84.3898,-84.6123,-84.8373, -85.0614,-85.2816,-85.4977,-85.7095, -85.9143,-86.2074,-86.3929,-86.5666, -86.7355,-86.8902,-87.0897,-87.2434, -87.3179,-87.3652,-87.3856,-87.3432, -87.2818,-87.1955,-87.0868,-86.958, -86.7325,-86.5638,-86.383,-86.1918, -85.8889,-85.5213,-85.2561,-84.9843, -84.705,-84.4837,-84.398,-84.3078, -84.1292,-84.0138,-83.8943,-83.9564, -84.3221,-84.5557,-84.7794,-84.9808, -85.1515,-85.39,-85.6044,-85.7321, -85.8455,-85.944,-86.0267,-86.1172, -86.1556,-86.1754,-86.1765,-86.1419, -86.0656,-85.9923,-85.9024,-85.797, -85.6772,-85.5471,-85.4069,-85.2564, -85.0965,-84.8408,-84.5687,-84.3794, -84.1843,-83.9861,-83.7883,-83.5867, -83.3815,-83.1731,-82.9619,-82.64, -82.3129,-81.9813,-81.6458,-81.4201, -81.1937,-80.9711,-80.7499,-80.5612)
FOOTPRINT_POINT_LONGITUDE = (173.843,172.36,169.939,168.615,168.009 ,168.479,168.981,169.525,170.103, 170.717,171.371,172.068,173.203,174.028 ,174.913,176.368,177.433,178.586, 179.834,181.224,182.756,184.434,186.276 ,188.307,190.539,194.326,197.189, 200.335,203.932,207.922,214.632,222.202 ,227.713,233.43,242.277,251.007,256.609 ,261.942,266.88,271.436,277.531,281.125 ,284.369,287.29,291.144,294.911,297.177 ,299.2,301.033,300.429,298.886,297.399, 294.771,293.231,291.751,290.066,287.018 ,284.761,282.307,279.793,277.381, 273.435,269.073,265.928,262.606,259.111 ,255.451,249.744,245.8,241.789,237.741, 231.725,225.849,222.087,218.484,215.075 ,211.831,208.828,206.037,203.42,200.968 ,197.589,194.54,192.677,190.938,189.329 ,187.86,186.484,185.194,183.983,182.846 ,181.265,179.82,178.496,177.28,176.524, 175.812,175.15,174.528,173.843)
ORBIT_NUMBER = 6742
ORBITAL_ECCENTRICITY = 0.575
ORBITAL_INCLINATION = 86.78
ORBITAL_SEMIMAJOR_AXIS = 8683.5
PERIAPSIS_ALTITUDE = 309.24
PERIAPSIS_ARGUMENT_ANGLE = 254.45
PERIAPSIS_TIME = 2009-04-03T20:38:07.000Z
SPACECRAFT_ORIENTATION = (0.0,-1.0,0.0)
^MEX_ORIENTATION_DESC = "MEX_ORIENTATION_DESC.TXT"
SPACECRAFT_POINTING_MODE = NADIR
^MEX_POINTING_DESC = "MEX_POINTING_DESC.TXT"
RIGHT_ASCENSION = -1e+32
DECLINATION = -1e+32
OFFSET_ANGLE = -1e+32
SPACECRAFT_SOLAR_DISTANCE = 2.06977e+08
TARGET_NAME = MARS
/* CAMERA DATA ELEMENTS */
DETECTOR_TEMPERATURE = 17.351
FOCAL_PLANE_TEMPERATURE = 8.1755
INST_CMPRS_NAME = "DISCRETE COSINE TRANSFORMATION (DCT)"
INST_CMPRS_RATIO = 5.5875
INST_CMPRS_QUALITY = 0
INST_CMPRS_QUANTZ_TBL_ID = 0
INSTRUMENT_TEMPERATURE = 11.234
LENS_TEMPERATURE = 8.7872
MACROPIXEL_SIZE = 4
MISSING_FRAMES = 0
PIXEL_SUBSAMPLING_FLAG = N
SIGNAL_CHAIN_ID = 1
/* RADIOMETRIC DATA ELEMENTS */
BANDWIDTH = 180.0
CENTER_FILTER_WAVELENGTH = 677.0
RADIANCE_OFFSET = 3.54515
RADIANCE_SCALING_FACTOR = 0.0468979
REFLECTANCE_SCALING_FACTOR = 0.00104819
MEX:REFLECTANCE_OFFSET = 0.079236
/* IMAGE OBJECT DEFINITIONS */
OBJECT = IMAGE
  INTERCHANGE_FORMAT = BINARY
  LINES = 14460
  LINE_SAMPLES = 9068
  SAMPLE_TYPE = UNSIGNED_INTEGER
  SAMPLE_BITS = 8
  BANDS = 1
  BAND_STORAGE_TYPE = BAND_SEQUENTIAL
  MAXIMUM = 255
  MEAN = 134.209
  MINIMUM = 1
  STANDARD_DEVIATION = 91.388
END_OBJECT = IMAGE
/* MAP OBJECT DEFINITIONS */
OBJECT = IMAGE_MAP_PROJECTION
  ^DATA_SET_MAP_PROJECTION_CATALOG= "DSMAP.CAT"
  A_AXIS_RADIUS = 3396.0
  B_AXIS_RADIUS = 3396.0
  C_AXIS_RADIUS = 3396.0
  CENTER_LATITUDE = -90.0
  CENTER_LONGITUDE = 0.0
  COORDINATE_SYSTEM_NAME = PLANETOGRAPHIC
  COORDINATE_SYSTEM_TYPE = "BODY-FIXED ROTATING"
  EASTERNMOST_LONGITUDE = 301.033
  FIRST_STANDARD_PARALLEL = "N/A"
  LINE_FIRST_PIXEL = 1
  LINE_LAST_PIXEL = 14460
  LINE_PROJECTION_OFFSET = 3434.75
  MAP_PROJECTION_ROTATION = 0.0
  MAP_PROJECTION_TYPE = STEREOGRAPHIC
  MAP_RESOLUTION = 1185.42760773333
  MAP_SCALE = 0.05
  MAXIMUM_LATITUDE = -80.5612
  MINIMUM_LATITUDE = -87.3856
  POSITIVE_LONGITUDE_DIRECTION = EAST
  REFERENCE_LATITUDE = "N/A"
  REFERENCE_LONGITUDE = "N/A"
  SAMPLE_FIRST_PIXEL = 1
  SAMPLE_LAST_PIXEL = 9068
  SAMPLE_PROJECTION_OFFSET = 6851.25
  SECOND_STANDARD_PARALLEL = "N/A"
  WESTERNMOST_LONGITUDE = 168.009
END_OBJECT = IMAGE_MAP_PROJECTION
/* The JPEG2000 image data file associated with this label. */
OBJECT = COMPRESSED_FILE
  FILE_NAME = "H6742_0000_S13.JP2"
  RECORD_TYPE = UNDEFINED
  FILE_RECORDS = UNK
  ENCODING_TYPE = "JP2"
  INTERCHANGE_FORMAT = BINARY
  UNCOMPRESSED_FILE_NAME = "H6742_0000_S13.IMG"
  REQUIRED_STORAGE_BYTES = "131159552"
  ^DESCRIPTION = "JP2INFO.TXT"
END_OBJECT = COMPRESSED_FILE
END
