PDS_VERSION_ID = PDS3
/* FILE DATA ELEMENTS */
RECORD_TYPE = STREAM
/* POINTERS TO DATA OBJECTS */
^COMPRESSED_FILE = "H6742_0000_S23.JP2"
/* IDENTIFICATION DATA ELEMENTS */
DATA_SET_ID = "MEX-M-HRSC-5-REFDR-MAPPROJECTED-V3.0"
DATA_SET_NAME = "MARS EXPRESS HRSC MAP PROJECTED REFDR V3.0"
DETECTOR_ID = MEX_HRSC_S2
EVENT_TYPE = "MARS-REGIONAL-VARIABLE-Gl-At"
INSTRUMENT_HOST_ID = MEX
INSTRUMENT_HOST_NAME = "MARS EXPRESS"
INSTRUMENT_ID = HRSC
INSTRUMENT_NAME = "HIGH RESOLUTION STEREO CAMERA"
MISSION_NAME = "MARS EXPRESS"
MISSION_PHASE_NAME = ME_Phase_16
PROCESSING_LEVEL_ID = 3
PRODUCT_CREATION_TIME = 2016-06-29T08:07:06.000Z
PRODUCT_ID = "H6742_0000_S23.JP2"
RELEASE_ID = 0075
REVISION_ID = 0000
/* QUALITY DATA ELEMENTS */
DATA_QUALITY_ID = 1
DATA_QUALITY_DESC = "Data calculated based on original SPICE kernels"
/* TIME DATA ELEMENTS */
SPACECRAFT_CLOCK_START_COUNT = "1/0186871162.09056"
SPACECRAFT_CLOCK_STOP_COUNT = "1/0186871437.50240"
START_TIME = 2009-04-03T20:40:21.921Z
STOP_TIME = 2009-04-03T20:43:58.268Z
/* ORBITAL DATA ELEMENTS */
ASCENDING_NODE_LONGITUDE = 89.14
MAXIMUM_RESOLUTION = 54.9
FOOTPRINT_POINT_LATITUDE = (-80.9269,-81.1004,-81.0853,-81.4411, -81.6788,-81.9168,-82.1525,-82.3871, -82.6208,-82.8529,-83.0837,-83.313, -83.5447,-83.778,-84.0092,-84.2381, -84.4645,-84.688,-84.9086,-85.1254, -85.3382,-85.5465,-85.749,-85.9469, -86.1388,-86.411,-86.5823,-86.7416, -86.8895,-87.0854,-87.1956,-87.2943, -87.375,-87.4239,-87.44,-87.4218, -87.3712,-87.2906,-87.1177,-86.9733, -86.8086,-86.628,-86.4331,-86.2267, -86.0108,-85.6717,-85.4391,-85.195, -84.8216,-84.5681,-84.3169,-84.1508, -83.8849,-83.8567,-84.0803,-84.4046, -84.611,-84.8061,-84.9931,-85.2549, -85.4162,-85.6333,-85.7598,-85.8701, -85.9628,-86.0362,-86.1074,-86.1298, -86.1023,-86.0573,-85.9959,-85.9252, -85.7923,-85.6878,-85.5715,-85.3782, -85.2363,-85.0854,-84.9264,-84.7598, -84.5864,-84.4065,-84.221,-84.0303, -83.8347,-83.6346,-83.4306,-83.2228, -83.0115,-82.7994,-82.5892,-82.3765, -82.1614,-81.9441,-81.7246,-81.5034, -81.167,-80.9412,-80.7163,-80.9269)
FOOTPRINT_POINT_LONGITUDE = (172.473,169.456,167.784,168.496, 169.005,169.55,170.121,170.727,171.373, 172.058,172.79,173.571,174.421,175.348, 176.347,177.423,178.587,179.848,181.219 ,182.709,184.333,186.106,188.034,190.17 ,192.534,196.494,199.508,202.764, 206.362,212.425,216.887,222.103,228.167 ,234.602,241.124,247.684,254.033, 260.041,268.274,273.16,277.571,281.512, 285.034,288.173,290.97,294.622,296.739, 298.691,301.26,302.772,298.885,296.227, 292.562,289.968,288.212,285.311,283.19, 280.943,278.511,274.523,271.585,266.81, 263.375,259.72,255.862,251.807,245.493, 239.024,232.548,228.334,224.497,221.146 ,216.327,213.289,210.4,206.366,203.857, 201.494,199.274,197.189,195.234,193.4, 191.68,190.068,188.556,187.137,185.804, 184.551,183.373,182.276,181.263,180.306 ,179.401,178.545,177.733,176.964, 175.881,175.204,174.568,172.473)
ORBIT_NUMBER = 6742
ORBITAL_ECCENTRICITY = 0.575
ORBITAL_INCLINATION = 86.78
ORBITAL_SEMIMAJOR_AXIS = 8683.5
PERIAPSIS_ALTITUDE = 309.24
PERIAPSIS_ARGUMENT_ANGLE = 254.45
PERIAPSIS_TIME = 2009-04-03T20:38:07.000Z
SPACECRAFT_ORIENTATION = (0.0,-1.0,0.0)
^MEX_ORIENTATION_DESC = "MEX_ORIENTATION_DESC.TXT"
SPACECRAFT_POINTING_MODE = NADIR
^MEX_POINTING_DESC = "MEX_POINTING_DESC.TXT"
RIGHT_ASCENSION = -1e+32
DECLINATION = -1e+32
OFFSET_ANGLE = -1e+32
SPACECRAFT_SOLAR_DISTANCE = 2.06977e+08
TARGET_NAME = MARS
/* CAMERA DATA ELEMENTS */
DETECTOR_TEMPERATURE = 18.5744
FOCAL_PLANE_TEMPERATURE = 8.1755
INST_CMPRS_NAME = "DISCRETE COSINE TRANSFORMATION (DCT)"
INST_CMPRS_RATIO = 4.98743
INST_CMPRS_QUALITY = 0
INST_CMPRS_QUANTZ_TBL_ID = 0
INSTRUMENT_TEMPERATURE = 11.234
LENS_TEMPERATURE = 8.7872
MACROPIXEL_SIZE = 4
MISSING_FRAMES = 0
PIXEL_SUBSAMPLING_FLAG = N
SIGNAL_CHAIN_ID = 1
/* RADIOMETRIC DATA ELEMENTS */
BANDWIDTH = 178.0
CENTER_FILTER_WAVELENGTH = 679.0
RADIANCE_OFFSET = 3.21444
RADIANCE_SCALING_FACTOR = 0.0464117
REFLECTANCE_SCALING_FACTOR = 0.00105293
MEX:REFLECTANCE_OFFSET = 0.0729254
/* IMAGE OBJECT DEFINITIONS */
OBJECT = IMAGE
  INTERCHANGE_FORMAT = BINARY
  LINES = 14460
  LINE_SAMPLES = 9068
  SAMPLE_TYPE = UNSIGNED_INTEGER
  SAMPLE_BITS = 8
  BANDS = 1
  BAND_STORAGE_TYPE = BAND_SEQUENTIAL
  MAXIMUM = 255
  MEAN = 128.201
  MINIMUM = 1
  STANDARD_DEVIATION = 78.3784
END_OBJECT = IMAGE
/* MAP OBJECT DEFINITIONS */
OBJECT = IMAGE_MAP_PROJECTION
  ^DATA_SET_MAP_PROJECTION_CATALOG= "DSMAP.CAT"
  A_AXIS_RADIUS = 3396.0
  B_AXIS_RADIUS = 3396.0
  C_AXIS_RADIUS = 3396.0
  CENTER_LATITUDE = -90.0
  CENTER_LONGITUDE = 0.0
  COORDINATE_SYSTEM_NAME = PLANETOGRAPHIC
  COORDINATE_SYSTEM_TYPE = "BODY-FIXED ROTATING"
  EASTERNMOST_LONGITUDE = 302.772
  FIRST_STANDARD_PARALLEL = "N/A"
  LINE_FIRST_PIXEL = 1
  LINE_LAST_PIXEL = 14460
  LINE_PROJECTION_OFFSET = 3434.75
  MAP_PROJECTION_ROTATION = 0.0
  MAP_PROJECTION_TYPE = STEREOGRAPHIC
  MAP_RESOLUTION = 1185.42760773333
  MAP_SCALE = 0.05
  MAXIMUM_LATITUDE = -80.7163
  MINIMUM_LATITUDE = -87.44
  POSITIVE_LONGITUDE_DIRECTION = EAST
  REFERENCE_LATITUDE = "N/A"
  REFERENCE_LONGITUDE = "N/A"
  SAMPLE_FIRST_PIXEL = 1
  SAMPLE_LAST_PIXEL = 9068
  SAMPLE_PROJECTION_OFFSET = 6851.25
  SECOND_STANDARD_PARALLEL = "N/A"
  WESTERNMOST_LONGITUDE = 167.784
END_OBJECT = IMAGE_MAP_PROJECTION
/* The JPEG2000 image data file associated with this label. */
OBJECT = COMPRESSED_FILE
  FILE_NAME = "H6742_0000_S23.JP2"
  RECORD_TYPE = UNDEFINED
  FILE_RECORDS = UNK
  ENCODING_TYPE = "JP2"
  INTERCHANGE_FORMAT = BINARY
  UNCOMPRESSED_FILE_NAME = "H6742_0000_S23.IMG"
  REQUIRED_STORAGE_BYTES = "131159552"
  ^DESCRIPTION = "JP2INFO.TXT"
END_OBJECT = COMPRESSED_FILE
END
