PDS_VERSION_ID = PDS3
/* FILE DATA ELEMENTS */
RECORD_TYPE = STREAM
/* POINTERS TO DATA OBJECTS */
^COMPRESSED_FILE = "H6751_0000_RE3.JP2"
/* IDENTIFICATION DATA ELEMENTS */
DATA_SET_ID = "MEX-M-HRSC-5-REFDR-MAPPROJECTED-V3.0"
DATA_SET_NAME = "MARS EXPRESS HRSC MAP PROJECTED REFDR V3.0"
DETECTOR_ID = MEX_HRSC_RED
EVENT_TYPE = "MARS-REGIONAL-MAPPING-Gl-La"
INSTRUMENT_HOST_ID = MEX
INSTRUMENT_HOST_NAME = "MARS EXPRESS"
INSTRUMENT_ID = HRSC
INSTRUMENT_NAME = "HIGH RESOLUTION STEREO CAMERA"
MISSION_NAME = "MARS EXPRESS"
MISSION_PHASE_NAME = ME_Phase_16
PROCESSING_LEVEL_ID = 3
PRODUCT_CREATION_TIME = 2016-06-29T08:07:06.000Z
PRODUCT_ID = "H6751_0000_RE3.JP2"
RELEASE_ID = 0075
REVISION_ID = 0000
/* QUALITY DATA ELEMENTS */
DATA_QUALITY_ID = 1
DATA_QUALITY_DESC = "Data calculated based on original SPICE kernels"
/* TIME DATA ELEMENTS */
SPACECRAFT_CLOCK_START_COUNT = "1/0187094822.09044"
SPACECRAFT_CLOCK_STOP_COUNT = "1/0187095099.52496"
START_TIME = 2009-04-06T10:48:22.649Z
STOP_TIME = 2009-04-06T10:51:27.209Z
/* ORBITAL DATA ELEMENTS */
ASCENDING_NODE_LONGITUDE = 88.97
MAXIMUM_RESOLUTION = 79.2
FOOTPRINT_POINT_LATITUDE = (-80.6686,-80.761,-80.8695,-80.9554, -81.017,-81.0881,-81.2364,-80.8927, -80.544,-80.2818,-79.928,-79.6609, -79.4794,-79.2086,-79.0251,-78.8425, -78.6578,-78.4707,-78.2813,-78.0942, -77.9075,-77.7198,-77.5296,-77.3389, -77.1486,-76.8648,-76.5745,-76.3782, -76.1793,-75.8821,-75.5825,-75.3834, -75.1823,-74.9805,-74.7796,-74.5745, -74.2676,-74.0609,-73.7508,-73.5419, -73.3354,-73.1258,-72.8123,-72.6022, -72.39,-72.1745,-71.9502,-71.6252, -71.4327,-71.4054,-71.3751,-71.3414, -71.3134,-71.2803,-71.2272,-71.165, -71.2213,-71.4371,-71.6497,-71.8629, -72.0742,-72.2854,-72.4949,-72.7027, -73.0135,-73.321,-73.5249,-73.7278, -73.932,-74.2347,-74.4342,-74.7311, -74.929,-75.1234,-75.3186,-75.5134, -75.7044,-75.8966,-76.1827,-76.3713, -76.5595,-76.8386,-77.1153,-77.2974, -77.4861,-77.6683,-77.8508,-78.03, -78.2083,-78.3867,-78.5616,-78.7363, -78.9984,-79.1726,-79.344,-79.5153, -79.8563,-80.1898,-80.6039,-80.6686)
FOOTPRINT_POINT_LONGITUDE = (117.833,119.199,120.943,122.454, 123.628,125.095,126.471,127.122,127.731 ,128.16,128.705,129.086,129.334,129.691 ,129.916,130.139,130.354,130.561,130.76 ,130.959,131.151,131.337,131.519, 131.696,131.868,132.123,132.363,132.517 ,132.667,132.884,133.098,133.235, 133.369,133.501,133.629,133.754,133.937 ,134.056,134.229,134.342,134.454, 134.562,134.723,134.828,134.93,135.027, 135.118,135.26,135.346,134.44,133.598, 132.759,132.116,131.41,130.387,129.307, 128.404,128.282,128.159,128.033,127.902 ,127.769,127.633,127.495,127.279,127.06 ,126.907,126.751,126.587,126.335, 126.166,125.903,125.722,125.539,125.348 ,125.152,124.956,124.751,124.434, 124.217,123.995,123.652,123.298,123.058 ,122.781,122.519,122.247,121.972, 121.689,121.397,121.105,120.798,120.317 ,119.983,119.641,119.286,118.54,117.756 ,116.689,117.833)
ORBIT_NUMBER = 6751
ORBITAL_ECCENTRICITY = 0.575
ORBITAL_INCLINATION = 86.77
ORBITAL_SEMIMAJOR_AXIS = 8684.3
PERIAPSIS_ALTITUDE = 309.9
PERIAPSIS_ARGUMENT_ANGLE = 252.89
PERIAPSIS_TIME = 2009-04-06T10:41:10.000Z
SPACECRAFT_ORIENTATION = (0.0,-1.0,0.0)
^MEX_ORIENTATION_DESC = "MEX_ORIENTATION_DESC.TXT"
SPACECRAFT_POINTING_MODE = NADIR
^MEX_POINTING_DESC = "MEX_POINTING_DESC.TXT"
RIGHT_ASCENSION = -1e+32
DECLINATION = -1e+32
OFFSET_ANGLE = -1e+32
SPACECRAFT_SOLAR_DISTANCE = 2.06887e+08
TARGET_NAME = MARS
/* CAMERA DATA ELEMENTS */
DETECTOR_TEMPERATURE = 18.7783
FOCAL_PLANE_TEMPERATURE = 8.9911
INST_CMPRS_NAME = "DISCRETE COSINE TRANSFORMATION (DCT)"
INST_CMPRS_RATIO = 14.2031
INST_CMPRS_QUALITY = 0
INST_CMPRS_QUANTZ_TBL_ID = 0
INSTRUMENT_TEMPERATURE = 12.6613
LENS_TEMPERATURE = 9.195
MACROPIXEL_SIZE = 4
MISSING_FRAMES = 0
PIXEL_SUBSAMPLING_FLAG = N
SIGNAL_CHAIN_ID = 2
/* RADIOMETRIC DATA ELEMENTS */
BANDWIDTH = 48.0
CENTER_FILTER_WAVELENGTH = 748.0
RADIANCE_OFFSET = 2.01654
RADIANCE_SCALING_FACTOR = 0.00555562
REFLECTANCE_SCALING_FACTOR = 0.000542655
MEX:REFLECTANCE_OFFSET = 0.196969
/* IMAGE OBJECT DEFINITIONS */
OBJECT = IMAGE
  INTERCHANGE_FORMAT = BINARY
  LINES = 11986
  LINE_SAMPLES = 4758
  SAMPLE_TYPE = UNSIGNED_INTEGER
  SAMPLE_BITS = 8
  BANDS = 1
  BAND_STORAGE_TYPE = BAND_SEQUENTIAL
  MAXIMUM = 255
  MEAN = 112.099
  MINIMUM = 1
  STANDARD_DEVIATION = 38.8213
END_OBJECT = IMAGE
/* MAP OBJECT DEFINITIONS */
OBJECT = IMAGE_MAP_PROJECTION
  ^DATA_SET_MAP_PROJECTION_CATALOG= "DSMAP.CAT"
  A_AXIS_RADIUS = 3396.0
  B_AXIS_RADIUS = 3396.0
  C_AXIS_RADIUS = 3396.0
  CENTER_LATITUDE = 0.0
  CENTER_LONGITUDE = 128.0
  COORDINATE_SYSTEM_NAME = PLANETOGRAPHIC
  COORDINATE_SYSTEM_TYPE = "BODY-FIXED ROTATING"
  EASTERNMOST_LONGITUDE = 135.346
  FIRST_STANDARD_PARALLEL = "N/A"
  LINE_FIRST_PIXEL = 1
  LINE_LAST_PIXEL = 11986
  LINE_PROJECTION_OFFSET = -84322.875
  MAP_PROJECTION_ROTATION = 0.0
  MAP_PROJECTION_TYPE = SINUSOIDAL
  MAP_RESOLUTION = 1185.42760773333
  MAP_SCALE = 0.05
  MAXIMUM_LATITUDE = -71.16500000000001
  MINIMUM_LATITUDE = -81.2364
  POSITIVE_LONGITUDE_DIRECTION = EAST
  REFERENCE_LATITUDE = "N/A"
  REFERENCE_LONGITUDE = "N/A"
  SAMPLE_FIRST_PIXEL = 1
  SAMPLE_LAST_PIXEL = 4758
  SAMPLE_PROJECTION_OFFSET = 2126.125
  SECOND_STANDARD_PARALLEL = "N/A"
  WESTERNMOST_LONGITUDE = 116.689
END_OBJECT = IMAGE_MAP_PROJECTION
/* The JPEG2000 image data file associated with this label. */
OBJECT = COMPRESSED_FILE
  FILE_NAME = "H6751_0000_RE3.JP2"
  RECORD_TYPE = UNDEFINED
  FILE_RECORDS = UNK
  ENCODING_TYPE = "JP2"
  INTERCHANGE_FORMAT = BINARY
  UNCOMPRESSED_FILE_NAME = "H6751_0000_RE3.IMG"
  REQUIRED_STORAGE_BYTES = "57053178"
  ^DESCRIPTION = "JP2INFO.TXT"
END_OBJECT = COMPRESSED_FILE
END
