PDS_VERSION_ID = PDS3
/* FILE DATA ELEMENTS */
RECORD_TYPE = STREAM
/* POINTERS TO DATA OBJECTS */
^COMPRESSED_FILE = "H6755_0000_S23.JP2"
/* IDENTIFICATION DATA ELEMENTS */
DATA_SET_ID = "MEX-M-HRSC-5-REFDR-MAPPROJECTED-V3.0"
DATA_SET_NAME = "MARS EXPRESS HRSC MAP PROJECTED REFDR V3.0"
DETECTOR_ID = MEX_HRSC_S2
EVENT_TYPE = "MARS-REGIONAL-MAPPING-Im-Gl-La"
INSTRUMENT_HOST_ID = MEX
INSTRUMENT_HOST_NAME = "MARS EXPRESS"
INSTRUMENT_ID = HRSC
INSTRUMENT_NAME = "HIGH RESOLUTION STEREO CAMERA"
MISSION_NAME = "MARS EXPRESS"
MISSION_PHASE_NAME = ME_Phase_16
PROCESSING_LEVEL_ID = 3
PRODUCT_CREATION_TIME = 2016-06-29T08:07:06.000Z
PRODUCT_ID = "H6755_0000_S23.JP2"
RELEASE_ID = 0075
REVISION_ID = 0000
/* QUALITY DATA ELEMENTS */
DATA_QUALITY_ID = 1
DATA_QUALITY_DESC = "Data calculated based on original SPICE kernels"
/* TIME DATA ELEMENTS */
SPACECRAFT_CLOCK_START_COUNT = "1/0187194090.09060"
SPACECRAFT_CLOCK_STOP_COUNT = "1/0187194355.25152"
START_TIME = 2009-04-07T14:22:55.981Z
STOP_TIME = 2009-04-07T14:25:55.859Z
/* ORBITAL DATA ELEMENTS */
ASCENDING_NODE_LONGITUDE = 88.89
MAXIMUM_RESOLUTION = 39.4
FOOTPRINT_POINT_LATITUDE = (-82.3341,-82.4807,-82.5913,-82.6957, -82.7758,-82.863,-82.9338,-82.7141, -82.4659,-82.0506,-81.8814,-81.7122, -81.5425,-81.2835,-81.1097,-80.9369, -80.6733,-80.4952,-80.3172,-80.1394, -79.9584,-79.777,-79.5959,-79.4128, -79.2275,-79.0439,-78.8589,-78.6708, -78.4831,-78.2958,-78.106,-77.9151, -77.7248,-77.5308,-77.3368,-77.142, -76.9457,-76.7489,-76.4543,-76.2555, -75.9573,-75.7567,-75.551,-75.3465, -75.1433,-74.9415,-74.7361,-74.5304, -74.2184,-74.0097,-73.7991,-73.6292, -73.5787,-73.5239,-73.4763,-73.4387, -73.3941,-73.3252,-73.3865,-73.5945, -73.7954,-74.0003,-74.2025,-74.4056, -74.6081,-74.8071,-75.0069,-75.2041, -75.4969,-75.6922,-75.9858,-76.1818, -76.469,-76.6601,-76.8476,-77.0352, -77.2225,-77.4067,-77.5919,-77.7773, -78.0524,-78.3261,-78.5034,-78.6826, -78.9495,-79.2109,-79.3847,-79.6442, -79.8143,-79.9841,-80.2379,-80.4028, -80.6508,-80.8158,-80.9772,-81.1382, -81.5345,-81.8441,-82.2998,-82.3341)
FOOTPRINT_POINT_LONGITUDE = (68.0151,70.0414,71.7144,73.4314, 74.8593,76.5451,78.0385,79.0247,79.7496 ,80.8567,81.2736,81.6726,82.055,82.606, 82.9577,83.2952,83.7808,84.0926,84.3922 ,84.6803,84.9627,85.2351,85.4975, 85.7517,86.0002,86.24,86.4714,86.6988, 86.9183,87.1303,87.339,87.5406,87.7355, 87.9262,88.1117,88.2907,88.4669,88.6381 ,88.887,89.0483,89.2814,89.4336,89.5785 ,89.722,89.8631,90.0008,90.1363,90.2674 ,90.459,90.5825,90.7043,90.1219,88.7913 ,87.5434,86.5947,85.8662,85.0685,83.913 ,83.1607,82.9979,82.8418,82.6729, 82.5017,82.3226,82.1387,81.9546,81.763, 81.5692,81.2731,81.0651,80.7358,80.5052 ,80.16,79.9218,79.6811,79.4326,79.177, 78.9166,78.6446,78.3625,77.9221,77.4628 ,77.158,76.8324,76.3299,75.8105,75.4497 ,74.8847,74.4968,74.095,73.4642,73.0366 ,72.3572,71.8813,71.3962,70.8909, 69.5631,68.4161,66.5263,68.0151)
ORBIT_NUMBER = 6755
ORBITAL_ECCENTRICITY = 0.575
ORBITAL_INCLINATION = 86.78
ORBITAL_SEMIMAJOR_AXIS = 8683.96
PERIAPSIS_ALTITUDE = 308.82
PERIAPSIS_ARGUMENT_ANGLE = 252.22
PERIAPSIS_TIME = 2009-04-07T14:15:58.000Z
SPACECRAFT_ORIENTATION = (0.0,-1.0,0.0)
^MEX_ORIENTATION_DESC = "MEX_ORIENTATION_DESC.TXT"
SPACECRAFT_POINTING_MODE = ACROSSTRACK
^MEX_POINTING_DESC = "MEX_POINTING_DESC.TXT"
RIGHT_ASCENSION = -1e+32
DECLINATION = -1e+32
OFFSET_ANGLE = 0.1
SPACECRAFT_SOLAR_DISTANCE = 2.06851e+08
TARGET_NAME = MARS
/* CAMERA DATA ELEMENTS */
DETECTOR_TEMPERATURE = 19.7978
FOCAL_PLANE_TEMPERATURE = 8.3794
INST_CMPRS_NAME = "DISCRETE COSINE TRANSFORMATION (DCT)"
INST_CMPRS_RATIO = 7.17751
INST_CMPRS_QUALITY = 0
INST_CMPRS_QUANTZ_TBL_ID = 0
INSTRUMENT_TEMPERATURE = 11.0301
LENS_TEMPERATURE = 8.5833
MACROPIXEL_SIZE = 2
MISSING_FRAMES = 0
PIXEL_SUBSAMPLING_FLAG = N
SIGNAL_CHAIN_ID = 1
/* RADIOMETRIC DATA ELEMENTS */
BANDWIDTH = 178.0
CENTER_FILTER_WAVELENGTH = 679.0
RADIANCE_OFFSET = 7.43459
RADIANCE_SCALING_FACTOR = 0.0287839
REFLECTANCE_SCALING_FACTOR = 0.000652222
MEX:REFLECTANCE_OFFSET = 0.168463
/* IMAGE OBJECT DEFINITIONS */
OBJECT = IMAGE
  INTERCHANGE_FORMAT = BINARY
  LINES = 23071
  LINE_SAMPLES = 10219
  SAMPLE_TYPE = UNSIGNED_INTEGER
  SAMPLE_BITS = 8
  BANDS = 1
  BAND_STORAGE_TYPE = BAND_SEQUENTIAL
  MAXIMUM = 255
  MEAN = 147.961
  MINIMUM = 1
  STANDARD_DEVIATION = 52.6899
END_OBJECT = IMAGE
/* MAP OBJECT DEFINITIONS */
OBJECT = IMAGE_MAP_PROJECTION
  ^DATA_SET_MAP_PROJECTION_CATALOG= "DSMAP.CAT"
  A_AXIS_RADIUS = 3396.0
  B_AXIS_RADIUS = 3396.0
  C_AXIS_RADIUS = 3396.0
  CENTER_LATITUDE = 0.0
  CENTER_LONGITUDE = 82.0
  COORDINATE_SYSTEM_NAME = PLANETOGRAPHIC
  COORDINATE_SYSTEM_TYPE = "BODY-FIXED ROTATING"
  EASTERNMOST_LONGITUDE = 90.7043
  FIRST_STANDARD_PARALLEL = "N/A"
  LINE_FIRST_PIXEL = 1
  LINE_LAST_PIXEL = 23071
  LINE_PROJECTION_OFFSET = -173821.25
  MAP_PROJECTION_ROTATION = 0.0
  MAP_PROJECTION_TYPE = SINUSOIDAL
  MAP_RESOLUTION = 2370.85521546667
  MAP_SCALE = 0.025
  MAXIMUM_LATITUDE = -73.3252
  MINIMUM_LATITUDE = -82.93380000000001
  POSITIVE_LONGITUDE_DIRECTION = EAST
  REFERENCE_LATITUDE = "N/A"
  REFERENCE_LONGITUDE = "N/A"
  SAMPLE_FIRST_PIXEL = 1
  SAMPLE_LAST_PIXEL = 10219
  SAMPLE_PROJECTION_OFFSET = 4747.75
  SECOND_STANDARD_PARALLEL = "N/A"
  WESTERNMOST_LONGITUDE = 66.52630000000001
END_OBJECT = IMAGE_MAP_PROJECTION
/* The JPEG2000 image data file associated with this label. */
OBJECT = COMPRESSED_FILE
  FILE_NAME = "H6755_0000_S23.JP2"
  RECORD_TYPE = UNDEFINED
  FILE_RECORDS = UNK
  ENCODING_TYPE = "JP2"
  INTERCHANGE_FORMAT = BINARY
  UNCOMPRESSED_FILE_NAME = "H6755_0000_S23.IMG"
  REQUIRED_STORAGE_BYTES = "235793206"
  ^DESCRIPTION = "JP2INFO.TXT"
END_OBJECT = COMPRESSED_FILE
END
