PDS_VERSION_ID = PDS3
/* FILE DATA ELEMENTS */
RECORD_TYPE = STREAM
/* POINTERS TO DATA OBJECTS */
^COMPRESSED_FILE = "H6756_0000_RE3.JP2"
/* IDENTIFICATION DATA ELEMENTS */
DATA_SET_ID = "MEX-M-HRSC-5-REFDR-MAPPROJECTED-V3.0"
DATA_SET_NAME = "MARS EXPRESS HRSC MAP PROJECTED REFDR V3.0"
DETECTOR_ID = MEX_HRSC_RED
EVENT_TYPE = "MARS-REGIONAL-MAPPING-Gl-La"
INSTRUMENT_HOST_ID = MEX
INSTRUMENT_HOST_NAME = "MARS EXPRESS"
INSTRUMENT_ID = HRSC
INSTRUMENT_NAME = "HIGH RESOLUTION STEREO CAMERA"
MISSION_NAME = "MARS EXPRESS"
MISSION_PHASE_NAME = ME_Phase_16
PROCESSING_LEVEL_ID = 3
PRODUCT_CREATION_TIME = 2016-06-29T08:07:06.000Z
PRODUCT_ID = "H6756_0000_RE3.JP2"
RELEASE_ID = 0075
REVISION_ID = 0000
/* QUALITY DATA ELEMENTS */
DATA_QUALITY_ID = 1
DATA_QUALITY_DESC = "Data calculated based on original SPICE kernels"
/* TIME DATA ELEMENTS */
SPACECRAFT_CLOCK_START_COUNT = "1/0187218955.08395"
SPACECRAFT_CLOCK_STOP_COUNT = "1/0187219248.07033"
START_TIME = 2009-04-07T21:17:20.272Z
STOP_TIME = 2009-04-07T21:20:34.361Z
/* ORBITAL DATA ELEMENTS */
ASCENDING_NODE_LONGITUDE = 88.87
MAXIMUM_RESOLUTION = 83.4
FOOTPRINT_POINT_LATITUDE = (-79.8005,-79.9191,-80.0513,-80.1094, -80.1761,-80.2334,-79.6965,-79.3331, -79.0571,-78.8718,-78.6882,-78.408, -78.2201,-78.0325,-77.8412,-77.6489, -77.4582,-77.2649,-77.0712,-76.878, -76.5839,-76.2876,-76.0889,-75.8912, -75.6935,-75.4908,-75.1881,-74.882, -74.6771,-74.3672,-74.1603,-73.9514, -73.6382,-73.4253,-73.2144,-73.0001, -72.7861,-72.5725,-72.2458,-72.0296, -71.8091,-71.4779,-71.2569,-71.0334, -70.8097,-70.5825,-70.3572,-70.1744, -70.1441,-70.1222,-70.0818,-70.0549, -70.0266,-69.9899,-69.9485,-69.8931, -70.1167,-70.4523,-70.6707,-70.8913, -71.2165,-71.4344,-71.6508,-71.8663, -72.0799,-72.2934,-72.5041,-72.8199, -73.0279,-73.2368,-73.5458,-73.7523, -73.9552,-74.1582,-74.4604,-74.6609, -74.9586,-75.1564,-75.3532,-75.5473, -75.7418,-75.9355,-76.2235,-76.4152, -76.6045,-76.7928,-76.9819,-77.2604, -77.447,-77.6312,-77.813,-77.9955, -78.1768,-78.4448,-78.6238,-78.8013, -79.0637,-79.4119,-79.7537,-79.8005)
FOOTPRINT_POINT_LONGITUDE = (336.021,337.869,340.192,341.329, 342.749,344.233,345.027,345.514,345.861 ,346.083,346.299,346.613,346.814, 347.009,347.199,347.383,347.562,347.738 ,347.909,348.074,348.317,348.547, 348.697,348.845,348.988,349.128,349.331 ,349.527,349.653,349.839,349.959, 350.076,350.248,350.359,350.468,350.574 ,350.679,350.781,350.93,351.028,351.122 ,351.261,351.351,351.44,351.527,351.612 ,351.696,350.907,349.997,349.415, 348.447,347.867,347.223,346.45,345.748, 344.836,344.73,344.562,344.453,344.337, 344.162,344.038,343.911,343.782,343.65, 343.514,343.377,343.164,343.019,342.868 ,342.637,342.476,342.314,342.148, 341.891,341.714,341.441,341.253,341.06, 340.865,340.663,340.454,340.132,339.909 ,339.681,339.449,339.207,338.836, 338.575,338.311,338.043,337.763,337.476 ,337.033,336.723,336.406,335.916, 335.226,334.495,336.021)
ORBIT_NUMBER = 6756
ORBITAL_ECCENTRICITY = 0.575
ORBITAL_INCLINATION = 86.78
ORBITAL_SEMIMAJOR_AXIS = 8685.1
PERIAPSIS_ALTITUDE = 309.79
PERIAPSIS_ARGUMENT_ANGLE = 252.03
PERIAPSIS_TIME = 2009-04-07T21:09:36.000Z
SPACECRAFT_ORIENTATION = (0.0,-1.0,0.0)
^MEX_ORIENTATION_DESC = "MEX_ORIENTATION_DESC.TXT"
SPACECRAFT_POINTING_MODE = NADIR
^MEX_POINTING_DESC = "MEX_POINTING_DESC.TXT"
RIGHT_ASCENSION = -1e+32
DECLINATION = -1e+32
OFFSET_ANGLE = -1e+32
SPACECRAFT_SOLAR_DISTANCE = 2.06843e+08
TARGET_NAME = MARS
/* CAMERA DATA ELEMENTS */
DETECTOR_TEMPERATURE = 18.5744
FOCAL_PLANE_TEMPERATURE = 8.5833
INST_CMPRS_NAME = "DISCRETE COSINE TRANSFORMATION (DCT)"
INST_CMPRS_RATIO = 45.9388
INST_CMPRS_QUALITY = 0
INST_CMPRS_QUANTZ_TBL_ID = 0
INSTRUMENT_TEMPERATURE = 11.0301
LENS_TEMPERATURE = 8.9911
MACROPIXEL_SIZE = 4
MISSING_FRAMES = 0
PIXEL_SUBSAMPLING_FLAG = N
SIGNAL_CHAIN_ID = 2
/* RADIOMETRIC DATA ELEMENTS */
BANDWIDTH = 48.0
CENTER_FILTER_WAVELENGTH = 748.0
RADIANCE_OFFSET = 1.92353
RADIANCE_SCALING_FACTOR = 0.00498394
REFLECTANCE_SCALING_FACTOR = 0.000486608
MEX:REFLECTANCE_OFFSET = 0.187805
/* IMAGE OBJECT DEFINITIONS */
OBJECT = IMAGE
  INTERCHANGE_FORMAT = BINARY
  LINES = 12332
  LINE_SAMPLES = 4652
  SAMPLE_TYPE = UNSIGNED_INTEGER
  SAMPLE_BITS = 8
  BANDS = 1
  BAND_STORAGE_TYPE = BAND_SEQUENTIAL
  MAXIMUM = 255
  MEAN = 254.698
  MINIMUM = 3
  STANDARD_DEVIATION = 6.36433
END_OBJECT = IMAGE
/* MAP OBJECT DEFINITIONS */
OBJECT = IMAGE_MAP_PROJECTION
  ^DATA_SET_MAP_PROJECTION_CATALOG= "DSMAP.CAT"
  A_AXIS_RADIUS = 3396.0
  B_AXIS_RADIUS = 3396.0
  C_AXIS_RADIUS = 3396.0
  CENTER_LATITUDE = 0.0
  CENTER_LONGITUDE = 345.0
  COORDINATE_SYSTEM_NAME = PLANETOGRAPHIC
  COORDINATE_SYSTEM_TYPE = "BODY-FIXED ROTATING"
  EASTERNMOST_LONGITUDE = 351.696
  FIRST_STANDARD_PARALLEL = "N/A"
  LINE_FIRST_PIXEL = 1
  LINE_LAST_PIXEL = 12332
  LINE_PROJECTION_OFFSET = -82886.875
  MAP_PROJECTION_ROTATION = 0.0
  MAP_PROJECTION_TYPE = SINUSOIDAL
  MAP_RESOLUTION = 1185.42760773333
  MAP_SCALE = 0.05
  MAXIMUM_LATITUDE = -69.8931
  MINIMUM_LATITUDE = -80.2334
  POSITIVE_LONGITUDE_DIRECTION = EAST
  REFERENCE_LATITUDE = "N/A"
  REFERENCE_LONGITUDE = "N/A"
  SAMPLE_FIRST_PIXEL = 1
  SAMPLE_LAST_PIXEL = 4652
  SAMPLE_PROJECTION_OFFSET = 2130.125
  SECOND_STANDARD_PARALLEL = "N/A"
  WESTERNMOST_LONGITUDE = 334.495
END_OBJECT = IMAGE_MAP_PROJECTION
/* The JPEG2000 image data file associated with this label. */
OBJECT = COMPRESSED_FILE
  FILE_NAME = "H6756_0000_RE3.JP2"
  RECORD_TYPE = UNDEFINED
  FILE_RECORDS = UNK
  ENCODING_TYPE = "JP2"
  INTERCHANGE_FORMAT = BINARY
  UNCOMPRESSED_FILE_NAME = "H6756_0000_RE3.IMG"
  REQUIRED_STORAGE_BYTES = "57396376"
  ^DESCRIPTION = "JP2INFO.TXT"
END_OBJECT = COMPRESSED_FILE
END
