PDS_VERSION_ID = PDS3
/* FILE DATA ELEMENTS */
RECORD_TYPE = STREAM
/* POINTERS TO DATA OBJECTS */
^COMPRESSED_FILE = "H6762_0000_P13.JP2"
/* IDENTIFICATION DATA ELEMENTS */
DATA_SET_ID = "MEX-M-HRSC-5-REFDR-MAPPROJECTED-V3.0"
DATA_SET_NAME = "MARS EXPRESS HRSC MAP PROJECTED REFDR V3.0"
DETECTOR_ID = MEX_HRSC_P1
EVENT_TYPE = "MARS-REGIONAL-MAPPING-Fl-Gl-La"
INSTRUMENT_HOST_ID = MEX
INSTRUMENT_HOST_NAME = "MARS EXPRESS"
INSTRUMENT_ID = HRSC
INSTRUMENT_NAME = "HIGH RESOLUTION STEREO CAMERA"
MISSION_NAME = "MARS EXPRESS"
MISSION_PHASE_NAME = ME_Phase_16
PROCESSING_LEVEL_ID = 3
PRODUCT_CREATION_TIME = 2016-06-29T08:07:06.000Z
PRODUCT_ID = "H6762_0000_P13.JP2"
RELEASE_ID = 0075
REVISION_ID = 0000
/* QUALITY DATA ELEMENTS */
DATA_QUALITY_ID = 1
DATA_QUALITY_DESC = "Data calculated based on original SPICE kernels"
/* TIME DATA ELEMENTS */
SPACECRAFT_CLOCK_START_COUNT = "1/0187367822.09130"
SPACECRAFT_CLOCK_STOP_COUNT = "1/0187368105.41477"
START_TIME = 2009-04-09T14:37:17.172Z
STOP_TIME = 2009-04-09T14:40:06.412Z
/* ORBITAL DATA ELEMENTS */
ASCENDING_NODE_LONGITUDE = 88.75
MAXIMUM_RESOLUTION = 33.3
FOOTPRINT_POINT_LATITUDE = (-84.5054,-84.6488,-84.7703,-84.9983, -85.1111,-84.8266,-84.4879,-84.2255, -83.958,-83.6881,-83.5068,-83.321, -83.1321,-82.9436,-82.7554,-82.5668, -82.2764,-81.9841,-81.7885,-81.4945, -81.2945,-81.0938,-80.8924,-80.6892, -80.4785,-80.2703,-80.0645,-79.7511, -79.5378,-79.3254,-79.1129,-78.8874, -78.5614,-78.3442,-78.1245,-77.9024, -77.6808,-77.4597,-77.2338,-77.0079, -76.7824,-76.5517,-76.2042,-75.9775, -75.7381,-75.4991,-75.1405,-74.9022, -74.7429,-74.709,-74.6677,-74.6128, -74.5393,-74.4749,-74.5293,-74.7665, -75.0003,-75.2374,-75.4664,-75.6902, -75.918,-76.1443,-76.3697,-76.5894, -76.8116,-77.0307,-77.2469,-77.4633, -77.6795,-77.8932,-78.1041,-78.4203, -78.6387,-78.8441,-79.0489,-79.2537, -79.4563,-79.6556,-79.8542,-80.0526, -80.2488,-80.4422,-80.6342,-80.826, -81.0169,-81.2024,-81.3876,-81.5723, -81.7558,-81.9371,-82.1144,-82.2904, -82.4651,-82.638,-82.8085,-83.3021, -83.6215,-83.9235,-84.2167,-84.5054)
FOOTPRINT_POINT_LONGITUDE = (72.7262,74.5577,76.2551,79.8926, 81.9707,84.3263,86.3118,87.6693,88.9171 ,90.0577,90.7662,91.4515,92.1105, 92.7242,93.2977,93.841,94.6249,95.3501, 95.8054,96.4376,96.8447,97.235,97.6097, 97.9731,98.3441,98.6854,98.9994,99.4579 ,99.7573,100.04,100.311,100.587,100.966 ,101.206,101.439,101.665,101.882, 102.089,102.293,102.489,102.678,102.868 ,103.141,103.301,103.482,103.655, 103.891,104.04,103.171,102.366,101.502, 100.445,99.1987,98.2227,97.1915,96.9816 ,96.7661,96.5401,96.309,96.0703,95.8296 ,95.5793,95.3216,95.057,94.7841,94.4993 ,94.2109,93.9122,93.602,93.2831,92.9556 ,92.4404,92.0657,91.6984,91.3163, 90.9187,90.5085,90.0872,89.6483,89.1908 ,88.717,88.2311,87.7241,87.1948,86.6418 ,86.0767,85.4872,84.8706,84.2254, 83.5545,82.864,82.1408,81.3827,80.588, 79.7601,77.0688,75.0403,72.8574,70.4421 ,72.7262)
ORBIT_NUMBER = 6762
ORBITAL_ECCENTRICITY = 0.575
ORBITAL_INCLINATION = 86.78
ORBITAL_SEMIMAJOR_AXIS = 8685.19
PERIAPSIS_ALTITUDE = 309.19
PERIAPSIS_ARGUMENT_ANGLE = 251.02
PERIAPSIS_TIME = 2009-04-09T14:31:44.000Z
SPACECRAFT_ORIENTATION = (0.0,-1.0,0.0)
^MEX_ORIENTATION_DESC = "MEX_ORIENTATION_DESC.TXT"
SPACECRAFT_POINTING_MODE = NADIR
^MEX_POINTING_DESC = "MEX_POINTING_DESC.TXT"
RIGHT_ASCENSION = -1e+32
DECLINATION = -1e+32
OFFSET_ANGLE = -1e+32
SPACECRAFT_SOLAR_DISTANCE = 2.06796e+08
TARGET_NAME = MARS
/* CAMERA DATA ELEMENTS */
DETECTOR_TEMPERATURE = 17.5549
FOCAL_PLANE_TEMPERATURE = 8.3794
INST_CMPRS_NAME = "DISCRETE COSINE TRANSFORMATION (DCT)"
INST_CMPRS_RATIO = 6.1551
INST_CMPRS_QUALITY = 0
INST_CMPRS_QUANTZ_TBL_ID = 0
INSTRUMENT_TEMPERATURE = 11.8457
LENS_TEMPERATURE = 8.5833
MACROPIXEL_SIZE = 2
MISSING_FRAMES = 3
PIXEL_SUBSAMPLING_FLAG = N
SIGNAL_CHAIN_ID = 3
/* RADIOMETRIC DATA ELEMENTS */
BANDWIDTH = 174.0
CENTER_FILTER_WAVELENGTH = 675.0
RADIANCE_OFFSET = 6.3626
RADIANCE_SCALING_FACTOR = 0.0294298
REFLECTANCE_SCALING_FACTOR = 0.000676947
MEX:REFLECTANCE_OFFSET = 0.146353
/* IMAGE OBJECT DEFINITIONS */
OBJECT = IMAGE
  INTERCHANGE_FORMAT = BINARY
  LINES = 25306
  LINE_SAMPLES = 11975
  SAMPLE_TYPE = UNSIGNED_INTEGER
  SAMPLE_BITS = 8
  BANDS = 1
  BAND_STORAGE_TYPE = BAND_SEQUENTIAL
  MAXIMUM = 255
  MEAN = 160.156
  MINIMUM = 1
  STANDARD_DEVIATION = 70.963
END_OBJECT = IMAGE
/* MAP OBJECT DEFINITIONS */
OBJECT = IMAGE_MAP_PROJECTION
  ^DATA_SET_MAP_PROJECTION_CATALOG= "DSMAP.CAT"
  A_AXIS_RADIUS = 3396.0
  B_AXIS_RADIUS = 3396.0
  C_AXIS_RADIUS = 3396.0
  CENTER_LATITUDE = 0.0
  CENTER_LONGITUDE = 94.0
  COORDINATE_SYSTEM_NAME = PLANETOGRAPHIC
  COORDINATE_SYSTEM_TYPE = "BODY-FIXED ROTATING"
  EASTERNMOST_LONGITUDE = 104.04
  FIRST_STANDARD_PARALLEL = "N/A"
  LINE_FIRST_PIXEL = 1
  LINE_LAST_PIXEL = 25306
  LINE_PROJECTION_OFFSET = -176337.25
  MAP_PROJECTION_ROTATION = 0.0
  MAP_PROJECTION_TYPE = SINUSOIDAL
  MAP_RESOLUTION = 2370.85521546667
  MAP_SCALE = 0.025
  MAXIMUM_LATITUDE = -74.47490000000001
  MINIMUM_LATITUDE = -85.11109999999999
  POSITIVE_LONGITUDE_DIRECTION = EAST
  REFERENCE_LATITUDE = "N/A"
  REFERENCE_LONGITUDE = "N/A"
  SAMPLE_FIRST_PIXEL = 1
  SAMPLE_LAST_PIXEL = 11975
  SAMPLE_PROJECTION_OFFSET = 5603.75
  SECOND_STANDARD_PARALLEL = "N/A"
  WESTERNMOST_LONGITUDE = 70.4421
END_OBJECT = IMAGE_MAP_PROJECTION
/* The JPEG2000 image data file associated with this label. */
OBJECT = COMPRESSED_FILE
  FILE_NAME = "H6762_0000_P13.JP2"
  RECORD_TYPE = UNDEFINED
  FILE_RECORDS = UNK
  ENCODING_TYPE = "JP2"
  INTERCHANGE_FORMAT = BINARY
  UNCOMPRESSED_FILE_NAME = "H6762_0000_P13.IMG"
  REQUIRED_STORAGE_BYTES = "303075275"
  ^DESCRIPTION = "JP2INFO.TXT"
END_OBJECT = COMPRESSED_FILE
END
