PDS_VERSION_ID = PDS3
/* FILE DATA ELEMENTS */
RECORD_TYPE = STREAM
/* POINTERS TO DATA OBJECTS */
^COMPRESSED_FILE = "H6763_0000_BL3.JP2"
/* IDENTIFICATION DATA ELEMENTS */
DATA_SET_ID = "MEX-M-HRSC-5-REFDR-MAPPROJECTED-V3.0"
DATA_SET_NAME = "MARS EXPRESS HRSC MAP PROJECTED REFDR V3.0"
DETECTOR_ID = MEX_HRSC_BLUE
EVENT_TYPE = "MARS-REGIONAL-MAPPING-Im-Pf"
INSTRUMENT_HOST_ID = MEX
INSTRUMENT_HOST_NAME = "MARS EXPRESS"
INSTRUMENT_ID = HRSC
INSTRUMENT_NAME = "HIGH RESOLUTION STEREO CAMERA"
MISSION_NAME = "MARS EXPRESS"
MISSION_PHASE_NAME = ME_Phase_16
PROCESSING_LEVEL_ID = 3
PRODUCT_CREATION_TIME = 2016-06-29T08:07:06.000Z
PRODUCT_ID = "H6763_0000_BL3.JP2"
RELEASE_ID = 0075
REVISION_ID = 0000
/* QUALITY DATA ELEMENTS */
DATA_QUALITY_ID = 1
DATA_QUALITY_DESC = "Data calculated based on original SPICE kernels"
/* TIME DATA ELEMENTS */
SPACECRAFT_CLOCK_START_COUNT = "1/0187392971.08379"
SPACECRAFT_CLOCK_STOP_COUNT = "1/0187393621.20343"
START_TIME = 2009-04-09T21:37:40.854Z
STOP_TIME = 2009-04-09T21:43:45.730Z
/* ORBITAL DATA ELEMENTS */
ASCENDING_NODE_LONGITUDE = 88.73
MAXIMUM_RESOLUTION = 60.7
FOOTPRINT_POINT_LATITUDE = (-64.3919,-64.4405,-64.4934,-64.5472, -64.5802,-64.2372,-63.6872,-63.3187, -62.952,-62.5869,-62.2232,-61.8609, -61.5003,-61.1411,-60.7835,-60.4274, -60.0723,-59.719,-59.3671,-59.0163, -58.6689,-58.1472,-57.8024,-57.4589, -57.0779,-56.7253,-56.3869,-56.0495, -55.7134,-55.3784,-55.0454,-54.7139, -54.3839,-54.0551,-53.7275,-53.4012, -53.077,-52.7369,-52.4159,-52.0958, -51.7771,-51.4592,-51.1432,-50.8289, -50.2042,-49.5854,-48.9715,-48.3644, -47.7607,-47.7433,-47.7482,-47.7516, -47.7497,-47.7434,-47.7336,-47.7221, -47.6952,-47.6752,-48.269,-48.8678, -49.4732,-50.2378,-50.8556,-51.4796, -51.7936,-52.1091,-52.4264,-52.7557, -53.2422,-53.564,-53.8875,-54.2127, -54.5394,-54.8673,-55.1971,-55.5282, -55.8606,-56.1942,-56.7107,-57.2553, -57.5955,-57.9371,-58.2801,-58.6246, -58.9707,-59.3181,-59.6673,-60.0177, -60.37,-60.7234,-61.0785,-61.4352, -61.7924,-62.1526,-62.5135,-62.8759, -63.2398,-63.605,-63.9683,-64.3919)
FOOTPRINT_POINT_LONGITUDE = (2.02565,2.94895,4.10827,5.56382, 6.73555,7.5987,7.70208,7.76473,7.82614, 7.88575,7.94321,7.99825,8.05239,8.10427 ,8.1549,8.20386,8.24955,8.29514,8.33856 ,8.37978,8.42576,8.48123,8.52057, 8.55793,8.59388,8.63138,8.66693,8.70012 ,8.73184,8.76141,8.79193,8.82147,8.8506 ,8.87817,8.90402,8.92913,8.95498, 8.98291,9.00838,9.03152,9.05415,9.07434 ,9.09534,9.11645,9.15639,9.19515, 9.23036,9.26729,9.29685,8.6224,8.06865, 7.57905,6.71971,5.92324,5.06358,4.51167 ,3.59666,2.96188,2.96106,2.95886, 2.95128,2.9372,2.92308,2.90394,2.89318, 2.88152,2.8678,2.8557,2.83198,2.81597, 2.79852,2.7789,2.75777,2.73642,2.71227, 2.68725,2.66138,2.63463,2.58793,2.53542 ,2.50083,2.46445,2.42632,2.38638, 2.34392,2.29997,2.25282,2.20457,2.15206 ,2.09869,2.04197,1.98189,1.92272, 1.85491,1.787,1.71544,1.64079,1.56275, 1.48209,2.02565)
ORBIT_NUMBER = 6763
ORBITAL_ECCENTRICITY = 0.575
ORBITAL_INCLINATION = 86.77
ORBITAL_SEMIMAJOR_AXIS = 8686.51
PERIAPSIS_ALTITUDE = 310.01
PERIAPSIS_ARGUMENT_ANGLE = 250.83
PERIAPSIS_TIME = 2009-04-09T21:25:22.000Z
SPACECRAFT_ORIENTATION = (0.0,-1.0,0.0)
^MEX_ORIENTATION_DESC = "MEX_ORIENTATION_DESC.TXT"
SPACECRAFT_POINTING_MODE = ACROSSTRACK
^MEX_POINTING_DESC = "MEX_POINTING_DESC.TXT"
RIGHT_ASCENSION = -1e+32
DECLINATION = -1e+32
OFFSET_ANGLE = -0.15
SPACECRAFT_SOLAR_DISTANCE = 2.06788e+08
TARGET_NAME = MARS
/* CAMERA DATA ELEMENTS */
DETECTOR_TEMPERATURE = 18.3705
FOCAL_PLANE_TEMPERATURE = 8.7872
INST_CMPRS_NAME = "DISCRETE COSINE TRANSFORMATION (DCT)"
INST_CMPRS_RATIO = 6.61905
INST_CMPRS_QUALITY = 0
INST_CMPRS_QUANTZ_TBL_ID = 0
INSTRUMENT_TEMPERATURE = 11.234
LENS_TEMPERATURE = 10.0106
MACROPIXEL_SIZE = 2
MISSING_FRAMES = 13
PIXEL_SUBSAMPLING_FLAG = N
SIGNAL_CHAIN_ID = 2
/* RADIOMETRIC DATA ELEMENTS */
BANDWIDTH = 76.0
CENTER_FILTER_WAVELENGTH = 444.0
RADIANCE_OFFSET = 1.10029
RADIANCE_SCALING_FACTOR = 0.00114476
REFLECTANCE_SCALING_FACTOR = 5.02949e-05
MEX:REFLECTANCE_OFFSET = 0.0483411
/* IMAGE OBJECT DEFINITIONS */
OBJECT = IMAGE
  INTERCHANGE_FORMAT = BINARY
  LINES = 20090
  LINE_SAMPLES = 4931
  SAMPLE_TYPE = UNSIGNED_INTEGER
  SAMPLE_BITS = 8
  BANDS = 1
  BAND_STORAGE_TYPE = BAND_SEQUENTIAL
  MAXIMUM = 255
  MEAN = 136.849
  MINIMUM = 1
  STANDARD_DEVIATION = 32.3707
END_OBJECT = IMAGE
/* MAP OBJECT DEFINITIONS */
OBJECT = IMAGE_MAP_PROJECTION
  ^DATA_SET_MAP_PROJECTION_CATALOG= "DSMAP.CAT"
  A_AXIS_RADIUS = 3396.0
  B_AXIS_RADIUS = 3396.0
  C_AXIS_RADIUS = 3396.0
  CENTER_LATITUDE = 0.0
  CENTER_LONGITUDE = 6.0
  COORDINATE_SYSTEM_NAME = PLANETOGRAPHIC
  COORDINATE_SYSTEM_TYPE = "BODY-FIXED ROTATING"
  EASTERNMOST_LONGITUDE = 9.296849999999999
  FIRST_STANDARD_PARALLEL = "N/A"
  LINE_FIRST_PIXEL = 1
  LINE_LAST_PIXEL = 20090
  LINE_PROJECTION_OFFSET = -56513.75
  MAP_PROJECTION_ROTATION = 0.0
  MAP_PROJECTION_TYPE = SINUSOIDAL
  MAP_RESOLUTION = 1185.42760773333
  MAP_SCALE = 0.05
  MAXIMUM_LATITUDE = -47.6752
  MINIMUM_LATITUDE = -64.5802
  POSITIVE_LONGITUDE_DIRECTION = EAST
  REFERENCE_LATITUDE = "N/A"
  REFERENCE_LONGITUDE = "N/A"
  SAMPLE_FIRST_PIXEL = 1
  SAMPLE_LAST_PIXEL = 4931
  SAMPLE_PROJECTION_OFFSET = 2358.75
  SECOND_STANDARD_PARALLEL = "N/A"
  WESTERNMOST_LONGITUDE = 1.48209
END_OBJECT = IMAGE_MAP_PROJECTION
/* The JPEG2000 image data file associated with this label. */
OBJECT = COMPRESSED_FILE
  FILE_NAME = "H6763_0000_BL3.JP2"
  RECORD_TYPE = UNDEFINED
  FILE_RECORDS = UNK
  ENCODING_TYPE = "JP2"
  INTERCHANGE_FORMAT = BINARY
  UNCOMPRESSED_FILE_NAME = "H6763_0000_BL3.IMG"
  REQUIRED_STORAGE_BYTES = "99088445"
  ^DESCRIPTION = "JP2INFO.TXT"
END_OBJECT = COMPRESSED_FILE
END
