PDS_VERSION_ID = PDS3
/* FILE DATA ELEMENTS */
RECORD_TYPE = STREAM
/* POINTERS TO DATA OBJECTS */
^COMPRESSED_FILE = "H6763_0000_GR3.JP2"
/* IDENTIFICATION DATA ELEMENTS */
DATA_SET_ID = "MEX-M-HRSC-5-REFDR-MAPPROJECTED-V3.0"
DATA_SET_NAME = "MARS EXPRESS HRSC MAP PROJECTED REFDR V3.0"
DETECTOR_ID = MEX_HRSC_GREEN
EVENT_TYPE = "MARS-REGIONAL-MAPPING-Im-Pf"
INSTRUMENT_HOST_ID = MEX
INSTRUMENT_HOST_NAME = "MARS EXPRESS"
INSTRUMENT_ID = HRSC
INSTRUMENT_NAME = "HIGH RESOLUTION STEREO CAMERA"
MISSION_NAME = "MARS EXPRESS"
MISSION_PHASE_NAME = ME_Phase_16
PROCESSING_LEVEL_ID = 3
PRODUCT_CREATION_TIME = 2016-06-29T08:07:06.000Z
PRODUCT_ID = "H6763_0000_GR3.JP2"
RELEASE_ID = 0075
REVISION_ID = 0000
/* QUALITY DATA ELEMENTS */
DATA_QUALITY_ID = 1
DATA_QUALITY_DESC = "Data calculated based on original SPICE kernels"
/* TIME DATA ELEMENTS */
SPACECRAFT_CLOCK_START_COUNT = "1/0187392971.08379"
SPACECRAFT_CLOCK_STOP_COUNT = "1/0187393621.20343"
START_TIME = 2009-04-09T21:37:12.831Z
STOP_TIME = 2009-04-09T21:42:51.418Z
/* ORBITAL DATA ELEMENTS */
ASCENDING_NODE_LONGITUDE = 88.73
MAXIMUM_RESOLUTION = 58.2
FOOTPRINT_POINT_LATITUDE = (-64.4379,-64.4856,-64.5303,-64.5667, -64.5975,-64.627,-64.2844,-63.94, -63.5937,-63.2451,-62.702,-62.1664, -61.8084,-61.4514,-61.0957,-60.7411, -60.3877,-60.036,-59.6851,-59.3355, -58.9872,-58.6399,-58.2942,-57.9492, -57.6055,-57.2636,-56.9231,-56.5827, -56.2435,-55.906,-55.5699,-55.0349, -54.6952,-54.3631,-54.0324,-53.7032, -53.3751,-52.8787,-52.5522,-52.2281, -51.9052,-51.5836,-51.2637,-50.7788, -50.4489,-50.1325,-49.5035,-48.8793, -48.2599,-47.7563,-47.7629,-47.7604, -47.7542,-47.7401,-47.7221,-47.6996, -47.9729,-48.5838,-49.2003,-49.8212, -50.4468,-50.78,-51.4127,-51.731, -52.0499,-52.3706,-52.6932,-53.1854, -53.5102,-53.837,-54.1643,-54.4928, -54.8292,-55.3591,-55.6922,-56.0267, -56.3625,-56.699,-57.0369,-57.3761, -57.7166,-58.0584,-58.4014,-58.7455, -59.0909,-59.4375,-59.7853,-60.1341, -60.4845,-60.8358,-61.1883,-61.5421, -61.8978,-62.2522,-62.6047,-62.9677, -63.3138,-63.6576,-63.9986,-64.4379)
FOOTPRINT_POINT_LONGITUDE = (2.17165,3.05751,4.00355,4.89608, 5.79211,6.86205,7.46461,7.53226,7.59306 ,7.6505,7.73977,7.82299,7.87601,7.92823 ,7.97842,8.02734,8.07454,8.11841, 8.16259,8.20456,8.24521,8.28554,8.32259 ,8.36127,8.39789,8.43114,8.46269, 8.49772,8.53152,8.56282,8.59231,8.63817 ,8.66658,8.69431,8.72074,8.74516, 8.76884,8.80429,8.83181,8.85417,8.8757, 8.89636,8.91456,8.94475,8.96408,8.98274 ,9.01783,9.05059,9.0806,8.93382,7.89338 ,6.97206,6.33947,5.4774,4.72999,3.98452 ,3.15797,3.15087,3.14287,3.13072, 3.11477,3.10465,3.08229,3.0701,3.05518, 3.04073,3.02688,3.00271,2.9839,2.96588, 2.94464,2.92212,2.89826,2.85793,2.83082 ,2.80271,2.77346,2.74104,2.70755, 2.67275,2.6362,2.59793,2.55793,2.5158, 2.47189,2.42562,2.37718,2.32619,2.27361 ,2.21814,2.1599,2.09917,2.03821,1.96953 ,1.90145,1.82812,1.75569,1.68068, 1.60329,2.17165)
ORBIT_NUMBER = 6763
ORBITAL_ECCENTRICITY = 0.575
ORBITAL_INCLINATION = 86.77
ORBITAL_SEMIMAJOR_AXIS = 8686.51
PERIAPSIS_ALTITUDE = 310.01
PERIAPSIS_ARGUMENT_ANGLE = 250.83
PERIAPSIS_TIME = 2009-04-09T21:25:22.000Z
SPACECRAFT_ORIENTATION = (0.0,-1.0,0.0)
^MEX_ORIENTATION_DESC = "MEX_ORIENTATION_DESC.TXT"
SPACECRAFT_POINTING_MODE = ACROSSTRACK
^MEX_POINTING_DESC = "MEX_POINTING_DESC.TXT"
RIGHT_ASCENSION = -1e+32
DECLINATION = -1e+32
OFFSET_ANGLE = -0.15
SPACECRAFT_SOLAR_DISTANCE = 2.06788e+08
TARGET_NAME = MARS
/* CAMERA DATA ELEMENTS */
DETECTOR_TEMPERATURE = 18.3705
FOCAL_PLANE_TEMPERATURE = 8.7872
INST_CMPRS_NAME = "DISCRETE COSINE TRANSFORMATION (DCT)"
INST_CMPRS_RATIO = 11.0011
INST_CMPRS_QUALITY = 0
INST_CMPRS_QUANTZ_TBL_ID = 0
INSTRUMENT_TEMPERATURE = 11.234
LENS_TEMPERATURE = 10.0106
MACROPIXEL_SIZE = 2
MISSING_FRAMES = 12
PIXEL_SUBSAMPLING_FLAG = N
SIGNAL_CHAIN_ID = 2
/* RADIOMETRIC DATA ELEMENTS */
BANDWIDTH = 88.0
CENTER_FILTER_WAVELENGTH = 538.0
RADIANCE_OFFSET = 2.92804
RADIANCE_SCALING_FACTOR = 0.00220568
REFLECTANCE_SCALING_FACTOR = 8.12051e-05
MEX:REFLECTANCE_OFFSET = 0.1078
/* IMAGE OBJECT DEFINITIONS */
OBJECT = IMAGE
  INTERCHANGE_FORMAT = BINARY
  LINES = 20090
  LINE_SAMPLES = 4931
  SAMPLE_TYPE = UNSIGNED_INTEGER
  SAMPLE_BITS = 8
  BANDS = 1
  BAND_STORAGE_TYPE = BAND_SEQUENTIAL
  MAXIMUM = 255
  MEAN = 136.772
  MINIMUM = 1
  STANDARD_DEVIATION = 31.9457
END_OBJECT = IMAGE
/* MAP OBJECT DEFINITIONS */
OBJECT = IMAGE_MAP_PROJECTION
  ^DATA_SET_MAP_PROJECTION_CATALOG= "DSMAP.CAT"
  A_AXIS_RADIUS = 3396.0
  B_AXIS_RADIUS = 3396.0
  C_AXIS_RADIUS = 3396.0
  CENTER_LATITUDE = 0.0
  CENTER_LONGITUDE = 6.0
  COORDINATE_SYSTEM_NAME = PLANETOGRAPHIC
  COORDINATE_SYSTEM_TYPE = "BODY-FIXED ROTATING"
  EASTERNMOST_LONGITUDE = 9.0806
  FIRST_STANDARD_PARALLEL = "N/A"
  LINE_FIRST_PIXEL = 1
  LINE_LAST_PIXEL = 20090
  LINE_PROJECTION_OFFSET = -56513.75
  MAP_PROJECTION_ROTATION = 0.0
  MAP_PROJECTION_TYPE = SINUSOIDAL
  MAP_RESOLUTION = 1185.42760773333
  MAP_SCALE = 0.05
  MAXIMUM_LATITUDE = -47.6996
  MINIMUM_LATITUDE = -64.627
  POSITIVE_LONGITUDE_DIRECTION = EAST
  REFERENCE_LATITUDE = "N/A"
  REFERENCE_LONGITUDE = "N/A"
  SAMPLE_FIRST_PIXEL = 1
  SAMPLE_LAST_PIXEL = 4931
  SAMPLE_PROJECTION_OFFSET = 2358.75
  SECOND_STANDARD_PARALLEL = "N/A"
  WESTERNMOST_LONGITUDE = 1.60329
END_OBJECT = IMAGE_MAP_PROJECTION
/* The JPEG2000 image data file associated with this label. */
OBJECT = COMPRESSED_FILE
  FILE_NAME = "H6763_0000_GR3.JP2"
  RECORD_TYPE = UNDEFINED
  FILE_RECORDS = UNK
  ENCODING_TYPE = "JP2"
  INTERCHANGE_FORMAT = BINARY
  UNCOMPRESSED_FILE_NAME = "H6763_0000_GR3.IMG"
  REQUIRED_STORAGE_BYTES = "99088445"
  ^DESCRIPTION = "JP2INFO.TXT"
END_OBJECT = COMPRESSED_FILE
END
