PDS_VERSION_ID = PDS3
/* FILE DATA ELEMENTS */
RECORD_TYPE = STREAM
/* POINTERS TO DATA OBJECTS */
^COMPRESSED_FILE = "H6763_0000_S23.JP2"
/* IDENTIFICATION DATA ELEMENTS */
DATA_SET_ID = "MEX-M-HRSC-5-REFDR-MAPPROJECTED-V3.0"
DATA_SET_NAME = "MARS EXPRESS HRSC MAP PROJECTED REFDR V3.0"
DETECTOR_ID = MEX_HRSC_S2
EVENT_TYPE = "MARS-REGIONAL-MAPPING-Im-Pf"
INSTRUMENT_HOST_ID = MEX
INSTRUMENT_HOST_NAME = "MARS EXPRESS"
INSTRUMENT_ID = HRSC
INSTRUMENT_NAME = "HIGH RESOLUTION STEREO CAMERA"
MISSION_NAME = "MARS EXPRESS"
MISSION_PHASE_NAME = ME_Phase_16
PROCESSING_LEVEL_ID = 3
PRODUCT_CREATION_TIME = 2016-06-29T08:07:06.000Z
PRODUCT_ID = "H6763_0000_S23.JP2"
RELEASE_ID = 0075
REVISION_ID = 0000
/* QUALITY DATA ELEMENTS */
DATA_QUALITY_ID = 1
DATA_QUALITY_DESC = "Data calculated based on original SPICE kernels"
/* TIME DATA ELEMENTS */
SPACECRAFT_CLOCK_START_COUNT = "1/0187392971.08379"
SPACECRAFT_CLOCK_STOP_COUNT = "1/0187393621.20343"
START_TIME = 2009-04-09T21:39:05.667Z
STOP_TIME = 2009-04-09T21:47:01.812Z
/* ORBITAL DATA ELEMENTS */
ASCENDING_NODE_LONGITUDE = 88.73
MAXIMUM_RESOLUTION = 73.8
FOOTPRINT_POINT_LATITUDE = (-64.3246,-64.3716,-64.4149,-64.4495, -64.4781,-64.5005,-63.983,-63.5803, -63.1822,-62.7871,-62.3948,-62.0035, -61.416,-61.0346,-60.6554,-60.2794, -59.906,-59.5337,-59.1653,-58.8116, -58.4463,-58.0734,-57.7199,-57.1905, -56.8422,-56.4931,-56.1518,-55.8091, -55.4748,-55.1341,-54.8041,-54.4731, -54.1461,-53.8199,-53.4922,-53.0191, -52.7015,-52.3861,-51.918,-51.6075, -51.3029,-51.0015,-50.4034,-49.9564, -49.3713,-48.9429,-48.24,-47.6658, -47.6783,-47.6926,-47.707,-47.7234, -47.728,-47.7346,-47.7398,-47.7489, -47.7429,-47.742,-47.7394,-48.025, -48.5625,-49.4066,-49.9783,-50.5396, -51.1245,-51.5716,-52.1739,-52.4802, -52.7887,-53.0994,-53.4108,-53.727, -54.046,-54.367,-54.6922,-55.0204, -55.3503,-55.682,-56.1882,-56.5233, -56.869,-57.2145,-57.5597,-57.9117, -58.2665,-58.7994,-59.159,-59.5239, -60.0669,-60.6374,-61.0091,-61.3881, -61.7798,-62.1629,-62.5503,-62.9395, -63.3332,-63.7282,-64.1265,-64.3246)
FOOTPRINT_POINT_LONGITUDE = (2.38275,3.44901,4.58585,5.65839, 6.73571,7.81894,8.24265,8.3193,8.39432, 8.46683,8.53682,8.60326,8.70378,8.76661 ,8.82713,8.88603,8.94307,8.99733, 9.05079,9.11036,9.15936,9.20046,9.25088 ,9.32151,9.368,9.41122,9.45657,9.49844, 9.54286,9.58092,9.62306,9.66218,9.70143 ,9.73884,9.77312,9.8315,9.8664,9.90059, 9.95102,9.98306,10.0166,10.0502,10.1145 ,10.1588,10.221,10.2671,10.3421,10.4038 ,9.54375,8.99629,8.21474,7.67045, 7.04625,6.50105,5.79953,4.94109,4.31807 ,3.38082,2.67634,2.34246,2.35502, 2.35905,2.36144,2.36891,2.36605,2.36049 ,2.35108,2.3441,2.33623,2.3274,2.31853, 2.30716,2.29444,2.28073,2.26473,2.24703 ,2.22841,2.20881,2.17409,2.15246, 2.12395,2.09539,2.06696,2.03367,1.99823 ,1.94401,1.90423,1.8601,1.79625,1.70963 ,1.65755,1.59863,1.53527,1.47073, 1.40111,1.3285,1.2502,1.16883,1.08244, 2.38275)
ORBIT_NUMBER = 6763
ORBITAL_ECCENTRICITY = 0.575
ORBITAL_INCLINATION = 86.77
ORBITAL_SEMIMAJOR_AXIS = 8686.51
PERIAPSIS_ALTITUDE = 310.01
PERIAPSIS_ARGUMENT_ANGLE = 250.83
PERIAPSIS_TIME = 2009-04-09T21:25:22.000Z
SPACECRAFT_ORIENTATION = (0.0,-1.0,0.0)
^MEX_ORIENTATION_DESC = "MEX_ORIENTATION_DESC.TXT"
SPACECRAFT_POINTING_MODE = ACROSSTRACK
^MEX_POINTING_DESC = "MEX_POINTING_DESC.TXT"
RIGHT_ASCENSION = -1e+32
DECLINATION = -1e+32
OFFSET_ANGLE = -0.15
SPACECRAFT_SOLAR_DISTANCE = 2.06788e+08
TARGET_NAME = MARS
/* CAMERA DATA ELEMENTS */
DETECTOR_TEMPERATURE = 18.7783
FOCAL_PLANE_TEMPERATURE = 8.7872
INST_CMPRS_NAME = "DISCRETE COSINE TRANSFORMATION (DCT)"
INST_CMPRS_RATIO = 11.8542
INST_CMPRS_QUALITY = 0
INST_CMPRS_QUANTZ_TBL_ID = 0
INSTRUMENT_TEMPERATURE = 11.234
LENS_TEMPERATURE = 10.0106
MACROPIXEL_SIZE = 2
MISSING_FRAMES = 12
PIXEL_SUBSAMPLING_FLAG = N
SIGNAL_CHAIN_ID = 1
/* RADIOMETRIC DATA ELEMENTS */
BANDWIDTH = 178.0
CENTER_FILTER_WAVELENGTH = 679.0
RADIANCE_OFFSET = 8.93178
RADIANCE_SCALING_FACTOR = 0.0105295
REFLECTANCE_SCALING_FACTOR = 0.000238444
MEX:REFLECTANCE_OFFSET = 0.202263
/* IMAGE OBJECT DEFINITIONS */
OBJECT = IMAGE
  INTERCHANGE_FORMAT = BINARY
  LINES = 20090
  LINE_SAMPLES = 4931
  SAMPLE_TYPE = UNSIGNED_INTEGER
  SAMPLE_BITS = 8
  BANDS = 1
  BAND_STORAGE_TYPE = BAND_SEQUENTIAL
  MAXIMUM = 253
  MEAN = 145.178
  MINIMUM = 1
  STANDARD_DEVIATION = 31.5548
END_OBJECT = IMAGE
/* MAP OBJECT DEFINITIONS */
OBJECT = IMAGE_MAP_PROJECTION
  ^DATA_SET_MAP_PROJECTION_CATALOG= "DSMAP.CAT"
  A_AXIS_RADIUS = 3396.0
  B_AXIS_RADIUS = 3396.0
  C_AXIS_RADIUS = 3396.0
  CENTER_LATITUDE = 0.0
  CENTER_LONGITUDE = 6.0
  COORDINATE_SYSTEM_NAME = PLANETOGRAPHIC
  COORDINATE_SYSTEM_TYPE = "BODY-FIXED ROTATING"
  EASTERNMOST_LONGITUDE = 10.4038
  FIRST_STANDARD_PARALLEL = "N/A"
  LINE_FIRST_PIXEL = 1
  LINE_LAST_PIXEL = 20090
  LINE_PROJECTION_OFFSET = -56513.75
  MAP_PROJECTION_ROTATION = 0.0
  MAP_PROJECTION_TYPE = SINUSOIDAL
  MAP_RESOLUTION = 1185.42760773333
  MAP_SCALE = 0.05
  MAXIMUM_LATITUDE = -47.6658
  MINIMUM_LATITUDE = -64.5005
  POSITIVE_LONGITUDE_DIRECTION = EAST
  REFERENCE_LATITUDE = "N/A"
  REFERENCE_LONGITUDE = "N/A"
  SAMPLE_FIRST_PIXEL = 1
  SAMPLE_LAST_PIXEL = 4931
  SAMPLE_PROJECTION_OFFSET = 2358.75
  SECOND_STANDARD_PARALLEL = "N/A"
  WESTERNMOST_LONGITUDE = 1.08244
END_OBJECT = IMAGE_MAP_PROJECTION
/* The JPEG2000 image data file associated with this label. */
OBJECT = COMPRESSED_FILE
  FILE_NAME = "H6763_0000_S23.JP2"
  RECORD_TYPE = UNDEFINED
  FILE_RECORDS = UNK
  ENCODING_TYPE = "JP2"
  INTERCHANGE_FORMAT = BINARY
  UNCOMPRESSED_FILE_NAME = "H6763_0000_S23.IMG"
  REQUIRED_STORAGE_BYTES = "99088445"
  ^DESCRIPTION = "JP2INFO.TXT"
END_OBJECT = COMPRESSED_FILE
END
