PDS_VERSION_ID = PDS3
/* FILE DATA ELEMENTS */
RECORD_TYPE = STREAM
/* POINTERS TO DATA OBJECTS */
^COMPRESSED_FILE = "H6773_0000_S23.JP2"
/* IDENTIFICATION DATA ELEMENTS */
DATA_SET_ID = "MEX-M-HRSC-5-REFDR-MAPPROJECTED-V3.0"
DATA_SET_NAME = "MARS EXPRESS HRSC MAP PROJECTED REFDR V3.0"
DETECTOR_ID = MEX_HRSC_S2
EVENT_TYPE = "MARS-REGIONAL-MAPPING-Im-Gl"
INSTRUMENT_HOST_ID = MEX
INSTRUMENT_HOST_NAME = "MARS EXPRESS"
INSTRUMENT_ID = HRSC
INSTRUMENT_NAME = "HIGH RESOLUTION STEREO CAMERA"
MISSION_NAME = "MARS EXPRESS"
MISSION_PHASE_NAME = ME_Phase_16
PROCESSING_LEVEL_ID = 3
PRODUCT_CREATION_TIME = 2016-06-29T08:07:06.000Z
PRODUCT_ID = "H6773_0000_S23.JP2"
RELEASE_ID = 0075
REVISION_ID = 0000
/* QUALITY DATA ELEMENTS */
DATA_QUALITY_ID = 1
DATA_QUALITY_DESC = "Data calculated based on original SPICE kernels"
/* TIME DATA ELEMENTS */
SPACECRAFT_CLOCK_START_COUNT = "1/0187640925.07292"
SPACECRAFT_CLOCK_STOP_COUNT = "1/0187641209.49986"
START_TIME = 2009-04-12T18:30:21.013Z
STOP_TIME = 2009-04-12T18:33:30.250Z
/* ORBITAL DATA ELEMENTS */
ASCENDING_NODE_LONGITUDE = 88.54
MAXIMUM_RESOLUTION = 43.9
FOOTPRINT_POINT_LATITUDE = (-81.8845,-82.0048,-82.1452,-82.2493, -82.3457,-82.5674,-82.2357,-81.9021, -81.4769,-81.1331,-80.7938,-80.6177, -80.4329,-80.2566,-79.9885,-79.8085, -79.6289,-79.4464,-79.2633,-79.0812, -78.8963,-78.7111,-78.5229,-78.2435, -77.9609,-77.7714,-77.5808,-77.3781, -77.1857,-76.9924,-76.7951,-76.5917, -76.3971,-76.2011,-76.0038,-75.8055, -75.5046,-75.3034,-75.1015,-74.8977, -74.6937,-74.4876,-74.287,-74.075, -73.8682,-73.6579,-73.4495,-73.2349, -73.0566,-73.0349,-72.9887,-72.9509, -72.8968,-72.8566,-72.8002,-72.7602, -72.712,-72.8875,-73.0937,-73.2994, -73.6051,-73.8105,-74.0144,-74.2188, -74.419,-74.6183,-74.8163,-75.013, -75.3064,-75.4999,-75.6905,-75.8793, -76.0742,-76.2649,-76.4551,-76.6428, -76.8288,-77.0159,-77.3002,-77.4889, -77.6773,-77.8593,-78.0403,-78.219, -78.3977,-78.6633,-78.8399,-79.0144, -79.2731,-79.4456,-79.6166,-79.7854, -79.9542,-80.2048,-80.534,-80.9389, -81.2585,-81.493,-81.803,-81.8845)
FOOTPRINT_POINT_LONGITUDE = (55.7607,57.5029,59.7501,61.5998, 63.4979,65.9671,66.8218,67.6069,68.5138 ,69.1792,69.8016,70.0963,70.3789, 70.6536,71.05,71.304,71.5485,71.7879, 72.019,72.2421,72.4606,72.6719,72.8744, 73.1739,73.4575,73.642,73.8194,74.0019, 74.171,74.3346,74.4941,74.6442,74.7982, 74.9475,75.0926,75.2352,75.4407,75.5743 ,75.7045,75.832,75.9558,76.0778,76.1998 ,76.3139,76.4279,76.5396,76.6492, 76.7547,76.4345,75.7851,74.4942,73.6124 ,72.4157,71.6215,70.5946,69.8849, 69.1012,68.4618,68.3169,68.1662,67.9361 ,67.7722,67.6048,67.4301,67.2576, 67.0809,66.9005,66.7156,66.4297,66.2352 ,66.0407,65.8422,65.622,65.4013,65.1756 ,64.9476,64.7148,64.4719,64.0897,63.816 ,63.5284,63.252,62.9695,62.6799,62.3805 ,61.9157,61.591,61.2628,60.7514,60.3935 ,60.0264,59.6505,59.2601,58.6521, 57.7995,56.6512,55.6579,54.8739,53.7579 ,55.7607)
ORBIT_NUMBER = 6773
ORBITAL_ECCENTRICITY = 0.575
ORBITAL_INCLINATION = 86.78
ORBITAL_SEMIMAJOR_AXIS = 8687.43
PERIAPSIS_ALTITUDE = 309.24
PERIAPSIS_ARGUMENT_ANGLE = 249.14
PERIAPSIS_TIME = 2009-04-12T18:22:17.000Z
SPACECRAFT_ORIENTATION = (0.0,-1.0,0.0)
^MEX_ORIENTATION_DESC = "MEX_ORIENTATION_DESC.TXT"
SPACECRAFT_POINTING_MODE = NADIR
^MEX_POINTING_DESC = "MEX_POINTING_DESC.TXT"
RIGHT_ASCENSION = -1e+32
DECLINATION = -1e+32
OFFSET_ANGLE = -1e+32
SPACECRAFT_SOLAR_DISTANCE = 2.06726e+08
TARGET_NAME = MARS
/* CAMERA DATA ELEMENTS */
DETECTOR_TEMPERATURE = 18.7783
FOCAL_PLANE_TEMPERATURE = 8.5833
INST_CMPRS_NAME = "DISCRETE COSINE TRANSFORMATION (DCT)"
INST_CMPRS_RATIO = 8.06573
INST_CMPRS_QUALITY = 0
INST_CMPRS_QUANTZ_TBL_ID = 0
INSTRUMENT_TEMPERATURE = 11.234
LENS_TEMPERATURE = 8.9911
MACROPIXEL_SIZE = 2
MISSING_FRAMES = 2
PIXEL_SUBSAMPLING_FLAG = N
SIGNAL_CHAIN_ID = 1
/* RADIOMETRIC DATA ELEMENTS */
BANDWIDTH = 178.0
CENTER_FILTER_WAVELENGTH = 679.0
RADIANCE_OFFSET = 7.69752
RADIANCE_SCALING_FACTOR = 0.0305274
REFLECTANCE_SCALING_FACTOR = 0.000690889
MEX:REFLECTANCE_OFFSET = 0.174208
/* IMAGE OBJECT DEFINITIONS */
OBJECT = IMAGE
  INTERCHANGE_FORMAT = BINARY
  LINES = 11670
  LINE_SAMPLES = 5121
  SAMPLE_TYPE = UNSIGNED_INTEGER
  SAMPLE_BITS = 8
  BANDS = 1
  BAND_STORAGE_TYPE = BAND_SEQUENTIAL
  MAXIMUM = 255
  MEAN = 153.301
  MINIMUM = 1
  STANDARD_DEVIATION = 74.4426
END_OBJECT = IMAGE
/* MAP OBJECT DEFINITIONS */
OBJECT = IMAGE_MAP_PROJECTION
  ^DATA_SET_MAP_PROJECTION_CATALOG= "DSMAP.CAT"
  A_AXIS_RADIUS = 3396.0
  B_AXIS_RADIUS = 3396.0
  C_AXIS_RADIUS = 3396.0
  CENTER_LATITUDE = 0.0
  CENTER_LONGITUDE = 68.0
  COORDINATE_SYSTEM_NAME = PLANETOGRAPHIC
  COORDINATE_SYSTEM_TYPE = "BODY-FIXED ROTATING"
  EASTERNMOST_LONGITUDE = 76.7547
  FIRST_STANDARD_PARALLEL = "N/A"
  LINE_FIRST_PIXEL = 1
  LINE_LAST_PIXEL = 11670
  LINE_PROJECTION_OFFSET = -86185.25
  MAP_PROJECTION_ROTATION = 0.0
  MAP_PROJECTION_TYPE = SINUSOIDAL
  MAP_RESOLUTION = 1185.42760773333
  MAP_SCALE = 0.05
  MAXIMUM_LATITUDE = -72.712
  MINIMUM_LATITUDE = -82.56740000000001
  POSITIVE_LONGITUDE_DIRECTION = EAST
  REFERENCE_LATITUDE = "N/A"
  REFERENCE_LONGITUDE = "N/A"
  SAMPLE_FIRST_PIXEL = 1
  SAMPLE_LAST_PIXEL = 5121
  SAMPLE_PROJECTION_OFFSET = 2305.75
  SECOND_STANDARD_PARALLEL = "N/A"
  WESTERNMOST_LONGITUDE = 53.7579
END_OBJECT = IMAGE_MAP_PROJECTION
/* The JPEG2000 image data file associated with this label. */
OBJECT = COMPRESSED_FILE
  FILE_NAME = "H6773_0000_S23.JP2"
  RECORD_TYPE = UNDEFINED
  FILE_RECORDS = UNK
  ENCODING_TYPE = "JP2"
  INTERCHANGE_FORMAT = BINARY
  UNCOMPRESSED_FILE_NAME = "H6773_0000_S23.IMG"
  REQUIRED_STORAGE_BYTES = "59787675"
  ^DESCRIPTION = "JP2INFO.TXT"
END_OBJECT = COMPRESSED_FILE
END
