PDS_VERSION_ID = PDS3
/* FILE DATA ELEMENTS */
RECORD_TYPE = STREAM
/* POINTERS TO DATA OBJECTS */
^COMPRESSED_FILE = "H6775_0000_P23.JP2"
/* IDENTIFICATION DATA ELEMENTS */
DATA_SET_ID = "MEX-M-HRSC-5-REFDR-MAPPROJECTED-V3.0"
DATA_SET_NAME = "MARS EXPRESS HRSC MAP PROJECTED REFDR V3.0"
DETECTOR_ID = MEX_HRSC_P2
EVENT_TYPE = "MARS-REGIONAL-MAPPING-Im-Gl"
INSTRUMENT_HOST_ID = MEX
INSTRUMENT_HOST_NAME = "MARS EXPRESS"
INSTRUMENT_ID = HRSC
INSTRUMENT_NAME = "HIGH RESOLUTION STEREO CAMERA"
MISSION_NAME = "MARS EXPRESS"
MISSION_PHASE_NAME = ME_Phase_16
PROCESSING_LEVEL_ID = 3
PRODUCT_CREATION_TIME = 2016-06-29T08:07:06.000Z
PRODUCT_ID = "H6775_0000_P23.JP2"
RELEASE_ID = 0075
REVISION_ID = 0000
/* QUALITY DATA ELEMENTS */
DATA_QUALITY_ID = 1
DATA_QUALITY_DESC = "Data calculated based on original SPICE kernels"
/* TIME DATA ELEMENTS */
SPACECRAFT_CLOCK_START_COUNT = "1/0187690602.09061"
SPACECRAFT_CLOCK_STOP_COUNT = "1/0187690916.04712"
START_TIME = 2009-04-13T08:18:06.230Z
STOP_TIME = 2009-04-13T08:21:24.262Z
/* ORBITAL DATA ELEMENTS */
ASCENDING_NODE_LONGITUDE = 88.5
MAXIMUM_RESOLUTION = 44.2
FOOTPRINT_POINT_LATITUDE = (-79.7789,-79.9016,-79.986,-80.0925, -80.1697,-80.2452,-80.209,-79.8468, -79.4804,-79.1114,-78.9244,-78.735, -78.5469,-78.3582,-78.1673,-77.9767, -77.7856,-77.4958,-77.3017,-77.106, -76.9097,-76.6137,-76.4139,-76.2144, -76.0122,-75.7099,-75.5059,-75.3019, -75.0962,-74.8892,-74.5776,-74.3685, -74.1628,-73.9499,-73.7384,-73.5203, -73.3069,-73.0899,-72.8739,-72.6556, -72.4376,-72.217,-71.9967,-71.7735, -71.4381,-71.2132,-70.9863,-70.6447, -70.4152,-70.1844,-70.1472,-70.1281, -70.108,-70.0775,-70.0302,-70.0025, -69.9529,-69.9044,-69.8518,-70.0643, -70.2896,-70.5173,-70.7434,-70.9685, -71.1894,-71.5109,-71.7298,-71.9463, -72.2689,-72.4838,-72.696,-72.9084, -73.117,-73.3283,-73.5381,-73.8468, -74.0519,-74.2577,-74.461,-74.6646, -74.8659,-75.0657,-75.2654,-75.4626, -75.7575,-75.9517,-76.1459,-76.435, -76.6271,-76.8176,-77.0061,-77.288, -77.4733,-77.659,-77.8432,-78.2077, -78.4782,-78.9249,-79.276,-79.7789)
FOOTPRINT_POINT_LONGITUDE = (218.785,220.56,221.892,223.734,225.213 ,226.817,228.845,229.373,229.867, 230.336,230.556,230.769,230.98,231.182, 231.379,231.573,231.759,232.031,232.205 ,232.375,232.541,232.781,232.936, 233.086,233.233,233.447,233.586,233.721 ,233.852,233.981,234.167,234.289, 234.412,234.527,234.64,234.747,234.855, 234.961,235.065,235.167,235.267,235.364 ,235.46,235.554,235.69,235.779,235.866, 235.993,236.076,236.157,235.212,234.628 ,234.046,233.249,232.164,231.588, 230.656,229.798,228.943,228.595,228.484 ,228.364,228.241,228.115,227.994, 227.822,227.691,227.56,227.356,227.215, 227.072,226.924,226.778,226.62,226.457, 226.219,226.051,225.877,225.698,225.514 ,225.328,225.139,224.943,224.744, 224.437,224.226,224.008,223.67,223.435, 223.195,222.951,222.571,222.311,222.041 ,221.764,221.188,220.733,219.927,219.24 ,218.785)
ORBIT_NUMBER = 6775
ORBITAL_ECCENTRICITY = 0.576
ORBITAL_INCLINATION = 86.78
ORBITAL_SEMIMAJOR_AXIS = 8690.47
PERIAPSIS_ALTITUDE = 309.33
PERIAPSIS_ARGUMENT_ANGLE = 248.79
PERIAPSIS_TIME = 2009-04-13T08:09:34.000Z
SPACECRAFT_ORIENTATION = (0.0,-1.0,0.0)
^MEX_ORIENTATION_DESC = "MEX_ORIENTATION_DESC.TXT"
SPACECRAFT_POINTING_MODE = NADIR
^MEX_POINTING_DESC = "MEX_POINTING_DESC.TXT"
RIGHT_ASCENSION = -1e+32
DECLINATION = -1e+32
OFFSET_ANGLE = -1e+32
SPACECRAFT_SOLAR_DISTANCE = 2.06715e+08
TARGET_NAME = MARS
/* CAMERA DATA ELEMENTS */
DETECTOR_TEMPERATURE = 18.7783
FOCAL_PLANE_TEMPERATURE = 8.5833
INST_CMPRS_NAME = "DISCRETE COSINE TRANSFORMATION (DCT)"
INST_CMPRS_RATIO = 12.7647
INST_CMPRS_QUALITY = 0
INST_CMPRS_QUANTZ_TBL_ID = 0
INSTRUMENT_TEMPERATURE = 11.234
LENS_TEMPERATURE = 8.9911
MACROPIXEL_SIZE = 2
MISSING_FRAMES = 0
PIXEL_SUBSAMPLING_FLAG = N
SIGNAL_CHAIN_ID = 3
/* RADIOMETRIC DATA ELEMENTS */
BANDWIDTH = 177.0
CENTER_FILTER_WAVELENGTH = 676.5
RADIANCE_OFFSET = 7.14208
RADIANCE_SCALING_FACTOR = 0.0196709
REFLECTANCE_SCALING_FACTOR = 0.000445682
MEX:REFLECTANCE_OFFSET = 0.161818
/* IMAGE OBJECT DEFINITIONS */
OBJECT = IMAGE
  INTERCHANGE_FORMAT = BINARY
  LINES = 12483
  LINE_SAMPLES = 4897
  SAMPLE_TYPE = UNSIGNED_INTEGER
  SAMPLE_BITS = 8
  BANDS = 1
  BAND_STORAGE_TYPE = BAND_SEQUENTIAL
  MAXIMUM = 255
  MEAN = 156.923
  MINIMUM = 1
  STANDARD_DEVIATION = 100.119
END_OBJECT = IMAGE
/* MAP OBJECT DEFINITIONS */
OBJECT = IMAGE_MAP_PROJECTION
  ^DATA_SET_MAP_PROJECTION_CATALOG= "DSMAP.CAT"
  A_AXIS_RADIUS = 3396.0
  B_AXIS_RADIUS = 3396.0
  C_AXIS_RADIUS = 3396.0
  CENTER_LATITUDE = 0.0
  CENTER_LONGITUDE = 229.0
  COORDINATE_SYSTEM_NAME = PLANETOGRAPHIC
  COORDINATE_SYSTEM_TYPE = "BODY-FIXED ROTATING"
  EASTERNMOST_LONGITUDE = 236.157
  FIRST_STANDARD_PARALLEL = "N/A"
  LINE_FIRST_PIXEL = 1
  LINE_LAST_PIXEL = 12483
  LINE_PROJECTION_OFFSET = -82813.75
  MAP_PROJECTION_ROTATION = 0.0
  MAP_PROJECTION_TYPE = SINUSOIDAL
  MAP_RESOLUTION = 1185.42760773333
  MAP_SCALE = 0.05
  MAXIMUM_LATITUDE = -69.8518
  MINIMUM_LATITUDE = -80.2452
  POSITIVE_LONGITUDE_DIRECTION = EAST
  REFERENCE_LATITUDE = "N/A"
  REFERENCE_LONGITUDE = "N/A"
  SAMPLE_FIRST_PIXEL = 1
  SAMPLE_LAST_PIXEL = 4897
  SAMPLE_PROJECTION_OFFSET = 2195.25
  SECOND_STANDARD_PARALLEL = "N/A"
  WESTERNMOST_LONGITUDE = 218.785
END_OBJECT = IMAGE_MAP_PROJECTION
/* The JPEG2000 image data file associated with this label. */
OBJECT = COMPRESSED_FILE
  FILE_NAME = "H6775_0000_P23.JP2"
  RECORD_TYPE = UNDEFINED
  FILE_RECORDS = UNK
  ENCODING_TYPE = "JP2"
  INTERCHANGE_FORMAT = BINARY
  UNCOMPRESSED_FILE_NAME = "H6775_0000_P23.IMG"
  REQUIRED_STORAGE_BYTES = "61153736"
  ^DESCRIPTION = "JP2INFO.TXT"
END_OBJECT = COMPRESSED_FILE
END
