PDS_VERSION_ID = PDS3
/* FILE DATA ELEMENTS */
RECORD_TYPE = STREAM
/* POINTERS TO DATA OBJECTS */
^COMPRESSED_FILE = "H6785_0000_IR3.JP2"
/* IDENTIFICATION DATA ELEMENTS */
DATA_SET_ID = "MEX-M-HRSC-5-REFDR-MAPPROJECTED-V3.0"
DATA_SET_NAME = "MARS EXPRESS HRSC MAP PROJECTED REFDR V3.0"
DETECTOR_ID = MEX_HRSC_IR
EVENT_TYPE = "MARS-REGIONAL-MAPPING-Gl-La"
INSTRUMENT_HOST_ID = MEX
INSTRUMENT_HOST_NAME = "MARS EXPRESS"
INSTRUMENT_ID = HRSC
INSTRUMENT_NAME = "HIGH RESOLUTION STEREO CAMERA"
MISSION_NAME = "MARS EXPRESS"
MISSION_PHASE_NAME = ME_Phase_16
PROCESSING_LEVEL_ID = 3
PRODUCT_CREATION_TIME = 2016-06-29T08:07:06.000Z
PRODUCT_ID = "H6785_0000_IR3.JP2"
RELEASE_ID = 0075
REVISION_ID = 0000
/* QUALITY DATA ELEMENTS */
DATA_QUALITY_ID = 1
DATA_QUALITY_DESC = "Data calculated based on original SPICE kernels"
/* TIME DATA ELEMENTS */
SPACECRAFT_CLOCK_START_COUNT = "1/0187938778.09056"
SPACECRAFT_CLOCK_STOP_COUNT = "1/0187939087.31327"
START_TIME = 2009-04-16T05:13:07.733Z
STOP_TIME = 2009-04-16T05:15:58.902Z
/* ORBITAL DATA ELEMENTS */
ASCENDING_NODE_LONGITUDE = 88.3
MAXIMUM_RESOLUTION = 75.2
FOOTPRINT_POINT_LATITUDE = (-83.6453,-83.7768,-83.9771,-84.1414, -84.2592,-84.3968,-84.4092,-84.0664, -83.7125,-83.3539,-83.173,-82.9859, -82.8013,-82.6151,-82.3341,-82.0469, -81.8556,-81.6626,-81.4641,-81.268, -81.0701,-80.8733,-80.6721,-80.4692, -80.2677,-80.0648,-79.8591,-79.6541, -79.4458,-79.2363,-79.0267,-78.8137, -78.6022,-78.3882,-78.1733,-77.957, -77.7382,-77.4075,-77.1866,-76.9625, -76.7381,-76.5142,-76.2863,-75.9456, -75.715,-75.4822,-75.2505,-74.8975, -74.662,-74.424,-74.1844,-73.9508, -73.8961,-73.8165,-73.7223,-73.6545, -73.5614,-73.7966,-74.0321,-74.3809, -74.6124,-74.8429,-75.1837,-75.4108, -75.6345,-75.8582,-76.0818,-76.2992, -76.5158,-76.7373,-76.9497,-77.1676, -77.3822,-77.591,-77.8,-78.1134, -78.3165,-78.6176,-78.8219,-79.0218, -79.222,-79.4209,-79.6146,-79.8083, -80.0042,-80.1977,-80.3837,-80.5722, -80.7592,-81.0385,-81.3096,-81.489, -81.6676,-81.8435,-82.1018,-82.2734, -82.5303,-82.8582,-83.2582,-83.6453)
FOOTPRINT_POINT_LONGITUDE = (275.174,276.697,279.267,281.659,283.57 ,286.074,288.183,289.837,291.333, 292.672,293.291,293.9,294.456,294.99, 295.745,296.455,296.897,297.325,297.752 ,298.141,298.519,298.874,299.226, 299.564,299.88,300.189,300.487,300.767, 301.048,301.318,301.572,301.826,302.066 ,302.297,302.521,302.74,302.954,303.261 ,303.459,303.65,303.835,304.013,304.188 ,304.436,304.598,304.758,304.91,305.132 ,305.274,305.413,305.549,305.677, 304.231,302.522,300.83,299.759,298.408, 298.222,298.029,297.732,297.526,297.314 ,296.987,296.759,296.528,296.288, 296.041,295.788,295.526,295.257,294.981 ,294.696,294.4,294.099,293.786,293.297, 292.96,292.432,292.064,291.688,291.296, 290.89,290.473,290.041,289.591,289.123, 288.647,288.149,287.631,286.815,285.96, 285.359,284.73,284.084,283.066,282.347, 281.207,279.592,277.354,275.174)
ORBIT_NUMBER = 6785
ORBITAL_ECCENTRICITY = 0.576
ORBITAL_INCLINATION = 86.77
ORBITAL_SEMIMAJOR_AXIS = 8692.49
PERIAPSIS_ALTITUDE = 310.43
PERIAPSIS_ARGUMENT_ANGLE = 247.09
PERIAPSIS_TIME = 2009-04-16T05:06:29.000Z
SPACECRAFT_ORIENTATION = (0.0,-1.0,0.0)
^MEX_ORIENTATION_DESC = "MEX_ORIENTATION_DESC.TXT"
SPACECRAFT_POINTING_MODE = NADIR
^MEX_POINTING_DESC = "MEX_POINTING_DESC.TXT"
RIGHT_ASCENSION = -1e+32
DECLINATION = -1e+32
OFFSET_ANGLE = -1e+32
SPACECRAFT_SOLAR_DISTANCE = 2.06674e+08
TARGET_NAME = MARS
/* CAMERA DATA ELEMENTS */
DETECTOR_TEMPERATURE = 17.1471
FOCAL_PLANE_TEMPERATURE = 7.9716
INST_CMPRS_NAME = "DISCRETE COSINE TRANSFORMATION (DCT)"
INST_CMPRS_RATIO = 43.9691
INST_CMPRS_QUALITY = 0
INST_CMPRS_QUANTZ_TBL_ID = 0
INSTRUMENT_TEMPERATURE = 10.8262
LENS_TEMPERATURE = 8.3794
MACROPIXEL_SIZE = 4
MISSING_FRAMES = 0
PIXEL_SUBSAMPLING_FLAG = N
SIGNAL_CHAIN_ID = 2
/* RADIOMETRIC DATA ELEMENTS */
BANDWIDTH = 81.0
CENTER_FILTER_WAVELENGTH = 955.5
RADIANCE_OFFSET = 1.99042
RADIANCE_SCALING_FACTOR = 0.00677058
REFLECTANCE_SCALING_FACTOR = 0.000623918
MEX:REFLECTANCE_OFFSET = 0.18342
/* IMAGE OBJECT DEFINITIONS */
OBJECT = IMAGE
  INTERCHANGE_FORMAT = BINARY
  LINES = 6436
  LINE_SAMPLES = 3023
  SAMPLE_TYPE = UNSIGNED_INTEGER
  SAMPLE_BITS = 8
  BANDS = 1
  BAND_STORAGE_TYPE = BAND_SEQUENTIAL
  MAXIMUM = 255
  MEAN = 254.239
  MINIMUM = 6
  STANDARD_DEVIATION = 9.71468
END_OBJECT = IMAGE
/* MAP OBJECT DEFINITIONS */
OBJECT = IMAGE_MAP_PROJECTION
  ^DATA_SET_MAP_PROJECTION_CATALOG= "DSMAP.CAT"
  A_AXIS_RADIUS = 3396.0
  B_AXIS_RADIUS = 3396.0
  C_AXIS_RADIUS = 3396.0
  CENTER_LATITUDE = 0.0
  CENTER_LONGITUDE = 296.0
  COORDINATE_SYSTEM_NAME = PLANETOGRAPHIC
  COORDINATE_SYSTEM_TYPE = "BODY-FIXED ROTATING"
  EASTERNMOST_LONGITUDE = 305.677
  FIRST_STANDARD_PARALLEL = "N/A"
  LINE_FIRST_PIXEL = 1
  LINE_LAST_PIXEL = 6436
  LINE_PROJECTION_OFFSET = -43587.375
  MAP_PROJECTION_ROTATION = 0.0
  MAP_PROJECTION_TYPE = SINUSOIDAL
  MAP_RESOLUTION = 592.713803866667
  MAP_SCALE = 0.1
  MAXIMUM_LATITUDE = -73.56140000000001
  MINIMUM_LATITUDE = -84.4092
  POSITIVE_LONGITUDE_DIRECTION = EAST
  REFERENCE_LATITUDE = "N/A"
  REFERENCE_LONGITUDE = "N/A"
  SAMPLE_FIRST_PIXEL = 1
  SAMPLE_LAST_PIXEL = 3023
  SAMPLE_PROJECTION_OFFSET = 1393.625
  SECOND_STANDARD_PARALLEL = "N/A"
  WESTERNMOST_LONGITUDE = 275.174
END_OBJECT = IMAGE_MAP_PROJECTION
/* The JPEG2000 image data file associated with this label. */
OBJECT = COMPRESSED_FILE
  FILE_NAME = "H6785_0000_IR3.JP2"
  RECORD_TYPE = UNDEFINED
  FILE_RECORDS = UNK
  ENCODING_TYPE = "JP2"
  INTERCHANGE_FORMAT = BINARY
  UNCOMPRESSED_FILE_NAME = "H6785_0000_IR3.IMG"
  REQUIRED_STORAGE_BYTES = "19480212"
  ^DESCRIPTION = "JP2INFO.TXT"
END_OBJECT = COMPRESSED_FILE
END
