PDS_VERSION_ID = PDS3
/* FILE DATA ELEMENTS */
RECORD_TYPE = STREAM
/* POINTERS TO DATA OBJECTS */
^COMPRESSED_FILE = "H6785_0000_RE3.JP2"
/* IDENTIFICATION DATA ELEMENTS */
DATA_SET_ID = "MEX-M-HRSC-5-REFDR-MAPPROJECTED-V3.0"
DATA_SET_NAME = "MARS EXPRESS HRSC MAP PROJECTED REFDR V3.0"
DETECTOR_ID = MEX_HRSC_RED
EVENT_TYPE = "MARS-REGIONAL-MAPPING-Gl-La"
INSTRUMENT_HOST_ID = MEX
INSTRUMENT_HOST_NAME = "MARS EXPRESS"
INSTRUMENT_ID = HRSC
INSTRUMENT_NAME = "HIGH RESOLUTION STEREO CAMERA"
MISSION_NAME = "MARS EXPRESS"
MISSION_PHASE_NAME = ME_Phase_16
PROCESSING_LEVEL_ID = 3
PRODUCT_CREATION_TIME = 2016-06-29T08:07:06.000Z
PRODUCT_ID = "H6785_0000_RE3.JP2"
RELEASE_ID = 0075
REVISION_ID = 0000
/* QUALITY DATA ELEMENTS */
DATA_QUALITY_ID = 1
DATA_QUALITY_DESC = "Data calculated based on original SPICE kernels"
/* TIME DATA ELEMENTS */
SPACECRAFT_CLOCK_START_COUNT = "1/0187938778.09056"
SPACECRAFT_CLOCK_STOP_COUNT = "1/0187939087.31327"
START_TIME = 2009-04-16T05:14:25.292Z
STOP_TIME = 2009-04-16T05:17:52.463Z
/* ORBITAL DATA ELEMENTS */
ASCENDING_NODE_LONGITUDE = 88.3
MAXIMUM_RESOLUTION = 85.2
FOOTPRINT_POINT_LATITUDE = (-83.5756,-83.7766,-83.9724,-84.1816, -84.3262,-83.9769,-83.7988,-83.6204, -83.4405,-83.2573,-83.0763,-82.8911, -82.7024,-82.5147,-82.2283,-82.0359, -81.8467,-81.6513,-81.4568,-81.2581, -80.961,-80.7594,-80.5588,-80.3523, -80.1557,-79.9502,-79.7436,-79.5355, -79.3227,-79.1147,-78.9028,-78.5842, -78.3669,-78.1526,-77.9361,-77.6105, -77.3909,-77.1722,-76.9495,-76.7269, -76.5021,-76.2769,-76.0493,-75.8219, -75.5913,-75.2453,-75.0129,-74.7788, -74.5441,-74.3066,-74.0694,-73.9015, -73.8527,-73.801,-73.7626,-73.6909, -73.587,-73.5128,-73.7467,-73.9789, -74.3244,-74.5531,-74.7799,-75.0062, -75.2299,-75.5637,-75.784,-76.1147, -76.4402,-76.6554,-76.9752,-77.2907, -77.503,-77.7099,-77.9182,-78.1258, -78.3313,-78.5383,-78.837,-79.1347, -79.3328,-79.6265,-79.9142,-80.1069, -80.2937,-80.4836,-80.6685,-80.8541, -81.035,-81.3061,-81.4854,-81.7505, -82.0113,-82.2668,-82.4351,-82.6021, -82.7653,-83.0858,-83.3207,-83.5756)
FOOTPRINT_POINT_LONGITUDE = (277.269,279.913,282.854,286.539, 289.833,291.405,292.132,292.817,293.466 ,294.088,294.676,295.233,295.77,296.279 ,296.998,297.453,297.888,298.303, 298.704,299.083,299.63,299.973,300.305, 300.623,300.933,301.231,301.516,301.789 ,302.053,302.309,302.558,302.913,303.14 ,303.36,303.575,303.882,304.082,304.274 ,304.461,304.641,304.817,304.986, 305.152,305.313,305.469,305.697,305.843 ,305.986,306.124,306.26,306.391,305.39, 304.071,302.843,302.028,300.651,298.885 ,297.745,297.56,297.371,297.077,296.875 ,296.667,296.452,296.234,295.892, 295.659,295.285,294.901,294.637,294.225 ,293.798,293.491,293.186,292.863, 292.526,292.18,291.813,291.273,290.698, 290.291,289.659,289.006,288.536,288.072 ,287.568,287.061,286.521,285.986, 285.114,284.504,283.542,282.523,281.448 ,280.689,279.896,279.076,277.329, 275.904,277.269)
ORBIT_NUMBER = 6785
ORBITAL_ECCENTRICITY = 0.576
ORBITAL_INCLINATION = 86.77
ORBITAL_SEMIMAJOR_AXIS = 8692.49
PERIAPSIS_ALTITUDE = 310.43
PERIAPSIS_ARGUMENT_ANGLE = 247.09
PERIAPSIS_TIME = 2009-04-16T05:06:29.000Z
SPACECRAFT_ORIENTATION = (0.0,-1.0,0.0)
^MEX_ORIENTATION_DESC = "MEX_ORIENTATION_DESC.TXT"
SPACECRAFT_POINTING_MODE = NADIR
^MEX_POINTING_DESC = "MEX_POINTING_DESC.TXT"
RIGHT_ASCENSION = -1e+32
DECLINATION = -1e+32
OFFSET_ANGLE = -1e+32
SPACECRAFT_SOLAR_DISTANCE = 2.06674e+08
TARGET_NAME = MARS
/* CAMERA DATA ELEMENTS */
DETECTOR_TEMPERATURE = 18.3705
FOCAL_PLANE_TEMPERATURE = 7.9716
INST_CMPRS_NAME = "DISCRETE COSINE TRANSFORMATION (DCT)"
INST_CMPRS_RATIO = 23.3513
INST_CMPRS_QUALITY = 0
INST_CMPRS_QUANTZ_TBL_ID = 0
INSTRUMENT_TEMPERATURE = 10.8262
LENS_TEMPERATURE = 8.3794
MACROPIXEL_SIZE = 4
MISSING_FRAMES = 0
PIXEL_SUBSAMPLING_FLAG = N
SIGNAL_CHAIN_ID = 2
/* RADIOMETRIC DATA ELEMENTS */
BANDWIDTH = 48.0
CENTER_FILTER_WAVELENGTH = 748.0
RADIANCE_OFFSET = 1.82357
RADIANCE_SCALING_FACTOR = 0.0102564
REFLECTANCE_SCALING_FACTOR = 0.000999756
MEX:REFLECTANCE_OFFSET = 0.177755
/* IMAGE OBJECT DEFINITIONS */
OBJECT = IMAGE
  INTERCHANGE_FORMAT = BINARY
  LINES = 6436
  LINE_SAMPLES = 3023
  SAMPLE_TYPE = UNSIGNED_INTEGER
  SAMPLE_BITS = 8
  BANDS = 1
  BAND_STORAGE_TYPE = BAND_SEQUENTIAL
  MAXIMUM = 255
  MEAN = 248.94
  MINIMUM = 1
  STANDARD_DEVIATION = 20.1836
END_OBJECT = IMAGE
/* MAP OBJECT DEFINITIONS */
OBJECT = IMAGE_MAP_PROJECTION
  ^DATA_SET_MAP_PROJECTION_CATALOG= "DSMAP.CAT"
  A_AXIS_RADIUS = 3396.0
  B_AXIS_RADIUS = 3396.0
  C_AXIS_RADIUS = 3396.0
  CENTER_LATITUDE = 0.0
  CENTER_LONGITUDE = 296.0
  COORDINATE_SYSTEM_NAME = PLANETOGRAPHIC
  COORDINATE_SYSTEM_TYPE = "BODY-FIXED ROTATING"
  EASTERNMOST_LONGITUDE = 306.391
  FIRST_STANDARD_PARALLEL = "N/A"
  LINE_FIRST_PIXEL = 1
  LINE_LAST_PIXEL = 6436
  LINE_PROJECTION_OFFSET = -43587.375
  MAP_PROJECTION_ROTATION = 0.0
  MAP_PROJECTION_TYPE = SINUSOIDAL
  MAP_RESOLUTION = 592.713803866667
  MAP_SCALE = 0.1
  MAXIMUM_LATITUDE = -73.5128
  MINIMUM_LATITUDE = -84.3262
  POSITIVE_LONGITUDE_DIRECTION = EAST
  REFERENCE_LATITUDE = "N/A"
  REFERENCE_LONGITUDE = "N/A"
  SAMPLE_FIRST_PIXEL = 1
  SAMPLE_LAST_PIXEL = 3023
  SAMPLE_PROJECTION_OFFSET = 1393.625
  SECOND_STANDARD_PARALLEL = "N/A"
  WESTERNMOST_LONGITUDE = 275.904
END_OBJECT = IMAGE_MAP_PROJECTION
/* The JPEG2000 image data file associated with this label. */
OBJECT = COMPRESSED_FILE
  FILE_NAME = "H6785_0000_RE3.JP2"
  RECORD_TYPE = UNDEFINED
  FILE_RECORDS = UNK
  ENCODING_TYPE = "JP2"
  INTERCHANGE_FORMAT = BINARY
  UNCOMPRESSED_FILE_NAME = "H6785_0000_RE3.IMG"
  REQUIRED_STORAGE_BYTES = "19480212"
  ^DESCRIPTION = "JP2INFO.TXT"
END_OBJECT = COMPRESSED_FILE
END
