PDS_VERSION_ID = PDS3
/* FILE DATA ELEMENTS */
RECORD_TYPE = STREAM
/* POINTERS TO DATA OBJECTS */
^COMPRESSED_FILE = "H6792_0000_IR3.JP2"
/* IDENTIFICATION DATA ELEMENTS */
DATA_SET_ID = "MEX-M-HRSC-5-REFDR-MAPPROJECTED-V3.0"
DATA_SET_NAME = "MARS EXPRESS HRSC MAP PROJECTED REFDR V3.0"
DETECTOR_ID = MEX_HRSC_IR
EVENT_TYPE = "MARS-REGIONAL-MAPPING-Im-Gl-La"
INSTRUMENT_HOST_ID = MEX
INSTRUMENT_HOST_NAME = "MARS EXPRESS"
INSTRUMENT_ID = HRSC
INSTRUMENT_NAME = "HIGH RESOLUTION STEREO CAMERA"
MISSION_NAME = "MARS EXPRESS"
MISSION_PHASE_NAME = ME_Phase_17
PROCESSING_LEVEL_ID = 3
PRODUCT_CREATION_TIME = 2016-06-29T08:07:06.000Z
PRODUCT_ID = "H6792_0000_IR3.JP2"
RELEASE_ID = 0075
REVISION_ID = 0000
/* QUALITY DATA ELEMENTS */
DATA_QUALITY_ID = 1
DATA_QUALITY_DESC = "Data calculated based on original SPICE kernels"
/* TIME DATA ELEMENTS */
SPACECRAFT_CLOCK_START_COUNT = "1/0188112586.09078"
SPACECRAFT_CLOCK_STOP_COUNT = "1/0188112932.31455"
START_TIME = 2009-04-18T05:29:56.301Z
STOP_TIME = 2009-04-18T05:33:00.026Z
/* ORBITAL DATA ELEMENTS */
ASCENDING_NODE_LONGITUDE = 88.17
MAXIMUM_RESOLUTION = 82.6
FOOTPRINT_POINT_LATITUDE = (-81.5498,-81.7119,-81.8418,-81.933, -82.0372,-82.0164,-81.6325,-81.2458, -80.9503,-80.7524,-80.5542,-80.2525, -80.05,-79.7459,-79.5391,-79.3323, -79.0217,-78.8103,-78.5991,-78.3879, -78.1737,-77.9586,-77.7431,-77.5254, -77.3063,-77.0875,-76.8656,-76.6424, -76.4197,-76.1935,-75.9674,-75.7407, -75.511,-75.2822,-75.0515,-74.8145, -74.5811,-74.2267,-73.9883,-73.627, -73.3859,-73.0202,-72.6518,-72.4048, -72.031,-71.7805,-71.4001,-71.1466, -70.823,-70.7873,-70.7622,-70.7148, -70.65,-70.5733,-70.5313,-70.6049, -70.8587,-71.1088,-71.359,-71.6065, -71.854,-72.0979,-72.4631,-72.7036, -73.0642,-73.3,-73.5367,-73.7696, -74.0029,-74.349,-74.5782,-74.9185, -75.144,-75.3687,-75.59,-75.8112, -76.0309,-76.2482,-76.4653,-76.6804, -77.0,-77.2128,-77.4225,-77.6316, -77.9434,-78.1479,-78.3524,-78.555, -78.854,-79.0527,-79.3493,-79.5412, -79.8319,-80.1157,-80.3039,-80.4917, -80.6773,-81.0424,-81.3126,-81.5498)
FOOTPRINT_POINT_LONGITUDE = (301.15,303.462,305.559,307.199,309.304 ,310.923,311.775,312.553,313.099, 313.445,313.776,314.253,314.555,314.986 ,315.264,315.531,315.911,316.159, 316.396,316.623,316.845,317.06,317.267, 317.469,317.665,317.852,318.037,318.216 ,318.388,318.557,318.72,318.877,319.031 ,319.178,319.322,319.471,319.608, 319.807,319.938,320.128,320.249,320.425 ,320.595,320.703,320.863,320.965, 321.115,321.211,321.005,319.96,319.31, 318.343,317.121,315.843,315.208,314.36, 314.224,314.084,313.94,313.793,313.642, 313.488,313.248,313.084,312.829,312.653 ,312.472,312.287,312.097,311.802, 311.599,311.284,311.066,310.842,310.613 ,310.376,310.133,309.883,309.625,309.36 ,308.948,308.662,308.37,308.067,307.594 ,307.268,306.93,306.58,306.039,305.66, 305.07,304.661,304.017,303.344,302.874, 302.384,301.879,300.814,299.957,301.15)
ORBIT_NUMBER = 6792
ORBITAL_ECCENTRICITY = 0.576
ORBITAL_INCLINATION = 86.77
ORBITAL_SEMIMAJOR_AXIS = 8693.0
PERIAPSIS_ALTITUDE = 310.49
PERIAPSIS_ARGUMENT_ANGLE = 245.9
PERIAPSIS_TIME = 2009-04-18T05:22:19.000Z
SPACECRAFT_ORIENTATION = (0.0,-1.0,0.0)
^MEX_ORIENTATION_DESC = "MEX_ORIENTATION_DESC.TXT"
SPACECRAFT_POINTING_MODE = NADIR
^MEX_POINTING_DESC = "MEX_POINTING_DESC.TXT"
RIGHT_ASCENSION = -1e+32
DECLINATION = -1e+32
OFFSET_ANGLE = -1e+32
SPACECRAFT_SOLAR_DISTANCE = 2.06656e+08
TARGET_NAME = MARS
/* CAMERA DATA ELEMENTS */
DETECTOR_TEMPERATURE = 17.5549
FOCAL_PLANE_TEMPERATURE = 8.5833
INST_CMPRS_NAME = "DISCRETE COSINE TRANSFORMATION (DCT)"
INST_CMPRS_RATIO = 11.2344
INST_CMPRS_QUALITY = 0
INST_CMPRS_QUANTZ_TBL_ID = 0
INSTRUMENT_TEMPERATURE = 11.234
LENS_TEMPERATURE = 8.7872
MACROPIXEL_SIZE = 4
MISSING_FRAMES = 0
PIXEL_SUBSAMPLING_FLAG = N
SIGNAL_CHAIN_ID = 2
/* RADIOMETRIC DATA ELEMENTS */
BANDWIDTH = 81.0
CENTER_FILTER_WAVELENGTH = 955.5
RADIANCE_OFFSET = 2.04957
RADIANCE_SCALING_FACTOR = 0.0111632
REFLECTANCE_SCALING_FACTOR = 0.00102852
MEX:REFLECTANCE_OFFSET = 0.188836
/* IMAGE OBJECT DEFINITIONS */
OBJECT = IMAGE
  INTERCHANGE_FORMAT = BINARY
  LINES = 6844
  LINE_SAMPLES = 2744
  SAMPLE_TYPE = UNSIGNED_INTEGER
  SAMPLE_BITS = 8
  BANDS = 1
  BAND_STORAGE_TYPE = BAND_SEQUENTIAL
  MAXIMUM = 255
  MEAN = 209.247
  MINIMUM = 1
  STANDARD_DEVIATION = 58.3083
END_OBJECT = IMAGE
/* MAP OBJECT DEFINITIONS */
OBJECT = IMAGE_MAP_PROJECTION
  ^DATA_SET_MAP_PROJECTION_CATALOG= "DSMAP.CAT"
  A_AXIS_RADIUS = 3396.0
  B_AXIS_RADIUS = 3396.0
  C_AXIS_RADIUS = 3396.0
  CENTER_LATITUDE = 0.0
  CENTER_LONGITUDE = 314.0
  COORDINATE_SYSTEM_NAME = PLANETOGRAPHIC
  COORDINATE_SYSTEM_TYPE = "BODY-FIXED ROTATING"
  EASTERNMOST_LONGITUDE = 321.211
  FIRST_STANDARD_PARALLEL = "N/A"
  LINE_FIRST_PIXEL = 1
  LINE_LAST_PIXEL = 6844
  LINE_PROJECTION_OFFSET = -41766.375
  MAP_PROJECTION_ROTATION = 0.0
  MAP_PROJECTION_TYPE = SINUSOIDAL
  MAP_RESOLUTION = 592.713803866667
  MAP_SCALE = 0.1
  MAXIMUM_LATITUDE = -70.5313
  MINIMUM_LATITUDE = -82.0372
  POSITIVE_LONGITUDE_DIRECTION = EAST
  REFERENCE_LATITUDE = "N/A"
  REFERENCE_LONGITUDE = "N/A"
  SAMPLE_FIRST_PIXEL = 1
  SAMPLE_LAST_PIXEL = 2744
  SAMPLE_PROJECTION_OFFSET = 1276.625
  SECOND_STANDARD_PARALLEL = "N/A"
  WESTERNMOST_LONGITUDE = 299.957
END_OBJECT = IMAGE_MAP_PROJECTION
/* The JPEG2000 image data file associated with this label. */
OBJECT = COMPRESSED_FILE
  FILE_NAME = "H6792_0000_IR3.JP2"
  RECORD_TYPE = UNDEFINED
  FILE_RECORDS = UNK
  ENCODING_TYPE = "JP2"
  INTERCHANGE_FORMAT = BINARY
  UNCOMPRESSED_FILE_NAME = "H6792_0000_IR3.IMG"
  REQUIRED_STORAGE_BYTES = "18801888"
  ^DESCRIPTION = "JP2INFO.TXT"
END_OBJECT = COMPRESSED_FILE
END
