PDS_VERSION_ID = PDS3
/* FILE DATA ELEMENTS */
RECORD_TYPE = STREAM
/* POINTERS TO DATA OBJECTS */
^COMPRESSED_FILE = "H6794_0000_P23.JP2"
/* IDENTIFICATION DATA ELEMENTS */
DATA_SET_ID = "MEX-M-HRSC-5-REFDR-MAPPROJECTED-V3.0"
DATA_SET_NAME = "MARS EXPRESS HRSC MAP PROJECTED REFDR V3.0"
DETECTOR_ID = MEX_HRSC_P2
EVENT_TYPE = "MARS-REGIONAL-MAPPING-Gl-La"
INSTRUMENT_HOST_ID = MEX
INSTRUMENT_HOST_NAME = "MARS EXPRESS"
INSTRUMENT_ID = HRSC
INSTRUMENT_NAME = "HIGH RESOLUTION STEREO CAMERA"
MISSION_NAME = "MARS EXPRESS"
MISSION_PHASE_NAME = ME_Phase_17
PROCESSING_LEVEL_ID = 3
PRODUCT_CREATION_TIME = 2016-06-29T08:07:06.000Z
PRODUCT_ID = "H6794_0000_P23.JP2"
RELEASE_ID = 0075
REVISION_ID = 0000
/* QUALITY DATA ELEMENTS */
DATA_QUALITY_ID = 1
DATA_QUALITY_DESC = "Data calculated based on original SPICE kernels"
/* TIME DATA ELEMENTS */
SPACECRAFT_CLOCK_START_COUNT = "1/0188161976.08258"
SPACECRAFT_CLOCK_STOP_COUNT = "1/0188162428.48583"
START_TIME = 2009-04-18T19:13:53.809Z
STOP_TIME = 2009-04-18T19:20:02.459Z
/* ORBITAL DATA ELEMENTS */
ASCENDING_NODE_LONGITUDE = 88.13
MAXIMUM_RESOLUTION = 30.5
FOOTPRINT_POINT_LATITUDE = (-80.5087,-80.5825,-80.6413,-80.9865, -81.3576,-81.7277,-82.0966,-82.4644, -83.016,-83.5625,-83.9269,-84.4724, -84.8412,-85.2061,-85.5752,-85.9447, -86.3098,-86.6778,-87.2186,-87.5744, -88.0778,-88.3849,-88.6383,-88.8099, -88.8532,-88.7527,-88.537,-88.2435, -87.7215,-87.3406,-86.9414,-86.3221, -85.6838,-85.0276,-84.5832,-84.1319, -83.6751,-83.2128,-82.7443,-82.2701, -81.7898,-81.3036,-80.8126,-80.315, -79.8126,-79.3034,-78.7886,-78.2719, -77.9553,-77.9059,-77.8202,-77.7451, -77.6009,-78.1109,-78.6145,-79.1115, -79.6032,-80.081,-80.5567,-81.0259, -81.4882,-81.9427,-82.3894,-82.8277, -83.2599,-83.678,-84.0866,-84.4834, -84.8606,-85.4056,-85.9087,-86.2154, -86.4907,-86.8351,-87.0104,-87.132, -87.1964,-87.2005,-87.1451,-87.036, -86.8782,-86.6825,-86.4493,-86.1984, -85.9237,-85.631,-85.1744,-84.8559, -84.5366,-84.2086,-83.8735,-83.5434, -83.0404,-82.7001,-82.3559,-81.8348, -81.4837,-81.1297,-80.7729,-80.5087)
FOOTPRINT_POINT_LONGITUDE = (322.199,319.844,317.384,315.174, 315.478,315.811,316.173,316.572,317.28, 318.077,318.721,319.81,320.696,321.676, 322.88,324.298,325.977,328.065,332.208, 336.081,344.484,352.743,365.082,381.856 ,401.934,421.354,436.467,447.306, 457.796,462.431,465.925,469.752,472.507 ,474.559,475.66,476.611,477.433,478.146 ,478.764,479.317,479.812,480.252, 480.652,481.009,481.336,481.632,481.906 ,482.174,480.23,478.519,476.117,474.383 ,471.571,471.046,470.475,469.854, 469.176,468.444,467.634,466.744,465.761 ,464.673,463.463,462.112,460.591, 458.889,456.96,454.762,452.285,447.812, 442.246,437.77,432.621,423.447,416.304, 408.544,400.276,391.915,383.711,376.095 ,369.153,363.043,357.535,353.022,349.01 ,345.514,341.167,338.709,336.593, 334.699,333.002,331.535,329.603,328.464 ,327.424,326.037,325.206,324.439,323.73 ,322.199)
ORBIT_NUMBER = 6794
ORBITAL_ECCENTRICITY = 0.575
ORBITAL_INCLINATION = 86.78
ORBITAL_SEMIMAJOR_AXIS = 8691.46
PERIAPSIS_ALTITUDE = 310.37
PERIAPSIS_ARGUMENT_ANGLE = 245.53
PERIAPSIS_TIME = 2009-04-18T19:09:39.000Z
SPACECRAFT_ORIENTATION = (0.0,-1.0,0.0)
^MEX_ORIENTATION_DESC = "MEX_ORIENTATION_DESC.TXT"
SPACECRAFT_POINTING_MODE = ACROSSTRACK
^MEX_POINTING_DESC = "MEX_POINTING_DESC.TXT"
RIGHT_ASCENSION = -1e+32
DECLINATION = -1e+32
OFFSET_ANGLE = -1.18
SPACECRAFT_SOLAR_DISTANCE = 2.06652e+08
TARGET_NAME = MARS
/* CAMERA DATA ELEMENTS */
DETECTOR_TEMPERATURE = 18.1666
FOCAL_PLANE_TEMPERATURE = 7.7677
INST_CMPRS_NAME = "DISCRETE COSINE TRANSFORMATION (DCT)"
INST_CMPRS_RATIO = 9.18821
INST_CMPRS_QUALITY = 0
INST_CMPRS_QUANTZ_TBL_ID = 0
INSTRUMENT_TEMPERATURE = 11.234
LENS_TEMPERATURE = 8.3794
MACROPIXEL_SIZE = 2
MISSING_FRAMES = 0
PIXEL_SUBSAMPLING_FLAG = N
SIGNAL_CHAIN_ID = 3
/* RADIOMETRIC DATA ELEMENTS */
BANDWIDTH = 177.0
CENTER_FILTER_WAVELENGTH = 676.5
RADIANCE_OFFSET = 5.19937
RADIANCE_SCALING_FACTOR = 0.0281509
REFLECTANCE_SCALING_FACTOR = 0.000637424
MEX:REFLECTANCE_OFFSET = 0.11773
/* IMAGE OBJECT DEFINITIONS */
OBJECT = IMAGE
  INTERCHANGE_FORMAT = BINARY
  LINES = 33270
  LINE_SAMPLES = 42876
  SAMPLE_TYPE = UNSIGNED_INTEGER
  SAMPLE_BITS = 8
  BANDS = 1
  BAND_STORAGE_TYPE = BAND_SEQUENTIAL
  MAXIMUM = 255
  MEAN = 185.845
  MINIMUM = 1
  STANDARD_DEVIATION = 70.3407
END_OBJECT = IMAGE
/* MAP OBJECT DEFINITIONS */
OBJECT = IMAGE_MAP_PROJECTION
  ^DATA_SET_MAP_PROJECTION_CATALOG= "DSMAP.CAT"
  A_AXIS_RADIUS = 3396.0
  B_AXIS_RADIUS = 3396.0
  C_AXIS_RADIUS = 3396.0
  CENTER_LATITUDE = -90.0
  CENTER_LONGITUDE = 0.0
  COORDINATE_SYSTEM_NAME = PLANETOGRAPHIC
  COORDINATE_SYSTEM_TYPE = "BODY-FIXED ROTATING"
  EASTERNMOST_LONGITUDE = 122.174
  FIRST_STANDARD_PARALLEL = "N/A"
  LINE_FIRST_PIXEL = 1
  LINE_LAST_PIXEL = 33270
  LINE_PROJECTION_OFFSET = 18325.75
  MAP_PROJECTION_ROTATION = 0.0
  MAP_PROJECTION_TYPE = STEREOGRAPHIC
  MAP_RESOLUTION = 2370.85521546667
  MAP_SCALE = 0.025
  MAXIMUM_LATITUDE = -77.6009
  MINIMUM_LATITUDE = -88.8532
  POSITIVE_LONGITUDE_DIRECTION = EAST
  REFERENCE_LATITUDE = "N/A"
  REFERENCE_LONGITUDE = "N/A"
  SAMPLE_FIRST_PIXEL = 1
  SAMPLE_LAST_PIXEL = 42876
  SAMPLE_PROJECTION_OFFSET = 15604.75
  SECOND_STANDARD_PARALLEL = "N/A"
  WESTERNMOST_LONGITUDE = -44.826
END_OBJECT = IMAGE_MAP_PROJECTION
/* The JPEG2000 image data file associated with this label. */
OBJECT = COMPRESSED_FILE
  FILE_NAME = "H6794_0000_P23.JP2"
  RECORD_TYPE = UNDEFINED
  FILE_RECORDS = UNK
  ENCODING_TYPE = "JP2"
  INTERCHANGE_FORMAT = BINARY
  UNCOMPRESSED_FILE_NAME = "H6794_0000_P23.IMG"
  REQUIRED_STORAGE_BYTES = "1426613148"
  ^DESCRIPTION = "JP2INFO.TXT"
END_OBJECT = COMPRESSED_FILE
END
