PDS_VERSION_ID = PDS3
/* FILE DATA ELEMENTS */
RECORD_TYPE = STREAM
/* POINTERS TO DATA OBJECTS */
^COMPRESSED_FILE = "H6795_0000_ND3.JP2"
/* IDENTIFICATION DATA ELEMENTS */
DATA_SET_ID = "MEX-M-HRSC-5-REFDR-MAPPROJECTED-V3.0"
DATA_SET_NAME = "MARS EXPRESS HRSC MAP PROJECTED REFDR V3.0"
DETECTOR_ID = MEX_HRSC_NADIR
EVENT_TYPE = "MARS-REGIONAL-MAPPING-Gl-La"
INSTRUMENT_HOST_ID = MEX
INSTRUMENT_HOST_NAME = "MARS EXPRESS"
INSTRUMENT_ID = HRSC
INSTRUMENT_NAME = "HIGH RESOLUTION STEREO CAMERA"
MISSION_NAME = "MARS EXPRESS"
MISSION_PHASE_NAME = ME_Phase_17
PROCESSING_LEVEL_ID = 3
PRODUCT_CREATION_TIME = 2016-06-29T08:07:06.000Z
PRODUCT_ID = "H6795_0000_ND3.JP2"
RELEASE_ID = 0075
REVISION_ID = 0000
/* QUALITY DATA ELEMENTS */
DATA_QUALITY_ID = 1
DATA_QUALITY_DESC = "Data calculated based on original SPICE kernels"
/* TIME DATA ELEMENTS */
SPACECRAFT_CLOCK_START_COUNT = "1/0188187062.09039"
SPACECRAFT_CLOCK_STOP_COUNT = "1/0188187435.09536"
START_TIME = 2009-04-19T02:11:54.930Z
STOP_TIME = 2009-04-19T02:15:32.959Z
/* ORBITAL DATA ELEMENTS */
ASCENDING_NODE_LONGITUDE = 88.11
MAXIMUM_RESOLUTION = 20.4
FOOTPRINT_POINT_LATITUDE = (-81.0152,-81.117,-81.2356,-81.3528, -81.4294,-81.0206,-80.8133,-80.6046, -80.3961,-80.0781,-79.8658,-79.6511, -79.435,-79.2187,-78.9995,-78.6704, -78.3367,-78.1138,-77.7749,-77.5486, -77.3192,-76.9749,-76.7419,-76.5095, -76.1561,-75.9202,-75.6811,-75.4424, -75.2005,-74.9587,-74.714,-74.4692, -74.2214,-73.8483,-73.5975,-73.3449, -73.0913,-72.8354,-72.4494,-72.1901, -71.9288,-71.5341,-71.1358,-70.8684, -70.5989,-70.3284,-70.0556,-69.7807, -69.505,-69.4481,-69.4127,-69.3851, -69.3335,-69.2706,-69.2138,-69.1397, -69.4117,-69.6828,-69.9516,-70.2183, -70.484,-70.7474,-71.1396,-71.528, -71.7852,-72.0401,-72.4196,-72.671, -72.92,-73.168,-73.414,-73.78,-74.0229, -74.2625,-74.5022,-74.7388,-74.9753, -75.2084,-75.5571,-75.7871,-76.0166, -76.2429,-76.5815,-76.8045,-77.0272, -77.2466,-77.5747,-77.7902,-78.1124, -78.4297,-78.6407,-78.8481,-79.0553, -79.261,-79.5653,-79.7674,-79.9657, -80.3599,-80.7462,-81.0152)
FOOTPRINT_POINT_LONGITUDE = (362.198,363.824,365.933,368.33,370.092 ,370.865,371.228,371.573,371.907, 372.387,372.69,372.983,373.264,373.527, 373.793,374.17,374.53,374.758,375.082, 375.288,375.491,375.785,375.973,376.16, 376.422,376.59,376.754,376.915,377.069, 377.22,377.366,377.508,377.646,377.846, 377.975,378.101,378.223,378.342,378.515 ,378.627,378.736,378.894,379.047, 379.146,379.243,379.338,379.431,379.52, 379.607,378.119,377.155,376.49,375.386, 374.213,373.265,372.141,372.018,371.892 ,371.762,371.628,371.491,371.352, 371.135,370.908,370.751,370.59,370.342, 370.169,369.993,369.812,369.626,369.337 ,369.136,368.931,368.721,368.506, 368.279,368.048,367.69,367.442,367.186, 366.92,366.514,366.231,365.936,365.637, 365.166,364.839,364.324,363.788,363.413 ,363.028,362.628,362.214,361.567, 361.114,360.649,359.656,358.599, 362.198)
ORBIT_NUMBER = 6795
ORBITAL_ECCENTRICITY = 0.575
ORBITAL_INCLINATION = 86.76
ORBITAL_SEMIMAJOR_AXIS = 8693.12
PERIAPSIS_ALTITUDE = 310.75
PERIAPSIS_ARGUMENT_ANGLE = 245.35
PERIAPSIS_TIME = 2009-04-19T02:03:17.000Z
SPACECRAFT_ORIENTATION = (0.0,-1.0,0.0)
^MEX_ORIENTATION_DESC = "MEX_ORIENTATION_DESC.TXT"
SPACECRAFT_POINTING_MODE = NADIR
^MEX_POINTING_DESC = "MEX_POINTING_DESC.TXT"
RIGHT_ASCENSION = -1e+32
DECLINATION = -1e+32
OFFSET_ANGLE = -1e+32
SPACECRAFT_SOLAR_DISTANCE = 2.06651e+08
TARGET_NAME = MARS
/* CAMERA DATA ELEMENTS */
DETECTOR_TEMPERATURE = 17.9627
FOCAL_PLANE_TEMPERATURE = 8.5833
INST_CMPRS_NAME = "DISCRETE COSINE TRANSFORMATION (DCT)"
INST_CMPRS_RATIO = 9.51742
INST_CMPRS_QUALITY = 0
INST_CMPRS_QUANTZ_TBL_ID = 0
INSTRUMENT_TEMPERATURE = 11.234
LENS_TEMPERATURE = 8.9911
MACROPIXEL_SIZE = 1
MISSING_FRAMES = 0
PIXEL_SUBSAMPLING_FLAG = N
SIGNAL_CHAIN_ID = 0
/* RADIOMETRIC DATA ELEMENTS */
BANDWIDTH = 177.0
CENTER_FILTER_WAVELENGTH = 677.5
RADIANCE_OFFSET = 6.38259
RADIANCE_SCALING_FACTOR = 0.0559876
REFLECTANCE_SCALING_FACTOR = 0.00127013
MEX:REFLECTANCE_OFFSET = 0.144795
/* IMAGE OBJECT DEFINITIONS */
OBJECT = IMAGE
  INTERCHANGE_FORMAT = BINARY
  LINES = 29107
  LINE_SAMPLES = 11377
  SAMPLE_TYPE = UNSIGNED_INTEGER
  SAMPLE_BITS = 8
  BANDS = 1
  BAND_STORAGE_TYPE = BAND_SEQUENTIAL
  MAXIMUM = 255
  MEAN = 138.12
  MINIMUM = 1
  STANDARD_DEVIATION = 102.712
END_OBJECT = IMAGE
/* MAP OBJECT DEFINITIONS */
OBJECT = IMAGE_MAP_PROJECTION
  ^DATA_SET_MAP_PROJECTION_CATALOG= "DSMAP.CAT"
  A_AXIS_RADIUS = 3396.0
  B_AXIS_RADIUS = 3396.0
  C_AXIS_RADIUS = 3396.0
  CENTER_LATITUDE = 0.0
  CENTER_LONGITUDE = 12.0
  COORDINATE_SYSTEM_NAME = PLANETOGRAPHIC
  COORDINATE_SYSTEM_TYPE = "BODY-FIXED ROTATING"
  EASTERNMOST_LONGITUDE = 19.607
  FIRST_STANDARD_PARALLEL = "N/A"
  LINE_FIRST_PIXEL = 1
  LINE_LAST_PIXEL = 29107
  LINE_PROJECTION_OFFSET = -163930.0
  MAP_PROJECTION_ROTATION = 0.0
  MAP_PROJECTION_TYPE = SINUSOIDAL
  MAP_RESOLUTION = 2370.85521546667
  MAP_SCALE = 0.025
  MAXIMUM_LATITUDE = -69.1397
  MINIMUM_LATITUDE = -81.4294
  POSITIVE_LONGITUDE_DIRECTION = EAST
  REFERENCE_LATITUDE = "N/A"
  REFERENCE_LONGITUDE = "N/A"
  SAMPLE_FIRST_PIXEL = 1
  SAMPLE_LAST_PIXEL = 11377
  SAMPLE_PROJECTION_OFFSET = 5038.0
  SECOND_STANDARD_PARALLEL = "N/A"
  WESTERNMOST_LONGITUDE = -1.401
END_OBJECT = IMAGE_MAP_PROJECTION
/* The JPEG2000 image data file associated with this label. */
OBJECT = COMPRESSED_FILE
  FILE_NAME = "H6795_0000_ND3.JP2"
  RECORD_TYPE = UNDEFINED
  FILE_RECORDS = UNK
  ENCODING_TYPE = "JP2"
  INTERCHANGE_FORMAT = BINARY
  UNCOMPRESSED_FILE_NAME = "H6795_0000_ND3.IMG"
  REQUIRED_STORAGE_BYTES = "331184470"
  ^DESCRIPTION = "JP2INFO.TXT"
END_OBJECT = COMPRESSED_FILE
END
