PDS_VERSION_ID = PDS3
/* FILE DATA ELEMENTS */
RECORD_TYPE = STREAM
/* POINTERS TO DATA OBJECTS */
^COMPRESSED_FILE = "H6807_0000_ND3.JP2"
/* IDENTIFICATION DATA ELEMENTS */
DATA_SET_ID = "MEX-M-HRSC-5-REFDR-MAPPROJECTED-V3.0"
DATA_SET_NAME = "MARS EXPRESS HRSC MAP PROJECTED REFDR V3.0"
DETECTOR_ID = MEX_HRSC_NADIR
EVENT_TYPE = "MARS-REGIONAL-MAPPING-Im-Gl-La"
INSTRUMENT_HOST_ID = MEX
INSTRUMENT_HOST_NAME = "MARS EXPRESS"
INSTRUMENT_ID = HRSC
INSTRUMENT_NAME = "HIGH RESOLUTION STEREO CAMERA"
MISSION_NAME = "MARS EXPRESS"
MISSION_PHASE_NAME = ME_Phase_17
PROCESSING_LEVEL_ID = 3
PRODUCT_CREATION_TIME = 2016-06-29T12:07:32.000Z
PRODUCT_ID = "H6807_0000_ND3.JP2"
RELEASE_ID = 0076
REVISION_ID = 0000
/* QUALITY DATA ELEMENTS */
DATA_QUALITY_ID = 1
DATA_QUALITY_DESC = "Data calculated based on original SPICE kernels"
/* TIME DATA ELEMENTS */
SPACECRAFT_CLOCK_START_COUNT = "1/0188484938.09042"
SPACECRAFT_CLOCK_STOP_COUNT = "1/0188485383.00932"
START_TIME = 2009-04-22T12:56:33.328Z
STOP_TIME = 2009-04-22T13:01:01.293Z
/* ORBITAL DATA ELEMENTS */
ASCENDING_NODE_LONGITUDE = 87.88
MAXIMUM_RESOLUTION = 22.5
FOOTPRINT_POINT_LATITUDE = (-81.3049,-81.4523,-81.5904,-81.719, -81.8381,-81.7234,-81.1359,-80.7755, -80.2889,-79.794,-79.5438,-79.1632, -78.779,-78.5205,-78.2595,-77.9968, -77.7315,-77.4651,-77.1956,-76.7885, -76.5146,-76.2383,-75.8205,-75.5397, -75.2558,-74.9708,-74.6831,-74.3931, -74.1019,-73.8074,-73.511,-73.213, -72.9123,-72.6092,-72.3044,-71.9975, -71.6873,-71.3753,-71.0613,-70.7447, -70.4258,-70.1038,-69.7796,-69.4531, -69.1241,-68.6259,-68.2933,-67.9619, -67.749,-67.6969,-67.6651,-67.6013, -67.5281,-67.4832,-67.4128,-67.3579, -67.6835,-68.0102,-68.3379,-68.6642, -68.9878,-69.309,-69.6276,-69.9439, -70.2571,-70.5679,-70.8762,-71.1824, -71.4861,-71.787,-72.0856,-72.3823, -72.6765,-72.9679,-73.2576,-73.5449, -73.8291,-74.1119,-74.3919,-74.6693, -74.9453,-75.218,-75.6233,-75.8911, -76.1559,-76.5492,-76.8093,-77.066, -77.3214,-77.5735,-77.8241,-78.0717, -78.3169,-78.5595,-79.0371,-79.5059, -80.0767,-80.521,-81.0628,-81.3049)
FOOTPRINT_POINT_LONGITUDE = (225.178,226.961,228.794,230.673, 232.602,235.356,236.831,237.635,238.621 ,239.52,239.94,240.54,241.1,241.457, 241.799,242.127,242.443,242.747,243.041 ,243.461,243.728,243.986,244.356, 244.592,244.821,245.042,245.256,245.463 ,245.663,245.858,246.045,246.228, 246.405,246.577,246.743,246.905,247.062 ,247.215,247.365,247.507,247.647, 247.784,247.916,248.045,248.17,248.352, 248.468,248.581,247.73,246.44,245.757, 244.545,243.334,242.663,241.684,240.969 ,240.824,240.674,240.518,240.357,240.19 ,240.02,239.842,239.658,239.47,239.277, 239.078,238.872,238.658,238.438,238.213 ,237.981,237.744,237.495,237.24,236.976 ,236.704,236.424,236.132,235.832,235.52 ,235.2,234.699,234.35,233.989,233.423, 233.028,232.623,232.201,231.764,231.313 ,230.844,230.351,229.844,228.755, 227.597,226.002,224.603,222.676, 225.178)
ORBIT_NUMBER = 6807
ORBITAL_ECCENTRICITY = 0.576
ORBITAL_INCLINATION = 86.78
ORBITAL_SEMIMAJOR_AXIS = 8698.22
PERIAPSIS_ALTITUDE = 310.44
PERIAPSIS_ARGUMENT_ANGLE = 243.3
PERIAPSIS_TIME = 2009-04-22T12:47:33.000Z
SPACECRAFT_ORIENTATION = (0.0,-1.0,0.0)
^MEX_ORIENTATION_DESC = "MEX_ORIENTATION_DESC.TXT"
SPACECRAFT_POINTING_MODE = ACROSSTRACK
^MEX_POINTING_DESC = "MEX_POINTING_DESC.TXT"
RIGHT_ASCENSION = -1e+32
DECLINATION = -1e+32
OFFSET_ANGLE = 0.6
SPACECRAFT_SOLAR_DISTANCE = 2.06646e+08
TARGET_NAME = MARS
/* CAMERA DATA ELEMENTS */
DETECTOR_TEMPERATURE = 18.1666
FOCAL_PLANE_TEMPERATURE = 8.1755
INST_CMPRS_NAME = "DISCRETE COSINE TRANSFORMATION (DCT)"
INST_CMPRS_RATIO = 5.64789
INST_CMPRS_QUALITY = 0
INST_CMPRS_QUANTZ_TBL_ID = 0
INSTRUMENT_TEMPERATURE = 11.0301
LENS_TEMPERATURE = 8.3794
MACROPIXEL_SIZE = 1
MISSING_FRAMES = 1
PIXEL_SUBSAMPLING_FLAG = N
SIGNAL_CHAIN_ID = 0
/* RADIOMETRIC DATA ELEMENTS */
BANDWIDTH = 177.0
CENTER_FILTER_WAVELENGTH = 677.5
RADIANCE_OFFSET = 5.47351
RADIANCE_SCALING_FACTOR = 0.0412623
REFLECTANCE_SCALING_FACTOR = 0.000936035
MEX:REFLECTANCE_OFFSET = 0.124166
/* IMAGE OBJECT DEFINITIONS */
OBJECT = IMAGE
  INTERCHANGE_FORMAT = BINARY
  LINES = 34586
  LINE_SAMPLES = 14088
  SAMPLE_TYPE = UNSIGNED_INTEGER
  SAMPLE_BITS = 8
  BANDS = 1
  BAND_STORAGE_TYPE = BAND_SEQUENTIAL
  MAXIMUM = 255
  MEAN = 70.9019
  MINIMUM = 1
  STANDARD_DEVIATION = 56.8432
END_OBJECT = IMAGE
/* MAP OBJECT DEFINITIONS */
OBJECT = IMAGE_MAP_PROJECTION
  ^DATA_SET_MAP_PROJECTION_CATALOG= "DSMAP.CAT"
  A_AXIS_RADIUS = 3396.0
  B_AXIS_RADIUS = 3396.0
  C_AXIS_RADIUS = 3396.0
  CENTER_LATITUDE = 0.0
  CENTER_LONGITUDE = 240.0
  COORDINATE_SYSTEM_NAME = PLANETOGRAPHIC
  COORDINATE_SYSTEM_TYPE = "BODY-FIXED ROTATING"
  EASTERNMOST_LONGITUDE = 248.581
  FIRST_STANDARD_PARALLEL = "N/A"
  LINE_FIRST_PIXEL = 1
  LINE_LAST_PIXEL = 34586
  LINE_PROJECTION_OFFSET = -159711.0
  MAP_PROJECTION_ROTATION = 0.0
  MAP_PROJECTION_TYPE = SINUSOIDAL
  MAP_RESOLUTION = 2370.85521546667
  MAP_SCALE = 0.025
  MAXIMUM_LATITUDE = -67.3579
  MINIMUM_LATITUDE = -81.8381
  POSITIVE_LONGITUDE_DIRECTION = EAST
  REFERENCE_LATITUDE = "N/A"
  REFERENCE_LONGITUDE = "N/A"
  SAMPLE_FIRST_PIXEL = 1
  SAMPLE_LAST_PIXEL = 14088
  SAMPLE_PROJECTION_OFFSET = 6378.0
  SECOND_STANDARD_PARALLEL = "N/A"
  WESTERNMOST_LONGITUDE = 222.676
END_OBJECT = IMAGE_MAP_PROJECTION
/* The JPEG2000 image data file associated with this label. */
OBJECT = COMPRESSED_FILE
  FILE_NAME = "H6807_0000_ND3.JP2"
  RECORD_TYPE = UNDEFINED
  FILE_RECORDS = UNK
  ENCODING_TYPE = "JP2"
  INTERCHANGE_FORMAT = BINARY
  UNCOMPRESSED_FILE_NAME = "H6807_0000_ND3.IMG"
  REQUIRED_STORAGE_BYTES = "487289832"
  ^DESCRIPTION = "JP2INFO.TXT"
END_OBJECT = COMPRESSED_FILE
END
