PDS_VERSION_ID = PDS3
/* FILE DATA ELEMENTS */
RECORD_TYPE = STREAM
/* POINTERS TO DATA OBJECTS */
^COMPRESSED_FILE = "H6813_0000_P23.JP2"
/* IDENTIFICATION DATA ELEMENTS */
DATA_SET_ID = "MEX-M-HRSC-5-REFDR-MAPPROJECTED-V3.0"
DATA_SET_NAME = "MARS EXPRESS HRSC MAP PROJECTED REFDR V3.0"
DETECTOR_ID = MEX_HRSC_P2
EVENT_TYPE = "MARS-REGIONAL-MAPPING-Gl-Eo"
INSTRUMENT_HOST_ID = MEX
INSTRUMENT_HOST_NAME = "MARS EXPRESS"
INSTRUMENT_ID = HRSC
INSTRUMENT_NAME = "HIGH RESOLUTION STEREO CAMERA"
MISSION_NAME = "MARS EXPRESS"
MISSION_PHASE_NAME = ME_Phase_17
PROCESSING_LEVEL_ID = 3
PRODUCT_CREATION_TIME = 2016-06-29T12:07:32.000Z
PRODUCT_ID = "H6813_0000_P23.JP2"
RELEASE_ID = 0076
REVISION_ID = 0000
/* QUALITY DATA ELEMENTS */
DATA_QUALITY_ID = 1
DATA_QUALITY_DESC = "Data calculated based on original SPICE kernels"
/* TIME DATA ELEMENTS */
SPACECRAFT_CLOCK_START_COUNT = "1/0188633894.09033"
SPACECRAFT_CLOCK_STOP_COUNT = "1/0188634188.07737"
START_TIME = 2009-04-24T06:19:56.210Z
STOP_TIME = 2009-04-24T06:22:30.907Z
/* ORBITAL DATA ELEMENTS */
ASCENDING_NODE_LONGITUDE = 87.76
MAXIMUM_RESOLUTION = 52.3
FOOTPRINT_POINT_LATITUDE = (-80.6977,-80.796,-80.9142,-81.0095, -81.0699,-81.1276,-81.2222,-81.2725, -81.32,-81.3701,-81.2808,-81.0056, -80.5885,-80.3088,-79.952,-79.6654, -79.3777,-79.1593,-79.0134,-78.7954, -78.5707,-78.421,-78.271,-78.1248, -77.9723,-77.8201,-77.5946,-77.4429, -77.2918,-77.138,-76.9076,-76.6748, -76.5197,-76.3628,-76.2063,-75.9697, -75.8119,-75.6525,-75.4929,-75.3324, -75.1706,-74.9286,-74.767,-74.6043, -74.4403,-74.2767,-74.1112,-73.947, -73.9242,-73.9004,-73.8591,-73.8283, -73.6441,-73.8202,-73.7948,-73.7635, -73.7203,-73.6628,-73.6242,-73.5717, -73.5095,-73.549,-73.7099,-73.9503, -74.1113,-74.2692,-74.4265,-74.662, -74.8177,-75.0511,-75.2835,-75.5136, -75.6672,-75.8933,-76.0445,-76.1945, -76.3445,-76.5677,-76.7164,-76.8632, -77.0102,-77.2291,-77.3738,-77.5192, -77.6628,-77.8058,-77.9487,-78.0902, -78.2318,-78.3722,-78.5115,-78.7884, -78.9941,-79.2664,-79.4686,-79.6692, -79.935,-80.2609,-80.5197,-80.6977)
FOOTPRINT_POINT_LONGITUDE = (343.445,344.748,346.443,347.929, 348.936,349.956,351.77,352.824,353.89, 355.105,356.581,357.065,357.742,358.165 ,358.66,359.036,359.392,359.65,359.815, 360.061,360.289,360.44,360.586,360.734, 360.874,361.01,361.213,361.344,361.473, 361.599,361.782,361.96,362.075,362.189, 362.3,362.462,362.568,362.672,362.773, 362.871,362.968,363.112,363.206,363.297 ,363.387,363.476,363.562,363.648, 362.866,362.082,360.911,360.135,360.053 ,359.941,359.362,358.688,357.824, 356.775,356.111,355.261,354.321,353.662 ,353.532,353.332,353.191,353.054, 352.915,352.698,352.552,352.323,352.087 ,351.845,351.677,351.429,351.255, 351.078,350.897,350.618,350.427,350.233 ,350.034,349.727,349.519,349.303, 349.083,348.861,348.631,348.398,348.158 ,347.914,347.666,347.152,346.751, 346.192,345.758,345.306,344.675,343.85, 343.144,343.445)
ORBIT_NUMBER = 6813
ORBITAL_ECCENTRICITY = 0.575
ORBITAL_INCLINATION = 86.77
ORBITAL_SEMIMAJOR_AXIS = 8696.82
PERIAPSIS_ALTITUDE = 311.26
PERIAPSIS_ARGUMENT_ANGLE = 242.26
PERIAPSIS_TIME = 2009-04-24T06:09:41.000Z
SPACECRAFT_ORIENTATION = (0.0,-1.0,0.0)
^MEX_ORIENTATION_DESC = "MEX_ORIENTATION_DESC.TXT"
SPACECRAFT_POINTING_MODE = NADIR
^MEX_POINTING_DESC = "MEX_POINTING_DESC.TXT"
RIGHT_ASCENSION = -1e+32
DECLINATION = -1e+32
OFFSET_ANGLE = -1e+32
SPACECRAFT_SOLAR_DISTANCE = 2.06654e+08
TARGET_NAME = MARS
/* CAMERA DATA ELEMENTS */
DETECTOR_TEMPERATURE = 18.5744
FOCAL_PLANE_TEMPERATURE = 8.1755
INST_CMPRS_NAME = "DISCRETE COSINE TRANSFORMATION (DCT)"
INST_CMPRS_RATIO = 44.6458
INST_CMPRS_QUALITY = 0
INST_CMPRS_QUANTZ_TBL_ID = 0
INSTRUMENT_TEMPERATURE = 9.8067
LENS_TEMPERATURE = 8.5833
MACROPIXEL_SIZE = 2
MISSING_FRAMES = 0
PIXEL_SUBSAMPLING_FLAG = N
SIGNAL_CHAIN_ID = 3
/* RADIOMETRIC DATA ELEMENTS */
BANDWIDTH = 177.0
CENTER_FILTER_WAVELENGTH = 676.5
RADIANCE_OFFSET = 2.9895
RADIANCE_SCALING_FACTOR = 0.0468942
REFLECTANCE_SCALING_FACTOR = 0.00106185
MEX:REFLECTANCE_OFFSET = 0.0676927
/* IMAGE OBJECT DEFINITIONS */
OBJECT = IMAGE
  INTERCHANGE_FORMAT = BINARY
  LINES = 9471
  LINE_SAMPLES = 4916
  SAMPLE_TYPE = UNSIGNED_INTEGER
  SAMPLE_BITS = 8
  BANDS = 1
  BAND_STORAGE_TYPE = BAND_SEQUENTIAL
  MAXIMUM = 255
  MEAN = 254.559
  MINIMUM = 1
  STANDARD_DEVIATION = 6.62934
END_OBJECT = IMAGE
/* MAP OBJECT DEFINITIONS */
OBJECT = IMAGE_MAP_PROJECTION
  ^DATA_SET_MAP_PROJECTION_CATALOG= "DSMAP.CAT"
  A_AXIS_RADIUS = 3396.0
  B_AXIS_RADIUS = 3396.0
  C_AXIS_RADIUS = 3396.0
  CENTER_LATITUDE = 0.0
  CENTER_LONGITUDE = 355.0
  COORDINATE_SYSTEM_NAME = PLANETOGRAPHIC
  COORDINATE_SYSTEM_TYPE = "BODY-FIXED ROTATING"
  EASTERNMOST_LONGITUDE = 3.648
  FIRST_STANDARD_PARALLEL = "N/A"
  LINE_FIRST_PIXEL = 1
  LINE_LAST_PIXEL = 9471
  LINE_PROJECTION_OFFSET = -87143.25
  MAP_PROJECTION_ROTATION = 0.0
  MAP_PROJECTION_TYPE = SINUSOIDAL
  MAP_RESOLUTION = 1185.42760773333
  MAP_SCALE = 0.05
  MAXIMUM_LATITUDE = -73.5095
  MINIMUM_LATITUDE = -81.37009999999999
  POSITIVE_LONGITUDE_DIRECTION = EAST
  REFERENCE_LATITUDE = "N/A"
  REFERENCE_LONGITUDE = "N/A"
  SAMPLE_FIRST_PIXEL = 1
  SAMPLE_LAST_PIXEL = 4916
  SAMPLE_PROJECTION_OFFSET = 2258.75
  SECOND_STANDARD_PARALLEL = "N/A"
  WESTERNMOST_LONGITUDE = -16.856
END_OBJECT = IMAGE_MAP_PROJECTION
/* The JPEG2000 image data file associated with this label. */
OBJECT = COMPRESSED_FILE
  FILE_NAME = "H6813_0000_P23.JP2"
  RECORD_TYPE = UNDEFINED
  FILE_RECORDS = UNK
  ENCODING_TYPE = "JP2"
  INTERCHANGE_FORMAT = BINARY
  UNCOMPRESSED_FILE_NAME = "H6813_0000_P23.IMG"
  REQUIRED_STORAGE_BYTES = "46584016"
  ^DESCRIPTION = "JP2INFO.TXT"
END_OBJECT = COMPRESSED_FILE
END
