PDS_VERSION_ID = PDS3
/* FILE DATA ELEMENTS */
RECORD_TYPE = STREAM
/* POINTERS TO DATA OBJECTS */
^COMPRESSED_FILE = "H6813_0000_S23.JP2"
/* IDENTIFICATION DATA ELEMENTS */
DATA_SET_ID = "MEX-M-HRSC-5-REFDR-MAPPROJECTED-V3.0"
DATA_SET_NAME = "MARS EXPRESS HRSC MAP PROJECTED REFDR V3.0"
DETECTOR_ID = MEX_HRSC_S2
EVENT_TYPE = "MARS-REGIONAL-MAPPING-Gl-Eo"
INSTRUMENT_HOST_ID = MEX
INSTRUMENT_HOST_NAME = "MARS EXPRESS"
INSTRUMENT_ID = HRSC
INSTRUMENT_NAME = "HIGH RESOLUTION STEREO CAMERA"
MISSION_NAME = "MARS EXPRESS"
MISSION_PHASE_NAME = ME_Phase_17
PROCESSING_LEVEL_ID = 3
PRODUCT_CREATION_TIME = 2016-06-29T12:07:32.000Z
PRODUCT_ID = "H6813_0000_S23.JP2"
RELEASE_ID = 0076
REVISION_ID = 0000
/* QUALITY DATA ELEMENTS */
DATA_QUALITY_ID = 1
DATA_QUALITY_DESC = "Data calculated based on original SPICE kernels"
/* TIME DATA ELEMENTS */
SPACECRAFT_CLOCK_START_COUNT = "1/0188633894.09033"
SPACECRAFT_CLOCK_STOP_COUNT = "1/0188634188.07737"
START_TIME = 2009-04-24T06:20:22.849Z
STOP_TIME = 2009-04-24T06:23:08.632Z
/* ORBITAL DATA ELEMENTS */
ASCENDING_NODE_LONGITUDE = 87.76
MAXIMUM_RESOLUTION = 56.6
FOOTPRINT_POINT_LATITUDE = (-80.6191,-80.6848,-80.7664,-80.8361, -80.8949,-80.9675,-81.029,-81.0878, -81.1436,-81.1966,-81.2466,-81.2992, -81.3375,-81.2706,-80.9958,-80.6497, -80.2289,-79.8023,-79.3723,-79.0192, -79.2317,-78.9368,-78.7907,-78.6431, -78.4953,-78.3469,-78.1262,-77.9756, -77.8229,-77.6733,-77.522,-77.3722, -77.1443,-76.9917,-76.8379,-76.6072, -76.4517,-76.2971,-76.0626,-75.8276, -75.67,-75.5113,-75.35,-75.1915, -75.0302,-74.8715,-74.711,-74.4676, -74.3055,-74.1434,-73.9161,-73.8916, -73.8719,-73.843,-73.8071,-73.7764, -73.7389,-73.7038,-73.6442,-73.598, -73.5616,-73.5042,-73.5283,-73.6871, -73.9252,-74.2405,-74.3974,-74.5522, -74.7064,-74.8613,-75.0155,-75.1687, -75.322,-75.4735,-75.627,-75.7748, -75.9247,-76.0745,-76.2226,-76.3712, -76.5189,-76.7399,-76.9585,-77.1045, -77.2489,-77.3928,-77.6083,-77.7507, -77.8917,-78.0331,-78.3132,-78.5213, -78.7968,-79.1359,-79.3383,-79.5381, -79.7391,-80.0655,-80.3888,-80.6191)
FOOTPRINT_POINT_LONGITUDE = (343.27,344.132,345.257,346.273,347.173 ,348.347,349.405,350.476,351.559, 352.656,353.766,355.032,356.026,357.07, 357.546,358.104,358.727,359.302,359.837 ,359.738,360.009,360.334,360.491, 360.645,360.796,360.942,361.16,361.298, 361.433,361.567,361.698,361.827,362.015 ,362.136,362.255,362.429,362.543, 362.654,362.817,362.976,363.078,363.179 ,363.276,363.375,363.469,363.564, 363.657,363.792,363.88,363.968,363.343, 362.403,361.778,360.948,360.018,359.298 ,358.478,357.763,356.645,355.836, 355.232,354.33,353.433,353.306,353.108, 352.836,352.696,352.555,352.413,352.264 ,352.113,351.959,351.801,351.642, 351.473,351.315,351.145,350.972,350.797 ,350.616,350.431,350.146,349.854, 349.651,349.446,349.238,348.912,348.692 ,348.467,348.236,347.758,347.387, 346.871,346.198,345.771,345.334,344.866 ,344.074,343.225,343.27)
ORBIT_NUMBER = 6813
ORBITAL_ECCENTRICITY = 0.575
ORBITAL_INCLINATION = 86.77
ORBITAL_SEMIMAJOR_AXIS = 8696.82
PERIAPSIS_ALTITUDE = 311.26
PERIAPSIS_ARGUMENT_ANGLE = 242.26
PERIAPSIS_TIME = 2009-04-24T06:09:41.000Z
SPACECRAFT_ORIENTATION = (0.0,-1.0,0.0)
^MEX_ORIENTATION_DESC = "MEX_ORIENTATION_DESC.TXT"
SPACECRAFT_POINTING_MODE = NADIR
^MEX_POINTING_DESC = "MEX_POINTING_DESC.TXT"
RIGHT_ASCENSION = -1e+32
DECLINATION = -1e+32
OFFSET_ANGLE = -1e+32
SPACECRAFT_SOLAR_DISTANCE = 2.06654e+08
TARGET_NAME = MARS
/* CAMERA DATA ELEMENTS */
DETECTOR_TEMPERATURE = 18.5744
FOCAL_PLANE_TEMPERATURE = 8.1755
INST_CMPRS_NAME = "DISCRETE COSINE TRANSFORMATION (DCT)"
INST_CMPRS_RATIO = 38.1698
INST_CMPRS_QUALITY = 0
INST_CMPRS_QUANTZ_TBL_ID = 0
INSTRUMENT_TEMPERATURE = 9.8067
LENS_TEMPERATURE = 8.5833
MACROPIXEL_SIZE = 2
MISSING_FRAMES = 0
PIXEL_SUBSAMPLING_FLAG = N
SIGNAL_CHAIN_ID = 1
/* RADIOMETRIC DATA ELEMENTS */
BANDWIDTH = 178.0
CENTER_FILTER_WAVELENGTH = 679.0
RADIANCE_OFFSET = 7.75306
RADIANCE_SCALING_FACTOR = 0.0366409
REFLECTANCE_SCALING_FACTOR = 0.000828667
MEX:REFLECTANCE_OFFSET = 0.175342
/* IMAGE OBJECT DEFINITIONS */
OBJECT = IMAGE
  INTERCHANGE_FORMAT = BINARY
  LINES = 9471
  LINE_SAMPLES = 4916
  SAMPLE_TYPE = UNSIGNED_INTEGER
  SAMPLE_BITS = 8
  BANDS = 1
  BAND_STORAGE_TYPE = BAND_SEQUENTIAL
  MAXIMUM = 255
  MEAN = 251.707
  MINIMUM = 1
  STANDARD_DEVIATION = 17.8893
END_OBJECT = IMAGE
/* MAP OBJECT DEFINITIONS */
OBJECT = IMAGE_MAP_PROJECTION
  ^DATA_SET_MAP_PROJECTION_CATALOG= "DSMAP.CAT"
  A_AXIS_RADIUS = 3396.0
  B_AXIS_RADIUS = 3396.0
  C_AXIS_RADIUS = 3396.0
  CENTER_LATITUDE = 0.0
  CENTER_LONGITUDE = 355.0
  COORDINATE_SYSTEM_NAME = PLANETOGRAPHIC
  COORDINATE_SYSTEM_TYPE = "BODY-FIXED ROTATING"
  EASTERNMOST_LONGITUDE = 3.968
  FIRST_STANDARD_PARALLEL = "N/A"
  LINE_FIRST_PIXEL = 1
  LINE_LAST_PIXEL = 9471
  LINE_PROJECTION_OFFSET = -87143.25
  MAP_PROJECTION_ROTATION = 0.0
  MAP_PROJECTION_TYPE = SINUSOIDAL
  MAP_RESOLUTION = 1185.42760773333
  MAP_SCALE = 0.05
  MAXIMUM_LATITUDE = -73.5042
  MINIMUM_LATITUDE = -81.33750000000001
  POSITIVE_LONGITUDE_DIRECTION = EAST
  REFERENCE_LATITUDE = "N/A"
  REFERENCE_LONGITUDE = "N/A"
  SAMPLE_FIRST_PIXEL = 1
  SAMPLE_LAST_PIXEL = 4916
  SAMPLE_PROJECTION_OFFSET = 2258.75
  SECOND_STANDARD_PARALLEL = "N/A"
  WESTERNMOST_LONGITUDE = -16.775
END_OBJECT = IMAGE_MAP_PROJECTION
/* The JPEG2000 image data file associated with this label. */
OBJECT = COMPRESSED_FILE
  FILE_NAME = "H6813_0000_S23.JP2"
  RECORD_TYPE = UNDEFINED
  FILE_RECORDS = UNK
  ENCODING_TYPE = "JP2"
  INTERCHANGE_FORMAT = BINARY
  UNCOMPRESSED_FILE_NAME = "H6813_0000_S23.IMG"
  REQUIRED_STORAGE_BYTES = "46584016"
  ^DESCRIPTION = "JP2INFO.TXT"
END_OBJECT = COMPRESSED_FILE
END
