PDS_VERSION_ID = PDS3
/* FILE DATA ELEMENTS */
RECORD_TYPE = STREAM
/* POINTERS TO DATA OBJECTS */
^COMPRESSED_FILE = "H6818_0000_BL3.JP2"
/* IDENTIFICATION DATA ELEMENTS */
DATA_SET_ID = "MEX-M-HRSC-5-REFDR-MAPPROJECTED-V3.0"
DATA_SET_NAME = "MARS EXPRESS HRSC MAP PROJECTED REFDR V3.0"
DETECTOR_ID = MEX_HRSC_BLUE
EVENT_TYPE = "MARS-REGIONAL-MAPPING-Gl"
INSTRUMENT_HOST_ID = MEX
INSTRUMENT_HOST_NAME = "MARS EXPRESS"
INSTRUMENT_ID = HRSC
INSTRUMENT_NAME = "HIGH RESOLUTION STEREO CAMERA"
MISSION_NAME = "MARS EXPRESS"
MISSION_PHASE_NAME = ME_Phase_17
PROCESSING_LEVEL_ID = 3
PRODUCT_CREATION_TIME = 2016-06-29T12:07:32.000Z
PRODUCT_ID = "H6818_0000_BL3.JP2"
RELEASE_ID = 0076
REVISION_ID = 0000
/* QUALITY DATA ELEMENTS */
DATA_QUALITY_ID = 1
DATA_QUALITY_DESC = "Data calculated based on original SPICE kernels"
/* TIME DATA ELEMENTS */
SPACECRAFT_CLOCK_START_COUNT = "1/0188757882.09028"
SPACECRAFT_CLOCK_STOP_COUNT = "1/0188758175.47754"
START_TIME = 2009-04-25T16:45:36.434Z
STOP_TIME = 2009-04-25T16:48:30.923Z
/* ORBITAL DATA ELEMENTS */
ASCENDING_NODE_LONGITUDE = 87.66
MAXIMUM_RESOLUTION = 77.6
FOOTPRINT_POINT_LATITUDE = (-86.1536,-86.4115,-86.7297,-86.9717, -87.2286,-87.5889,-87.6271,-87.6119, -87.5435,-87.4586,-87.3873,-87.2612, -87.111,-87.0,-86.8839,-86.7586, -86.6267,-86.4888,-86.3471,-86.1986, -86.0469,-85.8922,-85.7328,-85.5693, -85.3198,-85.1486,-84.9754,-84.8007, -84.6225,-84.4421,-84.2607,-84.0761, -83.8896,-83.7024,-83.5119,-83.3203, -83.0303,-82.8343,-82.6379,-82.4383, -82.1377,-81.8326,-81.6284,-81.3181, -81.1104,-80.7947,-80.5837,-80.3697, -80.0943,-80.0351,-79.9394,-79.8131, -79.716,-79.6499,-79.5809,-79.4747, -79.6779,-79.8805,-80.0797,-80.3769, -80.5717,-80.8619,-81.0521,-81.3351, -81.5202,-81.7958,-81.9755,-82.1541, -82.4166,-82.589,-82.7595,-82.9259, -83.0907,-83.2527,-83.4109,-83.567, -83.72,-83.8686,-84.0147,-84.1575, -84.2952,-84.4296,-84.5606,-84.6854, -84.8063,-84.9231,-85.0874,-85.2397, -85.3344,-85.4219,-85.5034,-85.5787, -85.647,-85.7611,-85.807,-85.8611, -85.9069,-85.9204,-85.9111,-86.1536)
FOOTPRINT_POINT_LONGITUDE = (131.239,130.853,130.29,129.781,129.141 ,127.604,136.055,144.71,153.086,159.05, 162.801,168.016,172.796,175.712,178.414 ,180.93,183.278,185.438,187.431,189.306 ,191.038,192.638,194.131,195.525, 197.427,198.602,199.698,200.719,201.683 ,202.589,203.436,204.237,204.994, 205.704,206.382,207.022,207.917,208.48, 209.011,209.52,210.235,210.903,211.322, 211.919,212.293,212.829,213.166,213.493 ,212.28,210.88,208.924,206.674,205.133, 204.157,203.194,201.787,201.331,200.855 ,200.365,199.592,199.055,198.206, 197.615,196.679,196.027,194.992,194.272 ,193.516,192.327,191.489,190.613, 189.705,188.751,187.755,186.72,185.632, 184.494,183.312,182.069,180.766,179.418 ,178.001,176.511,174.976,173.365, 171.676,169.023,166.207,164.225,162.204 ,160.103,157.924,155.686,151.063, 148.653,144.997,140.037,136.279,131.326 ,131.239)
ORBIT_NUMBER = 6818
ORBITAL_ECCENTRICITY = 0.576
ORBITAL_INCLINATION = 86.78
ORBITAL_SEMIMAJOR_AXIS = 8700.36
PERIAPSIS_ALTITUDE = 310.3
PERIAPSIS_ARGUMENT_ANGLE = 241.43
PERIAPSIS_TIME = 2009-04-25T16:38:09.000Z
SPACECRAFT_ORIENTATION = (0.0,-1.0,0.0)
^MEX_ORIENTATION_DESC = "MEX_ORIENTATION_DESC.TXT"
SPACECRAFT_POINTING_MODE = NADIR
^MEX_POINTING_DESC = "MEX_POINTING_DESC.TXT"
RIGHT_ASCENSION = -1e+32
DECLINATION = -1e+32
OFFSET_ANGLE = -1e+32
SPACECRAFT_SOLAR_DISTANCE = 2.06665e+08
TARGET_NAME = MARS
/* CAMERA DATA ELEMENTS */
DETECTOR_TEMPERATURE = 16.7393
FOCAL_PLANE_TEMPERATURE = 8.5833
INST_CMPRS_NAME = "DISCRETE COSINE TRANSFORMATION (DCT)"
INST_CMPRS_RATIO = 4.16304
INST_CMPRS_QUALITY = 0
INST_CMPRS_QUANTZ_TBL_ID = 0
INSTRUMENT_TEMPERATURE = 11.234
LENS_TEMPERATURE = 8.7872
MACROPIXEL_SIZE = 4
MISSING_FRAMES = 0
PIXEL_SUBSAMPLING_FLAG = N
SIGNAL_CHAIN_ID = 2
/* RADIOMETRIC DATA ELEMENTS */
BANDWIDTH = 76.0
CENTER_FILTER_WAVELENGTH = 444.0
RADIANCE_OFFSET = 0.729768
RADIANCE_SCALING_FACTOR = 0.00521998
REFLECTANCE_SCALING_FACTOR = 0.000229065
MEX:REFLECTANCE_OFFSET = 0.0320239
/* IMAGE OBJECT DEFINITIONS */
OBJECT = IMAGE
  INTERCHANGE_FORMAT = BINARY
  LINES = 4806
  LINE_SAMPLES = 4853
  SAMPLE_TYPE = UNSIGNED_INTEGER
  SAMPLE_BITS = 8
  BANDS = 1
  BAND_STORAGE_TYPE = BAND_SEQUENTIAL
  MAXIMUM = 255
  MEAN = 166.895
  MINIMUM = 1
  STANDARD_DEVIATION = 85.8865
END_OBJECT = IMAGE
/* MAP OBJECT DEFINITIONS */
OBJECT = IMAGE_MAP_PROJECTION
  ^DATA_SET_MAP_PROJECTION_CATALOG= "DSMAP.CAT"
  A_AXIS_RADIUS = 3396.0
  B_AXIS_RADIUS = 3396.0
  C_AXIS_RADIUS = 3396.0
  CENTER_LATITUDE = 0.0
  CENTER_LONGITUDE = 190.0
  COORDINATE_SYSTEM_NAME = PLANETOGRAPHIC
  COORDINATE_SYSTEM_TYPE = "BODY-FIXED ROTATING"
  EASTERNMOST_LONGITUDE = 213.493
  FIRST_STANDARD_PARALLEL = "N/A"
  LINE_FIRST_PIXEL = 1
  LINE_LAST_PIXEL = 4806
  LINE_PROJECTION_OFFSET = -47117.125
  MAP_PROJECTION_ROTATION = 0.0
  MAP_PROJECTION_TYPE = SINUSOIDAL
  MAP_RESOLUTION = 592.713803866667
  MAP_SCALE = 0.1
  MAXIMUM_LATITUDE = -79.4747
  MINIMUM_LATITUDE = -87.6271
  POSITIVE_LONGITUDE_DIRECTION = EAST
  REFERENCE_LATITUDE = "N/A"
  REFERENCE_LONGITUDE = "N/A"
  SAMPLE_FIRST_PIXEL = 1
  SAMPLE_LAST_PIXEL = 4853
  SAMPLE_PROJECTION_OFFSET = 2463.375
  SECOND_STANDARD_PARALLEL = "N/A"
  WESTERNMOST_LONGITUDE = 127.604
END_OBJECT = IMAGE_MAP_PROJECTION
/* The JPEG2000 image data file associated with this label. */
OBJECT = COMPRESSED_FILE
  FILE_NAME = "H6818_0000_BL3.JP2"
  RECORD_TYPE = UNDEFINED
  FILE_RECORDS = UNK
  ENCODING_TYPE = "JP2"
  INTERCHANGE_FORMAT = BINARY
  UNCOMPRESSED_FILE_NAME = "H6818_0000_BL3.IMG"
  REQUIRED_STORAGE_BYTES = "23347783"
  ^DESCRIPTION = "JP2INFO.TXT"
END_OBJECT = COMPRESSED_FILE
END
